Workbook
Name ___________boi1: #REF!
Name ___________boi1: #REF!
Name ___________boi1: #REF!
Name ___________boi2: #REF!
Name ___________boi2: #REF!
Name ___________boi2: #REF!
Name ___________boi3: #REF!
Name ___________boi3: #REF!
Name ___________boi3: #REF!
Name ___________boi4: #REF!
Name ___________boi4: #REF!
Name ___________boi4: #REF!
Name ___________btm10: #REF!
Name ___________btm10: #REF!
Name ___________btm10: #REF!
Name ___________btm100: #REF!
Name ___________btm100: #REF!
Name ___________btm100: #REF!
Name ___________btM300: #REF!
Name ___________btM300: #REF!
Name ___________btM300: #REF!
Name ___________cao1: #REF!
Name ___________cao1: #REF!
Name ___________cao1: #REF!
Name ___________cao2: #REF!
Name ___________cao2: #REF!
Name ___________cao2: #REF!
Name ___________cao3: #REF!
Name ___________cao3: #REF!
Name ___________cao3: #REF!
Name ___________cao4: #REF!
Name ___________cao4: #REF!
Name ___________cao4: #REF!
Name ___________cao5: #REF!
Name ___________cao5: #REF!
Name ___________cao5: #REF!
Name ___________cao6: #REF!
Name ___________cao6: #REF!
Name ___________cao6: #REF!
Name ___________CON1: #REF!
Name ___________CON1: #REF!
Name ___________CON1: #REF!
Name ___________CON2: #REF!
Name ___________CON2: #REF!
Name ___________CON2: #REF!
Name ___________dai1: #REF!
Name ___________dai1: #REF!
Name ___________dai1: #REF!
Name ___________dai2: #REF!
Name ___________dai2: #REF!
Name ___________dai2: #REF!
Name ___________dai3: #REF!
Name ___________dai3: #REF!
Name ___________dai3: #REF!
Name ___________dai4: #REF!
Name ___________dai4: #REF!
Name ___________dai4: #REF!
Name ___________dai5: #REF!
Name ___________dai5: #REF!
Name ___________dai5: #REF!

Sheet I. TONG HOP
A1: PHỤ LỤC I
A2: TỔNG HỢP KẾ HOẠCH ĐẦU TƯ CÔNG NĂM 2026 XÃ CƯỜNG LỢI
A3: =+'II. XDCBTT'!A3:U3 -> (Kèm theo Quyết định số 884/QĐ-UBND ngày 10 tháng 10 năm 2026 của UBND xã Cường Lợi)
C4: Đơn vị tính: Triệu đồng
A5: TT | B5: Nội dung | C5: Kế hoạch đầu tư công năm 2026 đã giao | D5: Điều chỉnh | F5: Kế hoạch đầu tư công năm 2026 sau điều chỉnh | G5: Ghi chú
D6: Tăng | E6: Giảm
B7: TỔNG SỐ | C7: =+C8 -> 8174 | D7: =+D8 -> 0 | E7: =+E8 -> 0 | F7: =+F8 -> 8174
A8: I | B8: Vốn ngân sách địa phương | C8: =+C9+C10+C13+C14 -> 8174 | D8: =+D9+D10+D13+D14 -> 0 | E8: =+E9+E10+E13+E14 -> 0 | F8: =+F9+F10+F13+F14 -> 8174 | N8: =+C8/$C$7*100 -> 100
A9: 1 | B9: Vốn xây dựng cơ bản tập trung | C9: 2000 | F9: =+C9+D9-E9 -> 2000 | G9: Chi tiết tại phụ lục II | N9: =+C9/$C$7*100 -> 24.467825 | O9: =8640/C7*100 -> 105.701
A10: 2 | B10: Thu tiền sử dụng đất | C10: =+C11+C12 -> 1377 | E10: =+E12 -> 0 | F10: =+C10+D10-E10 -> 1377 | N10: =+C10/$C$7*100 -> 16.846097 | O10: =+C9-8640 -> -6640 | P10: =+O10/C7*100 -> -81.233178
A11: - | B11: Tiết kiệm 5% theo quy định tại Nghị quyết số 245/2025/QH15 ngày 13/11/2025 của Quốc hội | C11: 69 | F11: =+C11+D11-E11 -> 69 | G11: Chi tiết tại phụ lục III | N11: =+C11/$C$7*100 -> 0.84413996 | O11: =8640/C9*100 -> 432
A12: - | B12: Kế hoạch đầu tư công năm 2026 phân bổ cho các dự án, nhiệm vụ | C12: =138+1170 -> 1308 | F12: =+C12+D12-E12 -> 1308 | N12: =+C12/$C$7*100 -> 16.001957 | O12: =+C11-8640 -> -8571 | P12: =+O12/C9*100 -> -428.55
A13: 3 | B13: Tăng thu, tiết kiệm chi năm 2025 | C13: 2100 | F13: =+C13+D13-E13 -> 2100 | G13: Chi tiết tại phụ lục IV | N13: =+C13/$C$7*100 -> 25.691216 | O13: =8640/C11*100 -> 12521.739
A14: 4 | B14: Chương trình Hỗ trợ đầu tư, cải tạo, nâng cấp hạ tầng giao thông các xã vùng khó khăn và đặc biệt khó khăn tỉnh Thái Nguyên giai đoạn 2026-2030 | C14: 2697 | F14: =+C14+D14-E14 -> 2697 | G14: Chi tiết tại phụ lục V | N14: =+C14/$C$7*100 -> 32.994862 | O14: =8640/C12*100 -> 660.55046

Sheet II. XDCBTT
A1: PHỤ LỤC II
A2: ĐIỀU CHỈNH KẾ HOẠCH ĐẦU TƯ CÔNG NĂM 2026 XÃ CƯỜNG LỢI - VỐN XÂY DỰNG CƠ BẢN TẬP TRUNG TRONG NƯỚC (LẦN 4)
A3: (Kèm theo Quyết định số 884/QĐ-UBND ngày 10 tháng 10 năm 2026 của UBND xã Cường Lợi)
L4: Đơn vị tính: Triệu đồng
A5: TT | B5: Danh mục dự án/ chương trình | C5: Địa điểm xây dựng | D5: Địa điểm mở tài khoản của dự án | E5: Mã số dự án đầu tư | F5: Mã chương | G5: Mã loại dự toán | H5: Mã ngành kinh tế | I5: Thời gian khởi công và hoàn thành | J5: QĐ chủ trương đầu tư/ QĐ phê duyệt dự án/ QĐ phê duyệt quyết toán/ Tổng mức đầu tư dự kiến | N5: Lũy kế vốn đã bố trí đến hết năm 2025 | O5: Kế hoạch đầu tư công năm 2026 | P5: Điều chỉnh | R5: Kế hoạch đầu tư công năm 2026 sau điều chỉnh | S5: Chủ đầu tư/ Đơn vị thực hiện | T5: Chủ đầu tư/ Đơn vị thực hiện | U5: Ghi chú
J6: Số, ngày, tháng, năm | K6: Tổng số (tất cả các nguồn vốn) | L6: Trong đó: Vốn | P6: Giảm | Q6: Tăng
L7: Ngân sách trung ương | M7: Ngân sách địa phương
A8: 1 | B8: 2 | C8: 3 | D8: 4 | E8: 5 | H8: 6 | I8: 7 | J8: 8 | K8: 9 | L8: 10 | M8: 11 | N8: 12 | O8: 13 | P8: 14 | Q8: 15 | R8: 16 | S8: 17 | T8: 18 | U8: 19
B9: TỔNG SỐ | K9: =+K10+K13+K20 -> 1500 | L9: =+L10+L13+L20 -> 0 | M9: =+M10+M13+M20 -> 1500 | N9: =+N10+N13+N20 -> 0 | O9: =+O10+O13+O20+O17 -> 2000 | P9: =+P10+P13+P20+P17 -> 0 | Q9: =+Q10+Q13+Q20+Q17 -> 0 | R9: =+R10+R13+R20+R17 -> 2000
A10: I | B10: Giáo dục đào tạo và giáo dục nghề nghiệp | K10: =+K11 -> 500 | L10: =+L11 -> 0 | M10: =+M11 -> 500 | N10: =+N11 -> 0 | O10: =+O11 -> 500 | P10: =+P11 -> 0 | Q10: =+Q11 -> 0 | R10: =+R11 -> 500
A11: a | B11: Dự án khởi công mới giai đoạn 2026-2030 | K11: =+K12 -> 500 | L11: =+L12 -> 0 | M11: =+M12 -> 500 | N11: =+N12 -> 0 | O11: =+O12 -> 500 | P11: =+P12 -> 0 | Q11: =+Q12 -> 0 | R11: =+R12 -> 500
A12: 1 | B12: Cải tạo, sửa chữa các phòng bán trú Trường PTDTBT Tiểu học Văn Vũ | C12: Xã Cường Lợi | D12: Phòng GD số 8 - KBNN KV VII | E12: 8176157 | F12: 821 | H12: 072 | I12: 2026 | J12: 122/QĐ-UBND ngày 02/3/2026 | K12: 500 | M12: =+K12 -> 500 | O12: 500 | Q12: =+M12-O12 -> 0 | R12: =+O12-P12+Q12 -> 500 | S12: Văn phòng HĐND và UBND xã | T12: Trung tâm Dịch vụ tổng hợp xã Cường Lợi | U12: Mã nguồn 42
A13: II | B13: Các hoạt động kinh tế | K13: =+K14 -> 1000 | L13: =+L14 -> 0 | M13: =+M14 -> 1000 | N13: =+N14 -> 0 | O13: =+O14 -> 1000 | P13: =+P14 -> 0 | Q13: =+Q14 -> 0 | R13: =+R14 -> 1000
A14: II.1 | B14: Nông nghiệp, lâm nghiệp, diêm nghiệp, thủy lợi và thủy sản | K14: =+K15 -> 1000 | L14: =+L15 -> 0 | M14: =+M15 -> 1000 | N14: =+N15 -> 0 | O14: =+O15 -> 1000 | P14: =+P15 -> 0 | Q14: =+Q15 -> 0 | R14: =+R15 -> 1000
A15: a | B15: Dự án khởi công mới giai đoạn 2026-2030 | K15: =+K16 -> 1000 | L15: =+L16 -> 0 | M15: =+M16 -> 1000 | N15: =+N16 -> 0 | O15: =+O16 -> 1000 | Q15: 0 | R15: =+O15-P15+Q15 -> 1000
A16: 2 | B16: Xây dựng hệ thống cấp nước sinh hoạt Pò Nim | C16: Xã Cường Lợi | D16: Phòng GD số 8 - KBNN KV VII | E16: 8176155 | F16: 821 | H16: 281 | I16: 2026 | J16: 123/QĐ-UBND ngày 02/03/2026 | K16: 1000 | M16: =+K16 -> 1000 | O16: 1000 | Q16: 0 | R16: =+O16-P16+Q16 -> 1000 | S16: Văn phòng HĐND và UBND xã | T16: Trung tâm Dịch vụ tổng hợp xã Cường Lợi | U16: Mã nguồn 42
A17: II.2 | B17: Giao thông | K17: =+K18 -> 650 | L17: =+L18 -> 0 | M17: =+M18 -> 650 | N17: =+N18 -> 0 | O17: =+O18 -> 500 | P17: =+P18 -> 0 | Q17: =+Q18 -> 0 | R17: =+R18 -> 500
A18: a | B18: Dự án khởi công mới giai đoạn 2026-2030 | K18: =+K19 -> 650 | L18: =+L19 -> 0 | M18: =+M19 -> 650 | N18: =+N19 -> 0 | O18: =+O19 -> 500 | P18: =+P19 -> 0 | Q18: =+Q19 -> 0 | R18: =+R19 -> 500
A19: 3 | B19: Đường bê tông Nà Roi, thôn Bản Pìn | C19: Xã Cường Lợi | D19: Phòng GD số 8 - KBNN KV VII | E19: 8193347 | F19: 821 | G19: 02 | H19: 292 | I19: 2026 | J19: 342/QĐ-UBND ngày 29/4/2026; 452/QĐ-UBND ngày 15/6/2026 | K19: 650 | M19: =+K19 -> 650 | O19: 500 | R19: =+O19-P19+Q19 -> 500 | S19: Văn phòng HĐND và UBND xã | T19: Trung tâm Dịch vụ tổng hợp xã Cường Lợi | U19: Mã nguồn 42
A20: III | B20: Dư chưa phân bổ | O20: 0 | P20: 0 | R20: =+O20-P20 -> 0

Sheet III. TT SD ĐẤT
A1: PHỤ LỤC III
A2: KẾ HOẠCH ĐẦU TƯ CÔNG NĂM 2026 XÃ CƯỜNG LỢI - VỐN TỪ THU TIỀN SỬ DỤNG ĐẤT (LẦN 5)
A3: =+'II. XDCBTT'!A3:U3 -> (Kèm theo Quyết định số 884/QĐ-UBND ngày 10 tháng 10 năm 2026 của UBND xã Cường Lợi)
M4: Đơn vị tính: Triệu đồng
A5: TT | B5: Danh mục dự án/ chương trình | C5: Địa điểm xây dựng | D5: Địa điểm mở tài khoản của dự án | E5: Chủ đầu tư | F5: Mã số dự án đầu tư | G5: Mã chương | H5: Mã ngành kinh tế | I5: Thời gian khởi công và hoàn thành | J5: QĐ chủ trương đầu tư/ QĐ phê duyệt dự án/ QĐ phê duyệt quyết toán/ Tổng mức đầu tư dự kiến | N5: Lũy kế vốn đã bố trí đến hết năm 2025 | O5: Kế hoạch đầu tư công năm 2026 | P5: Điều chỉnh | R5: Kế hoạch đầu tư công năm 2026 sau điều chỉnh | S5: Ghi chú
J6: Số, ngày, tháng, năm | K6: Tổng số (tất cả các nguồn vốn) | L6: Trong đó: Vốn | P6: Giảm | Q6: Tăng
L7: Ngân sách trung ương | M7: Ngân sách địa phương
A8: 1 | B8: 2 | C8: 3 | D8: 4 | E8: 5 | F8: 6 | H8: 7 | I8: 8 | J8: 9 | K8: 10 | L8: 11 | M8: 12 | N8: 13 | O8: 14 | P8: 14 | Q8: 15 | R8: 16 | S8: 15
B9: TỔNG SỐ | K9: =+K10 -> 1670 | L9: =+L10 -> 0 | M9: =+M10 -> 1170 | N9: =+N10 -> 0 | O9: =+O10+O11 -> 1377 | P9: =+P10+P11 -> 1000 | Q9: =+Q10+Q11 -> 1000 | R9: =+R10+R11 -> 1377
A10: A | B10: Tiết kiệm 5% theo quy định tại Nghị quyết số 245/2025/QH15 của Quốc hội | K10: =+K11 -> 1670 | L10: =+L11 -> 0 | M10: =+M11 -> 1170 | N10: =+N11 -> 0 | O10: 69 | P10: 0 | Q10: 0 | R10: =+O10-P10+Q10 -> 69
A11: B | B11: Kế hoạch đầu tư công năm 2026 phân bổ cho các dự án, nhiệm vụ (Mã nguồn: 44) | K11: =+K12+K18+K19 -> 1670 | L11: =+L12+L18+L19 -> 0 | M11: =+M12+M18+M19 -> 1170 | N11: =+N12+N18+N19 -> 0 | O11: =+O12+O18+O19 -> 1308 | P11: =+P12+P18+P19 -> 1000 | Q11: =+Q12+Q18+Q19 -> 1000 | R11: =+R12+R18+R19 -> 1308
A12: I | B12: Các hoạt động kinh tế | K12: =+K13 -> 1670 | L12: =+L13 -> 0 | M12: =+M13 -> 1170 | N12: =+N13 -> 0 | O12: =+O13 -> 170 | P12: =+P13 -> 0 | Q12: =+Q13 -> 1000 | R12: =+R13 -> 1170
A13: I.1 | B13: Giao thông | K13: =+K14 -> 1670 | L13: =+L14 -> 0 | M13: =+M14 -> 1170 | N13: =+N14 -> 0 | O13: =+O14 -> 170 | P13: =+P14 -> 0 | Q13: =+Q14 -> 1000 | R13: =+R14 -> 1170
A14: a | B14: Dự án khởi công mới giai đoạn 2026-2030 | K14: =+K15+K16+K17 -> 1670 | L14: =+L15+L16+L17 -> 0 | M14: =+M15+M16+M17 -> 1170 | N14: =+N15+N16+N17 -> 0 | O14: =+O15+O16+O17 -> 170 | P14: =+P15+P16+P17 -> 0 | Q14: =+Q15+Q16+Q17 -> 1000 | R14: =+R15+R16+R17 -> 1170
A15: 1 | B15: Đổ bê tông đường trục thôn Pò Nim - Pác Muồng thôn Pò Nim (đoạn 2) | C15: Xã Cường Lợi | D15: Phòng GD số 8 - KBNN KV VII | E15: Trung tâm Dịch vụ tổng hợp xã Cường Lợi | F15: 8218674 | G15: 821 | H15: 292 | I15: 2026-2027 | J15: 343/QĐ-UBND ngày 29/4/2026 | K15: 400 | M15: 400 | O15: 10 | Q15: 390 | R15: =+O15-P15+Q15 -> 400
A16: 2 | B16: Đường bê tông Nà Hẻo, thôn Bản Cằm | C16: Xã Cường Lợi | D16: Phòng GD số 8 - KBNN KV VII | E16: Trung tâm Dịch vụ tổng hợp xã Cường Lợi | F16: 8218675 | G16: 821 | H16: 292 | I16: 2026-2027 | J16: 344/QĐ-UBND ngày 29/4/2026 | K16: 620 | M16: 620 | O16: 10 | Q16: 610 | R16: =+O16-P16+Q16 -> 620
A17: 3 | B17: Đường bê tông Nà Roi, thôn Bản Pìn | C17: Xã Cường Lợi | D17: Phòng GD số 8 - KBNN KV VII | E17: Trung tâm Dịch vụ tổng hợp xã Cường Lợi | F17: 8193347 | G17: 821 | H17: 292 | I17: 2026 | J17: 452/QĐ-UBND ngày 15/6/2026 | K17: 650 | M17: 150 | O17: 150 | R17: =+O17-P17+Q17 -> 150
A18: II | B18: Đối ứng thực hiện Chương trình mục tiêu quốc gia xây dựng nông thôn mới, giảm nghèo bền vững và phát triển kinh tế - xã hội vùng đồng bào dân tộc thiểu số và miền núi giai đoạn 2026-2035, giai đoạn I: Từ năm 2026 đến năm 2030; | O18: 138 | P18: 0 | Q18: 0 | R18: =+O18-P18+Q18 -> 138
A19: III | B19: Dư chưa phân bổ | O19: 1000 | P19: =+Q18+Q16+Q15+Q17 -> 1000 | Q19: =+Q20 -> 0 | R19: =+O19-P19+Q19 -> 0

Sheet IV. Tiết kiệm chi năm 2025
A1: PHỤ LỤC IV
A2: ĐIỀU CHỈNH KẾ HOẠCH ĐẦU TƯ CÔNG NĂM 2026 XÃ CƯỜNG LỢI - VỐN TĂNG THU, TIẾT KIỆM CHI NĂM 2025
A3: =+'III. TT SD ĐẤT'!A3:S3 -> (Kèm theo Quyết định số 884/QĐ-UBND ngày 10 tháng 10 năm 2026 của UBND xã Cường Lợi)
L4: Đơn vị tính: Triệu đồng
A5: TT | B5: Danh mục dự án/ chương trình | C5: Địa điểm xây dựng | D5: Địa điểm mở tài khoản của dự án | E5: Mã số dự án đầu tư | F5: Mã loại dự toán | G5: Mã chương | H5: Mã ngành kinh tế | I5: Thời gian khởi công và hoàn thành | J5: QĐ chủ trương đầu tư/ QĐ phê duyệt dự án/ QĐ phê duyệt quyết toán/ Tổng mức đầu tư dự kiến | N5: Lũy kế vốn đã bố trí đến hết năm 2025 | O5: Kế hoạch đầu tư công năm 2026 | P5: Điều chỉnh | R5: Kế hoạch đầu tư công năm 2026 sau điều chỉnh | S5: Chủ đầu tư/ Đơn vị thực hiện | T5: Ghi chú
J6: Số, ngày, tháng, năm | K6: Tổng số (tất cả các nguồn vốn) | L6: Trong đó: Vốn | P6: Giảm | Q6: Tăng
L7: Ngân sách trung ương | M7: Ngân sách địa phương
A8: 1 | B8: 2 | C8: 3 | D8: 4 | E8: 5 | H8: 6 | I8: 7 | J8: 8 | K8: 9 | L8: 10 | M8: 11 | N8: 12 | O8: 13 | P8: 14 | Q8: 15 | R8: 16 | S8: 17 | T8: 19
B9: TỔNG SỐ | K9: =+K10+K13 -> 2100 | L9: =+L10+L13 -> 0 | M9: =+M10+M13 -> 2100 | N9: =+N10+N13 -> 0 | O9: =+O10+O13 -> 2100 | P9: =+P10+P13 -> 0 | Q9: =+Q10+Q13 -> 0 | R9: =+R10+R13 -> 2100
A10: I | B10: Hoạt động của các cơ quan quản lý nhà nước | K10: =+K11 -> 2100 | L10: =+L11 -> 0 | M10: =+M11 -> 2100 | N10: =+N11 -> 0 | O10: =+O11 -> 2100 | P10: =+P11 -> 0 | Q10: =+Q11 -> 0 | R10: =+R11 -> 2100
A11: a | B11: Dự án khởi công mới giai đoạn 2026-2030 | K11: =+K12 -> 2100 | L11: =+L12 -> 0 | M11: =+M12 -> 2100 | N11: =+N12 -> 0 | O11: =+O12 -> 2100 | P11: =+P12 -> 0 | Q11: =+Q12 -> 0 | R11: =+R12 -> 2100
A12: 1 | B12: Xây dựng nhà làm việc và các hạng mục phụ trợ trong Trụ sở HĐND và UBND xã Cường Lợi | C12: Xã Cường Lợi | D12: Phòng GD số 8 - KBNN KV VII | E12: 8184933 | G12: 821 | H12: 341 | I12: 2026 | J12: 180/QĐ-UBND ngày 18/3/2026; 356/QĐ-UBND ngày 04/5/2026 | K12: 2100 | M12: =+K12 -> 2100 | O12: 2100 | P12: 0 | Q12: 0 | R12: =+O12-P12+Q12 -> 2100 | S12: Trung tâm Dịch vụ tổng hợp xã Cường Lợi | T12: Mã nguồn 49
A13: II | B13: Dư chưa phân bổ | O13: 0 | P13: 0 | R13: =+O13-P13+Q13 -> 0

Sheet V. Xi măng
A1: PHỤ LỤC V
A2: ĐIỀU CHỈNH KẾ HOẠCH ĐẦU TƯ CÔNG NĂM 2026 XÃ CƯỜNG LỢI - CHƯƠNG TRÌNH HỖ TRỢ ĐẦU TƯ, CẢI TẠO, NÂNG CẤP HẠ TẦNG GIAO THÔNG CÁC XÃ VÙNG KHÓ KHĂN VÀ ĐẶC BIỆT KHÓ KHĂN TỈNH THÁI NGUYÊN GIAI ĐOẠN 2026-2030
A3: =+'III. TT SD ĐẤT'!A3:S3 -> (Kèm theo Quyết định số 884/QĐ-UBND ngày 10 tháng 10 năm 2026 của UBND xã Cường Lợi)
L4: Đơn vị tính: Triệu đồng
A5: TT | B5: Danh mục dự án/ chương trình | C5: Địa điểm xây dựng | D5: Địa điểm mở tài khoản của dự án | E5: Mã số dự án đầu tư | F5: Mã loại dự toán | G5: Mã chương | H5: Mã ngành kinh tế | I5: Thời gian khởi công và hoàn thành | J5: QĐ chủ trương đầu tư/ QĐ phê duyệt dự án/ QĐ phê duyệt quyết toán/ Tổng mức đầu tư dự kiến | N5: Lũy kế vốn đã bố trí đến hết năm 2025 | O5: Kế hoạch đầu tư công năm 2026 | P5: Điều chỉnh | R5: Kế hoạch đầu tư công năm 2026 sau điều chỉnh | S5: Chủ đầu tư/ Đơn vị thực hiện | T5: Ghi chú
J6: Số, ngày, tháng, năm | K6: Tổng số (tất cả các nguồn vốn) | L6: Trong đó: Vốn | P6: Giảm | Q6: Tăng
L7: Ngân sách trung ương | M7: Ngân sách địa phương
A8: 1 | B8: 2 | C8: 3 | D8: 4 | E8: 5 | F8: 6 | G8: 7 | H8: 8 | I8: 9 | J8: 10 | K8: 11 | L8: 12 | M8: 13 | N8: 14 | O8: 15 | P8: 16 | Q8: 17 | R8: 18 | S8: 19 | T8: 20
B9: TỔNG SỐ | K9: =+K10 -> 4200 | L9: =+L10 -> 0 | M9: =+M10 -> 4200 | N9: =+N10 -> 0 | O9: =+O10 -> 2697 | P9: =+P10 -> 0 | Q9: =+Q10 -> 0 | R9: =+R10 -> 2697
A10: I | B10: Các hoạt động kinh tế | K10: =+K12 -> 4200 | L10: =+L12 -> 0 | M10: =+M12 -> 4200 | N10: =+N12 -> 0 | O10: =+O12 -> 2697 | P10: =+P12 -> 0 | Q10: =+Q12 -> 0 | R10: =+R12 -> 2697
A11: I.1 | B11: Giao thông
A12: a | B12: Dự án khởi công mới giai đoạn 2026-2030 | K12: =+K13 -> 4200 | L12: =+L13 -> 0 | M12: =+M13 -> 4200 | N12: =+N13 -> 0 | O12: =+O13 -> 2697 | P12: =+P13 -> 0 | Q12: =+Q13 -> 0 | R12: =+R13 -> 2697
A13: 1 | B13: Đường Vũ Loan – Lạng San | C13: Xã Cường Lợi | D13: Phòng GD số 8 - KBNN KV VII | E13: 8204885 | F13: 02 | G13: 821 | H13: 292 | I13: 2026-2027 | J13: 464/QĐ-UBND ngày 22/6/2026; 595/QĐ-UBND ngày 03/8/2026 | K13: 4200 | M13: =+K13 -> 4200 | O13: 2697 | R13: =+O13-P13+Q13 -> 2697 | S13: Trung tâm Dịch vụ tổng hợp xã Cường Lợi | T13: Mã nguồn 43
A14: II | B14: Dư chưa phân bổ | R14: =+O14-P14+Q14 -> 0

Sheet III.ODA
A1: PHỤ LỤC III
A2: DỰ KIẾN KẾ HOẠCH ĐẦU TƯ CÔNG TRUNG HẠN VỐN NGÂN SÁCH TRUNG ƯƠNG GIAI ĐOẠN 2026 - 2030 TỈNH THÁI NGUYÊN NGUỒN VỐN: VỐN NƯỚC NGOÀI
A3: (Kèm theo Nghị quyết số /NQ-HĐND ngày tháng 7 năm 2025 của HĐND tỉnh Thái Nguyên)
A4: Đơn vị: Triệu đồng
A5: ID dự án (Mã trên Hệ thống, không điều chỉnh cột này) | B5: TT | C5: Danh mục dự án | D5: Nhà tài trợ | E5: Nhóm dự án | F5: Địa điểm XD | G5: Năng lực tăng thêm | H5: Thời gian khởi công | I5: Thời gian hoàn thành | J5: Quyết định đầu tư/ Quyết định chủ trương đầu tư | T5: Lũy kế dự kiến vốn bố trí từ khởi công đến hết năm 2025 | AC5: Dự kiến kế hoạch đầu tư công trung hạn giai đoạn 2026-2030 | AL5: Ghi chú | AM5: Đơn vị đề xuất
J6: Số quyết định; ngày, tháng, năm ban hành | K6: Tổng mức đầu tư | T6: Tổng số (tất cả các nguồn vốn) | U6: Trong đó | AC6: Tổng số (tất cả các nguồn vốn) | AD6: Trong đó
K7: Tổng số (tất cả các nguồn vốn) | L7: Trong đó: | U7: Vốn đối ứng | X7: Vốn nước ngoài (theo Hiệp định) | AD7: Vốn đối ứng | AH7: Vốn nước ngoài (tính theo tiền Việt)
L8: Vốn đối ứng | O8: Vốn nước ngoài (theo Hiệp định) | U8: Tổng số | V8: Trong đó: | X8: Tính bằng nguyên tệ | Y8: Quy đổi ra tiền Việt | AD8: Tổng số | AE8: Trong đó: | AH8: Tổng số | AI8: Trong đó
L9: Tổng số | M9: Trong đó: Vốn | O9: Tính bằng nguyên tệ | P9: Quy đổi ra tiền Việt | V9: NSTW | W9: NSĐP | Y9: Tổng số | Z9: Trong đó | AE9: NSTW | AG9: NSĐP | AI9: Đưa vào cân đối NSTW | AJ9: Vay lại | AK9: Viện trợ không hoàn lại
M10: NSTW | N10: NSĐP | P10: Tổng số | Q10: Trong đó: | AE10: Tổng số | AF10: Trong đó: Thu hồi các khoản ứng trước
Q11: Đưa vào cân đối NSTW | R11: Vay lại | S11: Viện trợ không hoàn lại | Z11: Đưa vào cân đối NSTW | AA11: Vay lại | AB11: Viện trợ không hoàn lại
C12: TỔNG SỐ | K12: =K13 -> 4650528.4 | L12: =L13 -> 1272748.4 | M12: =M13 -> 178055.21 | N12: =N13 -> 1094693.2 | O12: =O13 -> 0 | P12: =P13 -> 3377729 | Q12: =Q13 -> 2356343.6 | R12: =R13 -> 635723.4 | ... AK12: =AK13 -> 361968
B13: I | C13: Các hoạt động kinh tế | K13: =K14+K22+K25 -> 4650528.4 | L13: =L14+L22+L25 -> 1272748.4 | M13: =M14+M22+M25 -> 178055.21 | N13: =N14+N22+N25 -> 1094693.2 | P13: =P14+P22+P25 -> 3377729 | Q13: =Q14+Q22+Q25 -> 2356343.6 | R13: =R14+R22+R25 -> 635723.4 | S13: =S14+S22+S25 -> 385712 | T13: =T14+T22+T25 -> 718184.17 | U13: =U14+U22+U25 -> 224619 | V13: =V14+V22+V25 -> 75832 | W13: =W14+W22+W25 -> 148787 | Y13: =Y14+Y22+Y25 -> 493565.17 | Z13: =Z14+Z22+Z25 -> 116245 | AA13: =AA14+AA22+AA25 -> 234830.17 | AB13: =AB14+AB22+AB25 -> 142490 | AC13: =AC14+AC22+AC25 -> 4051089.3 | AD13: =AD14+AD22+AD25 -> 1048129.4 | AE13: =AE14+AE22+AE25 -> 102223.21 | AF13: =AF14+AF22+AF25 -> 0 | ... AK13: =AK14+AK22+AK25 -> 361968 | AM13: =AM14+AM22+AM25 -> 0
B14: I.1 | C14: Nông nghiệp, lâm nghiệp, thủy lợi và thủy sản: | K14: =+K15+K20 -> 3711829 | L14: =+L15+L20 -> 916638 | M14: =+M15+M20 -> 0 | N14: =+N15+N20 -> 916638 | O14: =+O15+O20 -> 0 | P14: =+P15+P20 -> 2795140 | Q14: =+Q15+Q20 -> 1773754.6 | R14: =+R15+R20 -> 635723.4 | ... AK14: =+AK15+AK20 -> 361968
B15: a | C15: Dự án chuyển tiếp từ giai đoạn 2021-2025 sang giai đoạn 2026-2030 | K15: =+K16+K17+K18+K19 -> 2766846 | L15: =+L16+L17+L18+L19 -> 622954 | M15: =+M16+M17+M18+M19 -> 0 | N15: =+N16+N17+N18+N19 -> 622954 | O15: =+O16+O17+O18+O19 -> 0 | P15: =+P16+P17+P18+P19 -> 2143841 | Q15: =+Q16+Q17+Q18+Q19 -> 1389463 | R15: =+R16+R17+R18+R19 -> 471027 | ... AK15: =+AK16+AK17+AK18+AK19 -> 259657
B16: 1 | C16: Phát triển CSHT thích ứng với biến đổi khí hậu để hỗ trợ sản xuất cho đồng bào dân tộc các tỉnh miền núi, trung du phía Bắc, tỉnh Thái Nguyên (tỉnh Thái Nguyên trước sáp nhập) | D16: JICA | E16: B | F16: 05 huyện: Đại Từ, Định Hoá, Đồng Hỷ, Võ Nhai, Phú Lương | G16: Tưới tiêu cho 938 ha; cấp nước sạch cho 4.290 hộ; nâng cấp 75,40km đường | H16: 2025 | I16: 2028 | J16: Quyết định số 708/QĐ-UBND ngày 03/4/2024 | K16: 921178 | L16: 208732 | N16: 208732 | P16: 712446 | Q16: 356223 | R16: 356223 | T16: =U16+Y16 -> 238764 | U16: =+V16+W16 -> 96274 | W16: =+N16-AD16 -> 96274 | Y16: =SUM(Z16:AB16) -> 142490 | Z16: 71245 | AA16: 71245 | AC16: =AD16+AH16 -> 682414 | AD16: =+AE16+AG16 -> 112458 | AG16: 112458 | AH16: =SUM(AI16:AK16) -> 569956 | AI16: 284978 | AJ16: 284978 | AM16: Ban QLDA ĐTXD các công trình nông nghiệp và PTNT
B17: 2 | C17: Dự án hỗ trợ kinh tế tuần hoàn xanh thông qua cải thiện chuỗi giá trị nông nghiệp ở miền Bắc Việt Nam tại tỉnh Bắc Kạn (tỉnh Bắc Kạn trước sáp nhập) | J17: Quyết định số 865/QĐ-UBND ngày 29/4/2025 | K17: 288920 | L17: =+M17+N17 -> 46370 | N17: 46370 | P17: =SUM(Q17:S17) -> 242550 | S17: 242550 | T17: =U17+Y17 -> 148386 | U17: =+V17+W17 -> 5896 | W17: =+N17-AG17 -> 5896 | Y17: =SUM(Z17:AB17) -> 142490 | AB17: 142490 | AC17: =AD17+AH17 -> 259280 | AD17: =+AE17+AG17 -> 40474 | AG17: 40474 | AH17: =SUM(AI17:AK17) -> 218806 | AK17: 218806 | AO17: Vốn ODA không hoàn lịa do trực tiếp nhà tài trợ giải ngân
B18: 3 | C18: Dự án Kè chống sạt lở ứng phó biến đổi khí hậu bảo vệ dân sinh và phục vụ sản xuất Nông nghiệp tỉnh Bắc Kạn (tỉnh Bắc Kạn trước sáp nhập) | J18: 20/NQ-HĐND ngày 19/4/2024 | K18: 685142 | L18: =+M18+N18 -> 152019 | N18: 152019 | P18: =SUM(Q18:S18) -> 533123 | Q18: 443045 | R18: 49227 | S18: =685142-152019-492272 -> 40851 | T18: =U18+Y18 -> 90000 | U18: =+V18+W18 -> 40000 | W18: 40000 | Y18: =SUM(Z18:AB18) -> 50000 | Z18: 45000 | AA18: 5000 | AC18: =AD18+AH18 -> 595142 | AD18: =+AE18+AG18 -> 112019 | AG18: =+N18-W18 -> 112019 | AH18: =SUM(AI18:AK18) -> 483123 | AI18: =+Q18-Z18 -> 398045 | AJ18: =+R18-AA18 -> 44227 | AK18: =685142-152019-492272 -> 40851
B19: 4 | C19: Dự án "Phát triển cơ sở hạ tầng thích ứng với biến đổi khí hậu để hỗ trợ sản xuất cho đồng bào dân tộc miền núi các tỉnh Trung du phía Bắc, tỉnh Bắc Kạn (tỉnh Bắc Kạn trước sáp nhập) | J19: 613/QĐ-TTg ngày 20/5/2024 | K19: 871606 | L19: 215833 | N19: 215833 | P19: 655722 | Q19: 590195 | R19: 65577 | T19: =U19+Y19 -> 1482 | U19: =+V19+W19 -> 1482 | W19: 1482 | Y19: =SUM(Z19:AB19) -> 0 | AC19: =AD19+AH19 -> 870123 | AD19: =+AE19+AG19 -> 214351 | AG19: 214351 | AH19: =SUM(AI19:AK19) -> 655772 | AI19: =590195 -> 590195 | AJ19: 65577
B20: b | C20: Khởi công mới giai đoạn 2026-2030 | K20: =+K21 -> 944983 | L20: =+L21 -> 293684 | M20: =+M21 -> 0 | N20: =+N21 -> 293684 | O20: =+O21 -> 0 | P20: =+P21 -> 651299 | Q20: =+Q21 -> 384291.6 | R20: =+R21 -> 164696.4 | ... AK20: =+AK21 -> 102311
B21: 1 | C21: Dự án: Giải pháp dựa vào tự nhiên cho phát triển nông thôn toàn diện tỉnh Thái Nguyên | K21: 944983 | L21: =+M21+N21 -> 293684 | N21: 293684 | P21: =SUM(Q21:S21) -> 651299 | Q21: 384291.6 | R21: 164696.4 | S21: 102311 | AC21: =+AD21+AH21 -> 944983 | AD21: =+AE21+AG21 -> 293684 | AG21: 293684 | AH21: =SUM(AI21:AK21) -> 651299 | AI21: 384291.6 | AJ21: 164696.4 | AK21: 102311
B22: I.2 | C22: Cấp nước, thoát nước | K22: =K24 -> 738219.42 | L22: =L24 -> 356110.42 | M22: =M24 -> 178055.21 | N22: =N24 -> 178055.21 | O22: =O24 -> 14.251.937,3 EURO | P22: =P24 -> 382109 | Q22: =Q24 -> 382109 | R22: =R24 -> 0 | ... AK22: =AK24 -> 0
B23: a | C23: Dự án chuyển tiếp từ giai đoạn 2021-2025 sang giai đoạn 2026-2030 | K23: =+K24 -> 738219.42 | L23: =+L24 -> 356110.42 | M23: =+M24 -> 178055.21 | N23: =+N24 -> 178055.21 | P23: =+P24 -> 382109 | Q23: =+Q24 -> 382109 | R23: =+R24 -> 0 | S23: =+S24 -> 0 | T23: =+T24 -> 239552.17 | U23: =+U24 -> 80967 | V23: =+V24 -> 75832 | W23: =+W24 -> 5135 | Y23: =+Y24 -> 158585.17 | Z23: =+Z24 -> 0 | AA23: =+AA24 -> 158585.17 | AB23: =+AB24 -> 0 | AC23: =+AC24 -> 498667.25 | AD23: =+AD24 -> 275143.42 | AE23: =+AE24 -> 102223.21 | AF23: =+AF24 -> 0 | ... AK23: =+AK24 -> 0
B24: 1 | C24: Hệ thống thoát nước và xử lý nước thải khu trung tâm phía nam Thành phố Thái Nguyên | D24: Bỉ | E24: B | F24: Thành phố Thái Nguyên | G24: 8000m3/ ngày đêm | H24: 2019 | I24: Chưa xác định | J24: Số 1227/QĐ-UBND ngày 27/5/2015; số 1530 ngày 17/5/2021; Tổng mức đầu tư điều chỉnh dự kiến | K24: 738219.42 | L24: 356110.42 | M24: 178055.21 | N24: 178055.21 | O24: 14.251.937,3 EURO | P24: 382109 | Q24: 382109 | S24: 0 | T24: 239552.17 | U24: 80967 | V24: 75832 | W24: 5135 | X24: 6.081.678,5 EURO | Y24: 158585.17 | AA24: 158585.17 | AC24: 498667.25 | AD24: 275143.42 | AE24: 102223.21 | AF24: 0 | AG24: 172920.21 | AH24: =SUM(AI24:AK24) -> 223523.83 | AI24: 223523.83 | AL24: Số liệu tổng mức đầu tư dự kiến điều chỉnh từ 438,543 tỷ đồng lên 738,219 tỷ đồng | AM24: Công ty Thoát nước và Phát triển hạ tầng đô thị Thái Nguyên | AO24: Xin ý kiến lại xem có đưa vào nữa không
B25: 1.3 | C25: Giao thông | K25: =K26 -> 200480 | L25: =L26 -> 0 | M25: =M26 -> 0 | N25: =N26 -> 0 | O25: =O26 -> 0 | P25: =P26 -> 200480 | Q25: =Q26 -> 200480 | R25: =R26 -> 0 | ... AK25: =AK26 -> 0
B26: a | C26: Khởi công mới giai đoạn 2026-2030 | K26: =K27 -> 200480 | L26: =L27 -> 0 | M26: =M27 -> 0 | N26: =N27 -> 0 | O26: =O27 -> 0 | P26: =P27 -> 200480 | Q26: =Q27 -> 200480 | R26: =R27 -> 0 | ... AK26: =AK27 -> 0
B27: 1 | C27: Nâng cấp, mở rộng tuyến đường Hóa Thượng - Minh Lập huyện Đồng Hỷ cũ | D27: Trung Quốc | E27: B | F27: Huyện Đồng Hỷ | G27: 4,5 km đường cấp III Miền núi | H27: 2026 | I27: 2028 | K27: 200480 | P27: 200480 | Q27: 200480 | AC27: 200480 | AH27: =SUM(AI27:AK27) -> 200480 | AI27: 200480 | AM27: UBND Huyện Đồng Hỷ

Sheet 8.VON DAT TANG THEM
A1: Phụ lục IIh
A2: PHƯƠNG ÁN PHÂN BỔ KẾ HOẠCH ĐẦU TƯ CÔNG TRUNG HẠN TỪ NGUỒN THU TIỀN SỬ DỤNG ĐẤT VÀ SẮP XẾP LẠI NHÀ ĐẤT TRÊN ĐỊA BÀN TỈNH
A3: (Kèm theo Văn bản số /UBND-TH ngày tháng 4 năm 2023 của UBND tỉnh Thái Nguyên)
A5: STT | C5: Danh mục dự án/chương trình | D5: Địa điểm xây dựng | E5: Năng lưc thiết kế | F5: Địa điểm mở tài khoản của dự án (chi tiết đến huyện, thành phố) | G5: Mã số dự án đầu tư | H5: Mã ngành kinh tế (loại, khoản) | I5: Thời gian khởi công và hoàn thành | J5: QĐ chủ trương đầu tư/ QĐ phê duyệt dự án/ QĐ phê duyệt quyết toán | N5: Lũy kế vốn đã bố trí đến hết năm 2020 | Q5: Điều chỉnh bổ sung lần 2 theo Nghị quyết số /NQ-HĐND ngày 8/2022 | R5: Kế hoạch vốn năm 2021 sau điều chỉnh, bổ sung | S5: Kế hoạch vốn năm 2022 sau điều chỉnh, bổ sung | T5: Kế hoạch vốn năm 2023 | V5: Chủ đầu tư/ Đơn vị thực hiện | W5: Ghi chú
J6: Số ngày tháng năm | K6: Tổng số | L6: Trong đó: | N6: Tổng số | O6: Trong đó | AH6: 7828214.6 | AI6: 317439
L7: NSTW | M7: Vốn từ nguồn thu sử dụng đất và sắp xếp lại nhà đất trên địa bàn tỉnh | O7: NSTW | P7: Vốn từ nguồn thu sử dụng đất và sắp xếp lại nhà đất trên địa bàn tỉnh | AH7: 6080417.6 | AI7: 484353
K8: -444209.7 | L8: 0 | M8: 10620 | N8: 264279.17 | O8: 0 | P8: 0
K9: 15388955 | L9: 4595824 | M9: 7368532 | N9: 15206068 | O9: 4591300 | P9: 7189415 | Y9: =N9-#REF! -> #REF! | Z9: =P9-#REF! -> #REF! | AA9: =#REF!-Z9 -> #REF!
C10: TỔNG SỐ | K10: =+K15 -> 14391690 | L10: =+L15 -> 4549349 | M10: =+M15 -> 7012212 | N10: =+N15 -> 0 | O10: =+O15 -> 0 | P10: =+P15 -> 0 | Q10: =+Q15 -> 7181489.6 | R10: =+R15 -> 14000 | ... T10: =+T15 -> 732874.19 | W10: =+Q10+#REF! -> #REF! | X10: =+T10+#REF! -> #REF! | Y10: #REF! | Z10: #REF! | AG10: =+Q10+#REF! -> #REF! | AH10: =+T10+#REF! -> #REF! | AI10: =+AI7+AI6 -> 801792
C11: Dự án | K11: =+K16+K18+K20+K22+K24+K29+K57+K66 -> 14391690 | L11: =+L16+L18+L20+L22+L24+L29+L57+L66 -> 4549349 | M11: =+M16+M18+M20+M22+M24+M29+M57+M66 -> 7012212 | N11: =+N16+N18+N20+N22+N24+N29+N57+N66 -> 0 | O11: =+O16+O18+O20+O22+O24+O29+O57+O66 -> 0 | P11: =+P16+P18+P20+P22+P24+P29+P57+P66 -> 0 | Q11: =+Q16+Q18+Q20+Q22+Q24+Q29+Q57+Q66 -> 6386512.5 | R11: =+R16+R18+R20+R22+R24+R29+R57+R66 -> 14000 | ... T11: =+T16+T18+T20+T22+T24+T29+T57+T66 -> 542690.19 | W11: 299.427 | AH11: 317439 | AI11: =+T10-AI10 -> -68917.813
C12: Chương trình, nhiệm vụ | K12: =+K68 -> 0 | L12: =+L68 -> 0 | M12: =+M68 -> 0 | N12: =+N68 -> 0 | O12: =+O68 -> 0 | P12: =+P68 -> 0 | Q12: =+Q68 -> 794677.07 | R12: =+R68 -> 0 | ... T12: =+T68 -> 190184 | W12: =+W10+W11 -> #REF! | AH12: 637872
C13: Cấp tỉnh quản lý | K13: =+K10-K14 -> 14391690 | L13: =+L10-L14 -> 4549349 | M13: =+M10-M14 -> 7012212 | N13: =+N10-N14 -> 0 | O13: =+O10-O14 -> 0 | P13: =+P10-P14 -> 0 | Q13: =+Q10-Q14 -> 7181489.6 | R13: =+R10-R14 -> 14000 | ... T13: =+T10-T14 -> 732874.19 | AH13: =+AH12+AH11 -> 955311
C14: Cấp huyện quản lý (tỉnh phân cấp) | K14: 0 | L14: 0 | M14: 0 | N14: 0 | O14: 0 | P14: 0 | Q14: 0 | R14: 0 | S14: 0 | T14: 0
C15: NGÀNH, LĨNH VỰC | K15: =+K16+K18+K20+K22+K24+K29+K57+K66+K68 -> 14391690 | L15: =+L16+L18+L20+L22+L24+L29+L57+L66+L68 -> 4549349 | M15: =+M16+M18+M20+M22+M24+M29+M57+M66+M68 -> 7012212 | N15: =+N16+N18+N20+N22+N24+N29+N57+N66+N68 -> 0 | O15: =+O16+O18+O20+O22+O24+O29+O57+O66+O68 -> 0 | P15: =+P16+P18+P20+P22+P24+P29+P57+P66+P68 -> 0 | Q15: =+Q16+Q18+Q20+Q22+Q24+Q29+Q57+Q66+Q68+300 -> 7181489.6 | R15: =+R16+R18+R20+R22+R24+R29+R57+R66+R68 -> 14000 | S15: =+S16+S18+S20+S22+S24+S29+S57+S66+S68 -> 542637.9 | T15: =+T16+T18+T20+T22+T24+T29+T57+T66+T68 -> 732874.19 | AG15: cộng thêm 300 tr | AH15: =+#REF!-#REF! -> #REF!
A16: II | B16: I | C16: An ninh và trật tự, an toàn xã hội | K16: 639540 | L16: 0 | M16: 99580 | Q16: =Q17 -> 99580 | R16: =R17 -> 0 | S16: =S17 -> 0 | T16: =T17 -> 43388.651 | X16: =+R10+#REF! -> #REF! | AH16: =+#REF!-Q10 -> #REF!
A17: 1 | C17: Dự án Trụ sở làm việc Công an các xã, thị trấn giai đoạn 2021-2025 | D17: 25 xã, thị trấn thuộc 06 huyện và TP Thái Nguyên | F17: Kho Bạc nhà nước Thái Nguyên | G17: 7004692 | H17: 041 | I17: 2023- 2025 | J17: Nghị quyết số 04/NQ-HĐND ngày 31/3/2022; số 69/NQ-HĐND ngày 28/10/2022; Quyết định số 975/QĐ-UBND ngày 04/5/2023 | K17: 108140.7 | M17: 99580 | Q17: 99580 | S17: 0 | T17: 43388.651 | V17: Công an tỉnh | W17: Kế hoạch đầu tư công năm 2023 đã giao tại Phần G, Phụ lục VIII Quyết định số 3269/QĐ-UBND ngày 26/12/2023 và phân bổ chi tiết cho dự án khởi công mới tại Quyết định số 1076/QĐ-UBND ngày 18/5/2023 | X17: =+S10+#REF! -> #REF! | AG17: =+Q17-R17-S17-T17 -> 56191.349 | AI17: =+T17-14700 -> 28688.651
A18: IV | B18: IIa | C18: Y tế, dân số và gia đình | K18: =+K19 -> 266725 | L18: =+L19 -> 53525 | M18: =+M19 -> 185000 | N18: =+N19 -> 0 | O18: =+O19 -> 0 | P18: =+P19 -> 0 | Q18: =+Q19 -> 53536.641 | R18: =+R19 -> 0 | ... T18: =+T19 -> 0 | X18: =+T8+#REF! -> #REF! | AG18: =+Q18-R18-S18-T18 -> 53536.641
A19: 2 | B19: 1 | C19: Xây dựng Bệnh viện Y học cổ truyền tỉnh Thái Nguyên (giai đoạn I) | J19: Quyết định số 3579/QĐ-UBND ngày 31/10/2019; Quyết định số 930/QĐ-UBND ngày 31/3/2021 | K19: 266725 | L19: 53525 | M19: 185000 | Q19: 53536.641 | V19: Bệnh viện Y học cổ truyền | W19: Bổ sung thêm nguồn vốn ngân sách tỉnh để triển khai một số hạng mục cần thiết để đảm bảo hoạt động trước mắt của bệnh viện khi sang trụ sở mới. Bổ sung sử dụng nguồn đất trung hạn tại kỳ họp tháng 9/2023 | AG19: =+Q19-R19-S19-T19 -> 53536.641 | AH19: =+#REF!+#REF!+#REF!+#REF!+'8.VON DAT TANG THEM'!S42+'8.VON DAT TANG THEM'!T42 -> #REF!
A20: IV | B20: II | C20: Khoa học, công nghệ | K20: 50000 | L20: 0 | M20: 50000 | Q20: =Q21 -> 50000 | R20: =R21 -> 0 | S20: =S21 -> 0 | T20: =T21 -> 0 | X20: =+T10+#REF! -> #REF! | AG20: =+Q20-R20-S20-T20 -> 50000
A21: 2 | B21: 1 | C21: Xây dựng trại thực nghiệm của Trung tâm phát triển Khoa học và Công nghệ | J21: Nghị quyết số 150/NQ-HĐND ngày 12/8/2021 | K21: 50000 | M21: 50000 | Q21: 50000 | V21: Ban Quản lý dự án đầu tư xây dựng các công trình dân dụng và công nghiệp tỉnh | W21: =+Q21+Q26+Q27+Q28+Q31+Q33+Q34+Q44+Q45+Q48+Q50+Q52+Q63+Q67 -> 3315422 | AG21: =+Q21-R21-S21-T21 -> 50000 | AH21: =+AH19+AH20 -> #REF!
A22: VI | B22: III | C22: Văn hóa | K22: 22000 | L22: 0 | M22: 15000 | Q22: =+Q23 -> 15000 | R22: =R23 -> 0 | S22: =S23 -> 5000 | T22: =T23 -> 10000 | AG22: =+Q22-R22-S22-T22 -> 0 | AH22: =+#REF!+#REF!+#REF!+#REF!+#REF!+'8.VON DAT TANG THEM'!S42+'8.VON DAT TANG THEM'!T42 -> #REF!
A23: 3 | B23: 1 | C23: Xây dựng, mở rộng, tôn tạo di tích "Nơi thành lập cơ sở Đảng đầu tiên của Đảng bộ tỉnh Thái Nguyên năm 1936, tại xã La Bằng, huyện Đại Từ, tỉnh Thái Nguyên" | D23: Xã La Bằng | E23: - San nền diện tích khoảng 15.320m2; - Đường giao thông bê tông chiều dài 186m, mặt đường rộng 6m; - Xây mới 01 nhà đón tiếp; - Xây dựng sân hành lễ, cột cờ, lư hương, hạ giải bia di tích, cải tạo nhà truyền thống và các hạng mục phụ trợ khác. | F23: Kho bạc nhà nước Thái nguyên | G23: 7981390 | H23: 351 | I23: 2021-2024 | J23: Nghị quyết số 76/NQ-HĐND ngày 21/6/2021; Quyết định số 2487/QĐ-UBND ngày 14/10/2022 | K23: 22000 | M23: 15000 | Q23: 15000 | S23: 5000 | T23: 10000 | V23: Ban Quản lý dự án đầu tư xây dựng huyện Đại Từ | W23: Kế hoạch năm 2023 được bổ sung thêm 7.500 trđ tại NQ 88 | AG23: =+Q23-R23-S23-T23 -> 0
A24: VIII | B24: IV | C24: Thể dục, thể thao | K24: 866654 | L24: 200000 | M24: 535724 | Q24: =SUM(Q25:Q28) -> 605354 | R24: =SUM(R25:R28) -> 0 | S24: =SUM(S25:S28) -> 30100 | T24: =SUM(T25:T28) -> 97583 | AG24: =+Q24-R24-S24-T24 -> 477671 | AH24: =+AH22+AH20 -> #REF!
A25: 4 | B25: 1 | C25: Xây dựng Sân vận động tỉnh Thái Nguyên | D25: Xã Phúc Trìu, thành phố Thái Nguyên | E25: Xây mới SVĐ với quy mô 22.000 chỗ ngồi | F25: Kho bạc nhà nước tỉnh Thái Nguyên | G25: 7912689 | H25: 221 | I25: 2022 -2025 | J25: Nghị quyết số 22/NQ-HĐND ngày 19/5/2021; số 179/NQ-HĐND ngày 04/11/2021; Quyết định số 3931/QĐ-UBND ngày 09/12/2021; Nghị quyết số 68/NQ-HĐND ngày 28/10/2022; Quyết định số 2800/QĐ-UBND ngày 15/11/2022 | K25: 535992 | L25: 200000 | M25: 266062 | Q25: 335692 | S25: 30000 | T25: 97583 | V25: Ban Quản lý dự án đầu tư xây dựng các công trình dân dụng và công nghiệp tỉnh | AG25: =+Q25-R25-S25-T25 -> 208109
A26: 5 | B26: 2 | C26: Xây dựng cơ sở vật chất, huấn luyện và thi đấu môn đua thuyền | J26: Nghị quyết số 162/NQ-HĐND ngày 12/8/2021 | K26: 99662 | M26: 99662 | Q26: 99662 | V26: Ban Quản lý dự án đầu tư xây dựng các công trình dân dụng và công nghiệp tỉnh | AG26: =+Q26-R26-S26-T26 -> 99662
A27: 6 | B27: 3 | C27: Xây dựng Trung tâm thể dục thể thao và Trường phổ thông năng khiếu thể dục thể thao | J27: Nghị quyết số 162/NQ-HĐND ngày 12/8/2021 | K27: 120000 | M27: 120000 | Q27: 120000 | S27: 100 | T27: 0 | V27: Ban Quản lý dự án đầu tư xây dựng các công trình dân dụng và công nghiệp tỉnh | W27: Kế hoachj năm 2023 được giao 17.900trđ tại NQ 96. Dự án đang đề nghị điều chỉnh chủ trương đầu tư nên không có khả năng giải ngân năm 2023 | AG27: =+Q27-R27-S27-T27 -> 119900
A28: 7 | B28: 4 | C28: Xây dựng Sân vận động huyện Đại Từ (giai đoạn 1) | J28: Nghị quyết số 162/NQ-HĐND ngày 12/8/2021 | K28: 111000 | M28: 50000 | Q28: 50000 | V28: Ban Quản lý dự án đầu tư xây dựng huyện Đại Từ | AG28: =+Q28-R28-S28-T28 -> 50000
A29: X | B29: V | C29: Các hoạt động kinh tế | K29: 11351111 | L29: 4050824 | M29: 5176746 | Q29: =+Q30+Q41+Q55 -> 4701021 | R29: =+R30+R41+R55 -> 0 | S29: =+S30+S41+S55 -> 431322 | T29: =+T30+T41+T55 -> 283231 | AG29: =+Q29-R29-S29-T29 -> 3986468
A30: X.1 | B30: V.1 | C30: Nông nghiệp, lâm nghiệp, thủy lợi và thủy sản | K30: =SUM(K31:K40) -> 1441330 | L30: =SUM(L31:L40) -> 685293 | M30: =SUM(M31:M40) -> 356438 | N30: =SUM(N31:N40) -> 0 | O30: =SUM(O31:O40) -> 0 | P30: =SUM(P31:P40) -> 0 | Q30: =SUM(Q31:Q40) -> 285983 | R30: =SUM(R31:R40) -> 0 | ... T30: =SUM(T31:T40) -> 23500 | AD30: 269947 | AG30: =+Q30-R30-S30-T30 -> 259483
A31: 8 | B31: 1 | C31: Bảo vệ và phát triển rừng sản xuất, phòng hộ, đặc dụng và nâng cao năng lực Phòng cháy chữa cháy rừng tỉnh Thái Nguyên giai đoạn 2021-2025 | J31: Nghị quyết số 72/NQ-HĐND ngày 21/6/2021; Quyết định số 3217/QĐ-UBND ngày 14/10/2021 | K31: 414599 | L31: 50000 | M31: 15000 | Q31: 14545 | V31: Chi cục Kiểm lâm | W31: NĂm 2021 dự án được giao kế hoạch vốn từ nguồn XDCB TT là 454,69 triệu đồng | AG31: =+Q31-R31-S31-T31 -> 14545
A32: 9 | B32: 2 | C32: Cải tạo, nâng cấp các công trình hồ, đập trên địa bàn | J32: Nghị quyết số 145/NQ-HĐND ngày 12/8/2021 | K32: 150000 | M32: 100000 | Q32: 100000 | V32: Ban Quản lý dự án đầu tư xây dựng các công trình nông nghiệp và phát triển nông thôn | AG32: =+Q32-R32-S32-T32 -> 100000
A33: 10 | B33: 3 | C33: Dự án Bố trí ổn định dân cư tại chỗ vùng thiên tai có nguy cơ sạt lở và lũ ống, lũ quét thuộc 06 xã: Na Mao, Đức Lương, Hoàng Nông, Khôi Kỳ, Tân Linh và Ký Phú, huyện Đại Từ | J33: Nghị quyết số 145/NQ-HĐND ngày 12/8/2021 | K33: 20000 | M33: 20000 | Q33: 20000 | V33: Ban Quản lý dự án đầu tư xây dựng huyện Đại Từ | AG33: =+Q33-R33-S33-T33 -> 20000
A34: 11 | B34: 4 | C34: Dự án Khu tái định cư tập trung vùng thiên tai có nguy cơ sạt lở đất và lũ quét xã Kim Sơn, huyện Định Hóa | J34: Nghị quyết số 145/NQ-HĐND ngày 12/8/2021 | K34: 23000 | M34: 23000 | Q34: 23000 | V34: Ban Quản lý dự án đầu tư xây dựng các công trình dân dụng và công nghiệp tỉnh | AG34: =+Q34-R34-S34-T34 -> 23000
A35: 12 | B35: 5 | C35: Tu bổ xung yếu hệ thống đê, điều giai đoạn 2021-2025 (Củng cố, nâng cấp tuyến đê Chã, thị xã Phổ Yên đoạn từ Km4+800 đến K9+500) | K35: 50000 | L35: 30000 | M35: 20000 | Q35: 0 | X35: Dự án này chưa cớ Chủ trương đầu tư | AG35: =+Q35-R35-S35-T35 -> 0
A36: 13 | B36: 6 | C36: Nâng cấp đê Hà Châu chống lũ, kết hợp làm đường giao thông phục vụ phát triển dân sinh | K36: 230000 | L36: 200000 | M36: 30000 | Q36: 0 | X36: Dự án này chưa cớ Chủ trương đầu tư | AG36: =+Q36-R36-S36-T36 -> 0
A37: 14 | B37: 7 | C37: Sửa chữa cấp bách đảm bảo an toàn hồ, đạp chứa nước (Hồ Núi Cốc: Đối mối; cải tạo đập chính; sửa chữa đập phụ; thay thế cửa van tràn số 1 và số 2. Hạ du: Xây dựng cầu Đá mài (ngầm tràn số 3); nạo vét cục bộ lòng dẫn sông Công hạ du Hồ Núi Cốc; kè chống sạt lở hai bên bờ Sông Công (Thành phố Thái Nguyên, Thành phố Sông Công, thị xã Phổ Yên) | J37: Quyết định số 3233/QĐ-BNN-KH ngày 21/7/2021 | K37: 160000 | L37: 140000 | M37: 20000 | Q37: 0 | AG37: =+Q37-R37-S37-T37 -> 0
A38: 15 | B38: 8 | C38: Xử lý sạt lở cấp bách sông, suối một số tỉnh miền núi phía bắc (Kè gia cố chống sạt lở bò Sông Công đoạn qua thị trấn Hùng Sơn, huyện Đại Từ tỉnh Thái Nguyên có chiều dài khoảng 1,9 km) | J38: Quyết định số 3385/QĐ-BNN-KH ngày 21/7/2021 | K38: 120000 | L38: 100000 | M38: 20000 | Q38: 0 | AG38: =+Q38-R38-S38-T38 -> 0
A39: 16 | B39: 9 | C39: Dự án cấp nước sinh hoạt tập trung nông thôn trên địa bàn tỉnh Thái Nguyên giai đoạn 2022-2025 | D39: Huyện Phú Bình, huyện Đại Từ, huyện Phú Lương, huyện Võ Nhai, huyện Định Hóa, huyện Đồng Hỷ - tỉnh Thái Nguyên | E39: công suất thiết kế khoảng 5.735m3/ngày đêm, đáp ứng nhu cầu sử dụng nước của khoảng 10.851 hộ dân của 20 xã thuộc 06 huyện trên địa bàn tỉnh | F39: KBNN tỉnh Thái Nguyên | G39: 7986353 | H39: 311 | I39: 2022-2025 | J39: Nghị quyết số 21/NQ-HĐND ngày 16/6/2022 ;Quyết định số 602/QĐ-UBND ngày 24/3/2023 | K39: 108438 | M39: 108438 | Q39: 108438 | S39: 3000 | T39: 23500 | V39: Trung tâm NSH và VSMTNT | W39: Bổ sung mới theo NQ 24, Chưa cộng vào KH vốn giao tại NQ 199 KH năm 2023 được bổ sung thêm 10.000trđ tại NQ 88 | AG39: =+Q39-R39-S39-T39 -> 81938
B40: 10 | C40: Dự án đầu tư xây dựng dự án thành phần số 1: Sửa chữa cấp bách đảm bảo an toàn Hồ Núi Cốc và hạ du, tỉnh Thái Nguyên, thuộc dự án Sửa chữa cấp bách đảm bảo an toàn hồ, đập chứa nước | J40: Quyết định số 1421/QĐ-BNN-KH ngày 07/4/2023; số 2603/QĐ-BNN-TL ngày 29/6/2023 | K40: 165293 | L40: =+K40-O40 -> 165293 | Q40: 20000 | Y40: 20000 | AG40: =+Q40-R40-S40-T40 -> 20000 | AH40: =+S42+#REF!+#REF!+#REF!+#REF! -> #REF!
A41: X.3 | B41: V.2 | C41: Giao thông | K41: 10163512 | L41: 3530824 | M41: 4908746 | Q41: =SUM(Q42:Q54) -> 4395038 | R41: =SUM(R42:R54) -> 0 | S41: =SUM(S42:S54) -> 428272 | T41: =SUM(T42:T54) -> 256781 | AG41: =+Q41-R41-S41-T41 -> 3709985
...

Sheet Danh muc
B1: DANH MỤC DỰ ÁN ĐÃ ĐƯỢC BỐ TRÍ VỐN ĐẾN NĂM 2023 | L1: =+D4+M4 -> 16440361 | M1: 16814211 | N1: =+M1-L1 -> 373850
A3: STT | C3: Tên dự án | D3: Kế hoạch trung hạn 2021-2025 đã giao | E3: Kế hoạch vốn đã giao đến hết năm 2023 | F3: Kế hoạch vốn còn lại phải bố trí giai đoạn 2024-2025 | G3: Ghi chú | J3: TT | L3: TÊN DỰ ÁN | M3: Kế hoạch vốn trung hạn 2021-2025 đã giao sau điều chỉnh, bổ sung | N3: Kế hoạch vốn trung hạn 2021-2025 không tiếp tục giao | O3: Ghi chú
C4: TỔNG SỐ | D4: =+D5+D48+D220 -> 14070277 | E4: =+E5+E48 -> 7805981.8 | F4: =+F5+F48 -> 5528837.7 | L4: Tổng số | M4: =+M5+M24+M27+M46+M52 -> 2370084 | N4: =+N5+N24+N27+N46 -> 55854
C5: PHẦN VỐN TRUNG ƯƠNG | D5: =+D6+D35+D43 -> 6013430.9 | E5: =+E6+E35+E43 -> 4673857.5 | F5: =+F6+F35+F43 -> 1517230.4 | L5: Vốn XDCBTT | M5: =+SUM(M6:M23) -> 186811 | N5: =+SUM(N6:N23) -> 0
B6: A | C6: VỐN NSTW TRONG NƯỚC | D6: =+SUM(D7:D34) -> 4762261.9 | E6: =+SUM(E7:E34) -> 3243645 | F6: =+SUM(F7:F34) -> 1517230.4 | I6: 3024811.6 | J6: 1 | K6: 1 | L6: Rà phá bom mìn, vật liệu nổ còn sót lại sau chiến tranh trên địa bàn tỉnh Thái Nguyên giai đoạn 2021-2025 | M6: 20000 | O6: Chưa giao KH vốn
B7: 1 | C7: Đường Na Giang - Khe Rạc - Cao Sơn xã Vũ Chấn đi Cao Biền xã Phú Thượng, huyện Võ Nhai | D7: 14590 | E7: 14590 | F7: =+D7-E7 -> 0 | I7: =+M5+D49 -> 2650989.1 | J7: 2 | K7: 2 | L7: Mở rộng, hoàn thiện CSVC Trường THPT Trần Quốc Tuấn (giai đoạn II) | M7: 1799 | O7: Chưa giao KH vốn
B8: 2 | C8: Trường THPT Tức Tranh, huyện Phú Lương | D8: 90000 | E8: 50050 | F8: =+D8-E8 -> 39950 | I8: =+I6-I7 -> 373822.5 | J8: 3 | K8: 3 | L8: Xây dựng Nhà lớp học 16 phòng, Nhà hiệu bộ trường THPT Lương Ngọc Quyến | M8: 29850 | O8: Chưa giao KH vốn
B9: 3 | C9: Xây dựng và mua sắm trang thiết bị cho Trung tâm pháp y tỉnh Thái Nguyên | D9: 5885 | E9: 5885 | F9: =+D9-E9 -> 0 | J9: 4 | K9: 4 | L9: Xây dựng Nhà lớp học 16 phòng trường THPT Sông Công | M9: 10000 | O9: Chưa giao KH vốn
B10: 4 | C10: Bệnh viện Y học cổ truyền tỉnh Thái Nguyên (giai đoạn I) | D10: 53525 | E10: 53525 | F10: =+D10-E10 -> 0 | J10: 5 | K10: 5 | L10: Xây dựng Nhà lớp học 15 phòng Trường THPT Định Hóa | M10: 10000 | O10: Chưa giao KH vốn
B11: 5 | C11: Xây dựng mở rộng, nâng cấp Bệnh viện A Thái Nguyên | D11: 130000 | E11: 90000 | F11: =+D11-E11 -> 40000 | J11: 6 | K11: 6 | L11: Xây dựng Nhà lớp học, phòng học bộ môn, phòng tổ chuyên môn Trường THPT Đại từ | M11: 13000 | O11: Chưa giao KH vốn
B12: 6 | C12: Tu bổ, tôn tạo di tích đền thờ Lý Nam Đế (đền Mục) xã Tiên Phong- thị xã Phổ Yên- tỉnh Thái Nguyên | D12: 14755 | E12: 14755 | F12: =+D12-E12 -> 0 | J12: 7 | K12: 7 | L12: Xây dựng Nhà lớp học bộ môn, thư viện Trường THPT Phổ Yên | M12: 5000 | O12: Chưa giao KH vốn
B13: 7 | C13: Xây dựng Sân vận động Thái Nguyên | D13: 200000 | E13: 200000 | F13: =+D13-E13 -> 0 | J13: 8 | K13: 8 | L13: Xây dựng Nhà đa năng, nhà lớp học 6 phòng Trường THPT Hoàng Quốc Việt | M13: 10000 | O13: Chưa giao KH vốn
B14: 8 | C14: Đầu tư tổng thể bố trí ổn định dân cư vùng bán ngập Hồ Núi Cốc, tỉnh Thái Nguyên. Hạng mục: Đầu tư xây dựng kết cấu hạ tầng, ổn định dân cư tại các xã Phúc Tân, Lục Ba, Vạn Thọ, Tân Thái, Bình Thuận | D14: 27887 | E14: 26713 | G14: Không còn nhiệm vụ chi | J14: 9 | K14: 9 | L14: Xây dựng Nhà đa năng Trường THPT Lưu Nhân Chú | M14: 6000 | O14: Chưa giao KH vốn
B15: 9 | C15: Hồ chứa nước Vân Hán, xã Văn Hán, huyện Đồng Hỷ, tỉnh Thái Nguyên | D15: 29916 | E15: 29916 | F15: =+D15-E15 -> 0 | J15: 10 | K15: 10 | L15: Xây dựng Nhà đa năng Trường THPT Trần Phú, Huyện Võ Nhai | M15: 6000 | O15: Chưa giao KH vốn
B16: 10 | C16: Xây dựng công trình Hệ thống đường lâm nghiệp phục vụ sản xuất, phát triển, bảo vệ, phòng chống cháy rừng tỉnh Thái Nguyên (giai đoạn I) | D16: 5323.86 | E16: 5111.39 | G16: Không còn nhiệm vụ chi | J16: 11 | K16: 11 | L16: Xây dựng Nhà đa năng Trường THPT Khánh Hòa | M16: 6000 | O16: Chưa giao KH vốn
B17: 11 | C17: Trồng rừng sản xuất, phòng hộ, xây dựng Vườn cây Bác Hồ tại ATK và nâng cao năng lực phòng cháy, chữa cháy rừng tỉnh Thái Nguyên giai đoạn 2016-2020. | D17: 1272.03 | E17: 1272 | F17: =+D17-E17 -> 0.03 | J17: 12 | K17: 12 | L17: Xây dựng nền tảng tích hợp dữ liệu, điều hành tập trung và phát triển hệ thống chuyên ngành y tế tỉnh Thái Nguyên, giai đoạn 2021-2025 | M17: 40000 | O17: Chưa giao KH vốn
B18: 12 | C18: Khu nông nghiệp ứng dụng Công nghệ cao Thái Nguyên | D18: 100000 | E18: 0 | F18: =+D18-E18 -> 100000 | J18: 13 | K18: 13 | L18: Sửa chữa, nâng cấp đập Pác Tác, xã Phương Giao, huyện Võ Nhai | M18: 2584 | O18: Chưa giao KH vốn
B19: 13 | C19: Bảo vệ và phát triển rừng sản xuất, phòng hộ, đặc dụng và nâng cao năng lực phóng cháy, chữa cháy rừng tỉnh Thái Nguyên giai đoạn 2021-2025 | D19: 50000 | E19: 29000 | F19: =+D19-E19 -> 21000 | J19: 14 | K19: 14 | L19: Xây dựng cơ sở hạ tầng thiết yếu phục vụ di dân, tái định cư xóm Yên Thái, xã Tân Thái, huyện Đại Từ | M19: 9947 | O19: Chưa giao KH vốn
B20: 14 | C20: Đường Giang Tiên - Phú Đô - Núi Phấn, huyện Phú Lương | D20: 14946 | E20: 14946 | F20: =+D20-E20 -> 0 | J20: 15 | K20: 15 | L20: Khu nông nghiệp ứng dụng công nghệ cao Thái Nguyên | M20: 100 | O20: Chưa giao KH vốn
B21: 15 | C21: Nâng cấp đường Hóa Thượng-Hòa Bình (Nâng cấp thành đường ĐT.273) | D21: 24919 | E21: 24919 | F21: =+D21-E21 -> 0 | J21: 16 | K21: 16 | L21: Xây dựng Bến xe khách phía Nam thành phố Thái Nguyên; Bến xe khách thị xã Phổ Yên; Bến xe khách huyện Phú Bình; Bến xe khách huyện Đại Từ theo hình thức đối tác công tư (Hợp đồng BOO) | M21: 1531 | O21: Chưa giao KH vốn
B22: 16 | C22: Đường nối từ QL3 mới (Hà Nội - Thái Nguyên) đến Khu công nghiệp Yên Bình I (đoạn từ nút giao Yên Bình đến Km1+631,8m) | D22: 57052 | E22: 57052 | F22: =+D22-E22 -> 0 | J22: 17 | K22: 17 | L22: Trụ sở nhà làm việc Hạt Kiểm lâm Phú Bình | M22: 5000 | O22: Chưa giao KH vốn
B23: 17 | C23: Nâng cấp mở rộng tuyến đường từ Km31 (Quốc lộ 3) đến di tích lịch sử Quốc gia đặc biệt ATK Định Hóa (Nhà tưởng niệm Chủ tịch Hồ Chí Minh) | D23: 65476 | E23: 65476 | F23: =+D23-E23 -> 0 | J23: 18 | K23: 18 | L23: Xây dựng nhà đa năng Trường Chính trị tỉnh. | M23: 10000 | O23: Dự kiến không tiếp tục đầu tư
B24: 18 | C24: Đường giao thông liên xã Tràng Xá - Phương Giao, huyện Võ Nhai tỉnh Thái Nguyên kết nối với huyện Bắc Sơn tỉnh Lạng Sơn | D24: 31791 | E24: 31791 | F24: =+D24-E24 -> 0 | L24: Vốn xổ số kiến thiết | M24: =+M25+M26 -> 12000 | N24: =+N25+N26 -> 0 | O24: Chưa giao KH vốn
B25: 19 | C25: Nâng cấp đường Cù Vân - An Khánh - Phúc Hà, tỉnh Thái Nguyên | D25: 18600 | E25: 13600 | F25: =+D25-E25 -> 5000 | J25: 19 | K25: 1 | L25: Xây dựng Nhà đa năng Trường Trung học phổ thông Điềm Thụy, huyện Phú Bình | M25: 6000 | O25: Chưa giao KH vốn
B26: 20 | C26: Đường Thắng Lợi kéo dài thành phố Sông Công | D26: 24250 | E26: 24250 | F26: =+D26-E26 -> 0 | J26: 20 | K26: 2 | L26: Xây dựng Nhà đa năng Trường Trung học phổ thông Trần Quốc Tuấn | M26: 6000 | O26: Chưa giao KH vốn
B27: 21 | C27: Cải tạo, nâng cấp đường ĐT.261 đoạn từ Km1+00 đến Km20+00, tỉnh Thái Nguyên | D27: 197060 | E27: 194468 | F27: =+D27-E27 -> 2592 | L27: Vốn thu tiền sử dụng đất cấp tỉnh quản lý 2 | M27: =+SUM(M28:M40) -> 2171020 | N27: =+SUM(N28:N40) -> 0 | O27: Chưa giao KH vốn
B28: 22 | C28: Đường vành đai V đoạn qua khu vực tỉnh Thái Nguyên (Đoạn từ huyện Phú Bình nối với tỉnh Bắc Giang) | D28: 273174 | E28: 247933 | F28: =+D28-E28 -> 25241 | J28: 21 | K28: 1 | L28: Xây dựng trại thực nghiệm của Trung tâm phát triển Khoa học và Công nghệ | M28: 50000 | O28: Chưa giao KH vốn
B29: 23 | C29: Tuyến đường liên kết, kết nối các tỉnh Thái Nguyên, Bắc Giang và Vĩnh Phúc | D29: 3115000 | E29: 1951945.1 | F29: =+D29-E29 -> 1163054.9 | J29: 22 | K29: 2 | L29: Xây dựng cơ sở vật chất, huấn luyện và thi đấu môn đua thuyền | M29: 99662 | O29: Chưa giao KH vốn
B30: 24 | C30: Đường du lịch ven hồ Núi Cốc nối tuyến bờ Bắc - Nam (3km đường + xây mới 2 cầu) | D30: 22581 | E30: 22581 | F30: =+D30-E30 -> 0 | J30: 23 | K30: 3 | L30: Xây dựng Trung tâm thể dục thể thao và Trường phổ thông năng khiếu thể dục thể thao | M30: 120000 | O30: Chưa giao KH vốn
B31: 25 | C31: Đầu tư dự án về chuyển đổi số | D31: 99952 | E31: 713.485 | F31: =+D31-E31 -> 99238.515 | J31: 24 | K31: 4 | L31: Xây dựng Sân vận động huyện Đại Từ (giai đoạn 1) | M31: 50000 | O31: Chưa giao KH vốn
B32: 26 | C32: Đầu tư hiện đại hóa kỹ thuật, công nghệ phục vụ nhiệm vụ chính trị, sự nghiệp phát thanh truyền hình tỉnh Thái Nguyên | D32: 50000 | E32: 28845.991 | F32: =+D32-E32 -> 21154.009 | J32: 25 | K32: 5 | L32: Dự án Bố trí ổn định dân cư tại chỗ vùng thiên tai có nguy cơ sạt lở và lũ ống, lũ quét thuộc 06 xã: Na Mao, Đức Lương, Hoàng Nông, Khôi Kỳ, Tân Linh và Ký Phú, huyện Đại Từ | M32: 20000 | O32: Chưa giao KH vốn
B33: 27 | C33: Trung tâm Bảo trợ xã hội tỉnh Thái Nguyên | D33: 10940 | E33: 10940 | F33: =+D33-E33 -> 0 | J33: 26 | K33: 6 | L33: Dự án Khu tái định cư tập trung vùng thiên tai có nguy cơ sạt lở đất và lũ quét xã Kim Sơn, huyện Định Hóa | M33: 23000 | O33: Chưa giao KH vốn
B34: 28 | C34: Nâng cấp cải tạo cơ sở cai nghiện đa chức năng tỉnh Thái Nguyên | D34: 33367 | E34: 33367 | F34: =+D34-E34 -> 0 | J34: 27 | K34: 7 | L34: Tu bổ xung yếu hệ thống đê, điều giai đoạn 2021-2025 (Củng cố, nâng cấp tuyến đê Chã, thị xã Phổ Yên đoạn từ Km4+800 đến K9+500) | M34: 20000 | O34: Dự kiến không giao
B35: B | C35: VỐN ODA (chưa bao gồm bội chi NSĐP) | D35: =+SUM(D36:D42) -> 976169 | E35: =+SUM(E36:E42) -> 1155212.5 | J35: 28 | K35: 8 | L35: Nâng cấp đê Hà Châu chống lũ, kết hợp làm đường giao thông phục vụ phát triển dân sinh | M35: 30000 | O35: Dự kiến không giao
B36: 1 | C36: Hệ thống thoát nước và xử lý nước thải khu trung tâm phía Nam Thành phố Thái Nguyên | D36: 285829 | E36: 285828.77 | F36: 0 | J36: 29 | K36: 9 | L36: Sửa chữa cấp bách đảm bảo an toàn hồ, đạp chứa nước (Hồ Núi Cốc: Đối mối; cải tạo đập chính; sửa chữa đập phụ; thay thế cửa van tràn số 1 và số 2. Hạ du: Xây dựng cầu Đá mài (ngầm tràn số 3); nạo vét cục bộ lòng dẫn sông Công hạ du Hồ Núi Cốc; kè chống sạt lở hai bên bờ Sông Công (Thành phố Thái Nguyên, Thành phố Sông Công, thị xã Phổ Yên) | M36: 20000 | O36: Dự kiến không giao
B37: 2 | C37: Dự án Hệ thống thoát nước và xử lý nước thải Thành phố Thái Nguyên | D37: 14153 | E37: 14153 | F37: 0 | J37: 30 | K37: 10 | L37: Xử lý sạt lở cấp bách sông, suối một số tỉnh miền núi phía bắc (Kè gia cố chống sạt lở bò Sông Công đoạn qua thị trấn Hùng Sơn, huyện Đại Từ tỉnh Thái Nguyên có chiều dài khoảng 1,9 km) | M37: 20000 | O37: Dự kiến không giao
B38: 3 | C38: Chương trình mở rộng quy mô vệ sinh và nước sạch nông thôn tỉnh Thái Nguyên | D38: 52890 | E38: 47195 | F38: 0 | J38: 31 | K38: 11 | L38: Đường vành đai I (Đoạn Bờ Đậu Phú Lương- Hóa Thượng Đồng Hỷ) | M38: 1152450 | O38: Chưa giao KH vốn
B39: 4 | C39: Sữa chữa và nâng cao an toàn đập (WB8) | D39: 35300 | E39: 35299 | F39: 0 | J39: 32 | K39: 12 | L39: Đường kết nối ĐT.265 (xã Bình Long, huyện Võ Nhai) đi Bắc Giang | M39: 291055 | O39: Chưa giao KH vốn
B40: 5 | C40: Tăng cường quản lý đất đai và cơ sở dữ liệu đất đai tỉnh Thái Nguyên | D40: 40396 | E40: 75932.73 | G40: Theo số thực tế giao | J40: 33 | K40: 13 | L40: Đường kết nối Quốc lộ 37, Đường vành đai 5, huyện Phú Bình và thành phố Thái Nguyên (đoạn từ Cầu Xuân Phương- Cầu Mây) | M40: 274853 | O40: Dự án không tiếp tục đầu tư theo Nghị quyết số 62/NQ-HĐND ngày 29/8/2022
B41: 6 | C41: Phát triển tổng hợp đô thị động lực - thành phố Thái Nguyên | D41: 337366 | E41: 378763 | G41: Theo số thực tế giao | J41: 34 | K41: 14 | L41: Xây dựng Cầu An Long và Đường kết nối tỉnh lộ ĐT.270 với tỉnh lộ ĐT.261 huyện Đại Từ | M41: 150000 | O41: Chưa giao KH vốn
...

Sheet Tong so du an
E2: 257 | F2: =+E2-E3 -> 54
C3: TÊN DỰ ÁN | D3: =+COUNTA(D5:D226) -> 203 | E3: =+B15+B20+B59+B61+B72+B81+B87+B89+B136+B139+B171+B183+B188+B190+B196+B198+B201+B221+B226 -> 203 | F3: =+COUNTA(E5:E226) -> 54 | H3: =+D3-213 -> -10
C4: Quốc phòng | H4: 1 | I4: Đường Na Giang - Khe Rạc - Cao Sơn xã Vũ Chấn đi Cao Biền xã Phú Thượng, huyện Võ Nhai
A5: 1 | B5: 1 | C5: Đường Na Giang - Khe Rạc - Cao Sơn xã Vũ Chấn đi Cao Biền xã Phú Thượng, huyện Võ Nhai | D5: 1 | E5: 1 | H5: 2 | I5: Di chuyển Đại đội kho C29 (ngân sách địa phương thực hiện giải phóng mặt bằng)
A6: 2 | B6: 2 | C6: Di chuyển Đại đội kho C29 (ngân sách địa phương thực hiện giải phóng mặt bằng) | D6: 1 | H6: 3 | I6: Doanh trại Ban Chỉ huy quân sự thị xã Phổ Yên - Giai đoạn 3
A7: 3 | B7: 3 | C7: Doanh trại Ban Chỉ huy quân sự thị xã Phổ Yên - Giai đoạn 3 | D7: 1 | H7: 4 | I7: Dự án cải tạo căn cứ chiến đấu 1, xã Phú Đô, huyện Phú Lương, tỉnh Thái Nguyên
A8: 4 | B8: 4 | C8: Dự án cải tạo căn cứ chiến đấu 1, xã Phú Đô, huyện Phú Lương, tỉnh Thái Nguyên | D8: 1 | H8: 5 | I8: Rà phá bom mìn, vật liệu nổ còn sót lại sau chiến tranh trên địa bàn tỉnh Thái Nguyên giai đoạn 2021-2025
A9: 5 | B9: 5 | C9: Rà phá bom mìn, vật liệu nổ còn sót lại sau chiến tranh trên địa bàn tỉnh Thái Nguyên giai đoạn 2021-2025 | D9: 1 | H9: 6 | I9: Sở Chỉ huy A2/Bộ Chỉ huy quân sự tỉnh
A10: 6 | B10: 6 | C10: Sở Chỉ huy A2/Bộ Chỉ huy quân sự tỉnh | D10: 1 | E10: 1 | H10: 7 | I10: Trung tâm huấn luyện dự bị động viên - Ban Chỉ huy quân sự tỉnh Thái Nguyên
A11: 7 | B11: 7 | C11: Trung tâm huấn luyện dự bị động viên - Ban Chỉ huy quân sự tỉnh Thái Nguyên | D11: 1 | E11: 1 | H11: 8 | I11: Xây dựng Ban Chỉ huy quân sự cấp xã năm 2020
A12: 8 | B12: 8 | C12: Xây dựng Ban Chỉ huy quân sự cấp xã năm 2020 | D12: 1 | H12: 9 | I12: Xây dựng trụ sở Ban Chỉ huy quân sự cấp xã giai đoạn 2021-2025
A13: 9 | B13: 9 | C13: Xây dựng trụ sở Ban Chỉ huy quân sự cấp xã giai đoạn 2021-2025 | D13: 1 | H13: 10 | I13: Xây dựng Trụ sở Ban Chỉ huy quân sự cấp xã năm 2021
A14: 10 | B14: 10 | C14: Xây dựng Trụ sở Ban Chỉ huy quân sự cấp xã năm 2021 | D14: 1 | H14: 11 | I14: Hạng mục còn lại Cơ quan Bộ chỉ huy quân sự tỉnh Thái Nguyên
A15: 11 | B15: 11 | C15: Hạng mục còn lại Cơ quan Bộ chỉ huy quân sự tỉnh Thái Nguyên | D15: 1 | H15: 12 | I15: Trụ sở làm việc Công an tỉnh Thái Nguyên
C16: An ninh và trật tự, an toàn xã hội | H16: 13 | I16: Đồn Công an và Đội Cảnh sát phòng cháy, chữa cháy và cứu nạn, cứu hộ Khu công nghiệp Yên Bình
A17: 12 | B17: 1 | C17: Trụ sở làm việc Công an tỉnh Thái Nguyên | D17: 1 | H17: 14 | I17: Dự án Trụ sở làm việc Công an các xã, thị trấn giai đoạn 2021-2025
A18: 13 | B18: 2 | C18: Đồn Công an và Đội Cảnh sát phòng cháy, chữa cháy và cứu nạn, cứu hộ Khu công nghiệp Yên Bình | D18: 1 | H18: 15 | I18: Trụ sở Phòng cánh sát phòng cháy, chữa cháy và cứu nạn, cứu hộ Công an tỉnh
A19: 14 | B19: 3 | C19: Dự án Trụ sở làm việc Công an các xã, thị trấn giai đoạn 2021-2025 | D19: 1 | H19: 16 | I19: Xây dựng Trường THPT Đội Cấn, huyện Đại từ
A20: 15 | B20: 4 | C20: Trụ sở Phòng cánh sát phòng cháy, chữa cháy và cứu nạn, cứu hộ Công an tỉnh | D20: 1 | E20: 1 | H20: 17 | I20: Nhà lớp học 02 tầng 10 phòng học Trường mầm non Điềm Thụy
C21: Giáo dục, đào tạo và giáo dục nghề nghiệp | H21: 18 | I21: Nhà lớp học 03 tầng 15 phòng học Trường Trung học cơ sở Tân Khánh
A22: 16 | B22: 1 | C22: Xây dựng Trường THPT Đội Cấn, huyện Đại từ | D22: 1 | H22: 19 | I22: Nhà lớp học 10 phòng Trường Tiểu học Thành Công 3
A23: 17 | B23: 2 | C23: Nhà lớp học 02 tầng 10 phòng học Trường mầm non Điềm Thụy | D23: 1 | H23: 20 | I23: Mở rộng, hoàn thiện CSVC Trường THPT Trần Quốc Tuấn (giai đoạn II)
A24: 18 | B24: 3 | C24: Nhà lớp học 03 tầng 15 phòng học Trường Trung học cơ sở Tân Khánh | D24: 1 | H24: 21 | I24: Mở rộng, nâng quy mô Trường phổ thông dân tộc nội trú THCS Đại Từ
A25: 19 | B25: 4 | C25: Nhà lớp học 10 phòng Trường Tiểu học Thành Công 3 | D25: 1 | H25: 22 | I25: Mở rộng, nâng quy mô Trường phổ thông dân tộc nội trú tỉnh
A26: 20 | B26: 5 | C26: Mở rộng, hoàn thiện CSVC Trường THPT Trần Quốc Tuấn (giai đoạn II) | D26: 1 | H26: 23 | I26: Mở rộng, nâng quy mô Trường phổ thông dân tộc nội trú THCS Đồng Hỷ
A27: 21 | B27: 6 | C27: Mở rộng, nâng quy mô Trường phổ thông dân tộc nội trú THCS Đại Từ | D27: 1 | H27: 24 | I27: Mở rộng, nâng quy mô Trường phổ thông dân tộc nội trú THCS Phú Lương
A28: 22 | B28: 7 | C28: Mở rộng, nâng quy mô Trường phổ thông dân tộc nội trú tỉnh | D28: 1 | H28: 25 | I28: Mở rộng, nâng quy mô Trường PTDTNT THCS Nguyễn Bỉnh Khiêm
A29: 23 | B29: 8 | C29: Mở rộng, nâng quy mô Trường phổ thông dân tộc nội trú THCS Đồng Hỷ | D29: 1 | H29: 26 | I29: Trường Mầm non Liên Cơ, thị trấn Đình Cả, huyện Võ Nhai (Hạng mục: Nhà lớp học 02 tầng 08 phòng và các phòng chức năng)
A30: 24 | B30: 9 | C30: Mở rộng, nâng quy mô Trường phổ thông dân tộc nội trú THCS Phú Lương | D30: 1 | H30: 27 | I30: Trường Mầm non Tân Long- điểm trường Đồng Mây
A31: 25 | B31: 10 | C31: Mở rộng, nâng quy mô Trường PTDTNT THCS Nguyễn Bỉnh Khiêm | D31: 1 | H31: 28 | I31: Trường Mầm non Thắng Lợi
A32: 26 | B32: 11 | C32: Trường Mầm non Liên Cơ, thị trấn Đình Cả, huyện Võ Nhai (Hạng mục: Nhà lớp học 02 tầng 08 phòng và các phòng chức năng) | D32: 1 | H32: 29 | I32: Trường phổ thông dân tộc nội trú Định Hóa, tỉnh Thái Nguyên (giai đoạn 2)
A33: 27 | B33: 12 | C33: Trường Mầm non Tân Long- điểm trường Đồng Mây | D33: 1 | H33: 30 | I33: Trường phổ thông dân tộc nội trú THCS Định Hóa tỉnh Thái Nguyên
A34: 28 | B34: 13 | C34: Trường Mầm non Thắng Lợi | D34: 1 | E34: 1 | H34: 31 | I34: Trường THPT Chuyên Thái Nguyên
A35: 29 | B35: 14 | C35: Trường phổ thông dân tộc nội trú Định Hóa, tỉnh Thái Nguyên (giai đoạn 2) | D35: 1 | E35: 1 | H35: 32 | I35: Trường THPT Tức Tranh, huyện Phú Lương
A36: 30 | B36: 15 | C36: Trường phổ thông dân tộc nội trú THCS Định Hóa tỉnh Thái Nguyên | D36: 1 | H36: 33 | I36: Trường Tiểu học Cổ Lũng
A37: 31 | B37: 16 | C37: Trường THPT Chuyên Thái Nguyên | D37: 1 | E37: 1 | H37: 34 | I37: Trường Tiểu học Linh Thông (Hạng mục: Nhà 02 tầng 08 phòng học bộ môn, phòng chức năng)
A38: 32 | B38: 17 | C38: Trường THPT Tức Tranh, huyện Phú Lương | D38: 1 | H38: 35 | I38: Trường Tiểu học và Trung học cơ sở thị trấn Quân Chu
A39: 33 | B39: 18 | C39: Trường Tiểu học Cổ Lũng | D39: 1 | H39: 36 | I39: Xây dựng Trường THPT Lý Nam Đế, thị xã Phổ Yên
A40: 34 | B40: 19 | C40: Trường Tiểu học Linh Thông (Hạng mục: Nhà 02 tầng 08 phòng học bộ môn, phòng chức năng) | D40: 1 | H40: 37 | I40: Xây dựng 18 phòng học mẫu giáo 5 tuổi trên địa bàn huyện Võ Nhai
A41: 35 | B41: 20 | C41: Trường Tiểu học và Trung học cơ sở thị trấn Quân Chu | D41: 1 | H41: 38 | I41: Xây dựng Nhà đa năng Trường THPT Khánh Hòa
...

Sheet Sheet1
A1: TỔNG HỢP NGUỒN VỐN ĐẤT CẤP TỈNH QUẢN LÝ
A3: Tổng Kế hoạch vốn trung hạn 2021 - 2025 | J3: =+#REF! -> #REF!
A5: Tổng số vốn đã bố trí trong năm 2021-2023 | J5: =+#REF!+#REF!+#REF!+'8.VON DAT TANG THEM'!R10+'8.VON DAT TANG THEM'!S10+'8.VON DAT TANG THEM'!T10 -> #REF!
A7: Tổng số vốn cần tiếp tục bố trí cho các dự án đã khởi công đến năm 2023 | J7: =+#REF!+'8.VON DAT TANG THEM'!#REF!+'8.VON DAT TANG THEM'!#REF!+'8.VON DAT TANG THEM'!#REF!+'8.VON DAT TANG THEM'!#REF!+'8.VON DAT TANG THEM'!#REF!+'8.VON DAT TANG THEM'!#REF!+'8.VON DAT TANG THEM'!#REF!+'8.VON DAT TANG THEM'!#REF!+'8.VON DAT TANG THEM'!#REF!+'8.VON DAT TANG THEM'!#REF!+'8.VON DAT TANG THEM'!#REF!+'8.VON DAT TANG THEM'!#REF!+'8.VON DAT TANG THEM'!#REF!+'8.VON DAT TANG THEM'!#REF!+'8.VON DAT TANG THEM'!#REF!+'8.VON DAT TANG THEM'!#REF!+'8.VON DAT TANG THEM'!#REF!+'8.VON DAT TANG THEM'!#REF!+'8.VON DAT TANG THEM'!#REF!+'8.VON DAT TANG THEM'!#REF!+'8.VON DAT TANG THEM'!#REF!+'8.VON DAT TANG THEM'!#REF!+'8.VON DAT TANG THEM'!#REF!+'8.VON DAT TANG THEM'!#REF!+'8.VON DAT TANG THEM'!#REF!+'8.VON DAT TANG THEM'!#REF!+'8.VON DAT TANG THEM'!#REF!+'8.VON DAT TANG THEM'!#REF!+'8.VON DAT TANG THEM'!#REF!+'8.VON DAT TANG THEM'!#REF!+'8.VON DAT TANG THEM'!#REF!+'8.VON DAT TANG THEM'!#REF! -> #REF! | K7: đã bao gồm các nhiệm vụ
A9: Tổng số vốn cần bố trí cho các dự án chưa khởi công đến năm 2023 | J9: =+J3-J5-J7 -> #REF!
A13: TỔNG HỢP NGUỒN VỐN XÂY DỰNG CƠ BẢN TẬP TRUNG
A15: Tổng số dự án chưa được bố trí vốn (33 dự án) | J15: =+Sheet2!C4 -> 1785091

Sheet Sheet2
A1: DANH MỤC DỰ ÁN CHƯA ĐƯỢC BỐ TRÍ VỐN GIAI ĐOẠN 2021-2023
A3: TT | B3: TÊN DỰ ÁN | C3: Kế hoạch vốn trung hạn 2021-2025 đã giao
B4: Tổng số | C4: =+C5+C24+C27 -> 1785091
B5: Vốn XDCBTT | C5: =+SUM(C6:C23) -> 186811
A6: 1 | B6: Rà phá bom mìn, vật liệu nổ còn sót lại sau chiến tranh trên địa bàn tỉnh Thái Nguyên giai đoạn 2021-2025 | C6: 20000
A7: 2 | B7: Mở rộng, hoàn thiện CSVC Trường THPT Trần Quốc Tuấn (giai đoạn II) | C7: 1799
A8: 3 | B8: Xây dựng Nhà lớp học 16 phòng, Nhà hiệu bộ trường THPT Lương Ngọc Quyến | C8: 29850
A9: 4 | B9: Xây dựng Nhà lớp học 16 phòng trường THPT Sông Công | C9: 10000
A10: 5 | B10: Xây dựng Nhà lớp học 15 phòng Trường THPT Định Hóa | C10: 10000
