Workbook
Name ___________boi1: #REF!
Name ___________boi1: #REF!
Name ___________boi1: #REF!
Name ___________boi2: #REF!
Name ___________boi2: #REF!
Name ___________boi2: #REF!
Name ___________boi3: #REF!
Name ___________boi3: #REF!
Name ___________boi3: #REF!
Name ___________boi4: #REF!
Name ___________boi4: #REF!
Name ___________boi4: #REF!
Name ___________btm10: #REF!
Name ___________btm10: #REF!
Name ___________btm10: #REF!
Name ___________btm100: #REF!
Name ___________btm100: #REF!
Name ___________btm100: #REF!
Name ___________btM300: #REF!
Name ___________btM300: #REF!
Name ___________btM300: #REF!
Name ___________cao1: #REF!
Name ___________cao1: #REF!
Name ___________cao1: #REF!
Name ___________cao2: #REF!
Name ___________cao2: #REF!
Name ___________cao2: #REF!
Name ___________cao3: #REF!
Name ___________cao3: #REF!
Name ___________cao3: #REF!
Name ___________cao4: #REF!
Name ___________cao4: #REF!
Name ___________cao4: #REF!
Name ___________cao5: #REF!
Name ___________cao5: #REF!
Name ___________cao5: #REF!
Name ___________cao6: #REF!
Name ___________cao6: #REF!
Name ___________cao6: #REF!
Name ___________CON1: #REF!
Name ___________CON1: #REF!
Name ___________CON1: #REF!
Name ___________CON2: #REF!
Name ___________CON2: #REF!
Name ___________CON2: #REF!
Name ___________dai1: #REF!
Name ___________dai1: #REF!
Name ___________dai1: #REF!
Name ___________dai2: #REF!
Name ___________dai2: #REF!
Name ___________dai2: #REF!
Name ___________dai3: #REF!
Name ___________dai3: #REF!
Name ___________dai3: #REF!
Name ___________dai4: #REF!
Name ___________dai4: #REF!
Name ___________dai4: #REF!
Name ___________dai5: #REF!
Name ___________dai5: #REF!
Name ___________dai5: #REF!

Sheet I. TONG HOP
A1: PHỤ LỤC I
A2: TỔNG HỢP KẾ HOẠCH ĐẦU TƯ CÔNG NĂM 2026 XÃ CƯỜNG LỢI
A3: =+'II. XDCBTT'!A3:U3 -> (Kèm theo Quyết định số 884/QĐ-UBND ngày 10 tháng 10 năm 2026 của UBND xã Cường Lợi)
C4: Đơn vị tính: Triệu đồng
A5: TT | B5: Nội dung | C5: Kế hoạch đầu tư công năm 2026 đã giao | D5: Điều chỉnh | F5: Kế hoạch đầu tư công năm 2026 sau điều chỉnh | G5: Ghi chú
D6: Tăng | E6: Giảm
B7: TỔNG SỐ | C7: =+C8 -> 8174 | D7: =+D8 -> 0 | E7: =+E8 -> 0 | F7: =+F8 -> 8174
A8: I | B8: Vốn ngân sách địa phương | C8: =+C9+C10+C13+C14 -> 8174 | D8: =+D9+D10+D13+D14 -> 0 | E8: =+E9+E10+E13+E14 -> 0 | F8: =+F9+F10+F13+F14 -> 8174 | N8: =+C8/$C$7*100 -> 100
A9: 1 | B9: Vốn xây dựng cơ bản tập trung | C9: 2000 | F9: =+C9+D9-E9 -> 2000 | G9: Chi tiết tại phụ lục II | N9: =+C9/$C$7*100 -> 24.467825 | O9: =8640/C7*100 -> 105.701
A10: 2 | B10: Thu tiền sử dụng đất | C10: =+C11+C12 -> 1377 | E10: =+E12 -> 0 | F10: =+C10+D10-E10 -> 1377 | N10: =+C10/$C$7*100 -> 16.846097 | O10: =+C9-8640 -> -6640 | P10: =+O10/C7*100 -> -81.233178
A11: - | B11: Tiết kiệm 5% theo quy định tại Nghị quyết số 245/2025/QH15 ngày 13/11/2025 của Quốc hội | C11: 69 | F11: =+C11+D11-E11 -> 69 | G11: Chi tiết tại phụ lục III | N11: =+C11/$C$7*100 -> 0.84413996 | O11: =8640/C9*100 -> 432
A12: - | B12: Kế hoạch đầu tư công năm 2026 phân bổ cho các dự án, nhiệm vụ | C12: =138+1170 -> 1308 | F12: =+C12+D12-E12 -> 1308 | N12: =+C12/$C$7*100 -> 16.001957 | O12: =+C11-8640 -> -8571 | P12: =+O12/C9*100 -> -428.55
A13: 3 | B13: Tăng thu, tiết kiệm chi năm 2025 | C13: 2100 | F13: =+C13+D13-E13 -> 2100 | G13: Chi tiết tại phụ lục IV | N13: =+C13/$C$7*100 -> 25.691216 | O13: =8640/C11*100 -> 12521.739
A14: 4 | B14: Chương trình Hỗ trợ đầu tư, cải tạo, nâng cấp hạ tầng giao thông các xã vùng khó khăn và đặc biệt khó khăn tỉnh Thái Nguyên giai đoạn 2026-2030 | C14: 2697 | F14: =+C14+D14-E14 -> 2697 | G14: Chi tiết tại phụ lục V | N14: =+C14/$C$7*100 -> 32.994862 | O14: =8640/C12*100 -> 660.55046

Sheet II. XDCBTT
A1: PHỤ LỤC II
A2: ĐIỀU CHỈNH KẾ HOẠCH ĐẦU TƯ CÔNG NĂM 2026 XÃ CƯỜNG LỢI - VỐN XÂY DỰNG CƠ BẢN TẬP TRUNG TRONG NƯỚC (LẦN 4)
A3: (Kèm theo Quyết định số 884/QĐ-UBND ngày 10 tháng 10 năm 2026 của UBND xã Cường Lợi)
L4: Đơn vị tính: Triệu đồng
A5: TT | B5: Danh mục dự án/ chương trình | C5: Địa điểm xây dựng | D5: Địa điểm mở tài khoản của dự án | E5: Mã số dự án đầu tư | F5: Mã chương | G5: Mã loại dự toán | H5: Mã ngành kinh tế | I5: Thời gian khởi công và hoàn thành | J5: QĐ chủ trương đầu tư/ QĐ phê duyệt dự án/ QĐ phê duyệt quyết toán/ Tổng mức đầu tư dự kiến | N5: Lũy kế vốn đã bố trí đến hết năm 2025 | O5: Kế hoạch đầu tư công năm 2026 | P5: Điều chỉnh | R5: Kế hoạch đầu tư công năm 2026 sau điều chỉnh | S5: Chủ đầu tư/ Đơn vị thực hiện | T5: Chủ đầu tư/ Đơn vị thực hiện | U5: Ghi chú
J6: Số, ngày, tháng, năm | K6: Tổng số (tất cả các nguồn vốn) | L6: Trong đó: Vốn | P6: Giảm | Q6: Tăng
L7: Ngân sách trung ương | M7: Ngân sách địa phương
A8: 1 | B8: 2 | C8: 3 | D8: 4 | E8: 5 | H8: 6 | I8: 7 | J8: 8 | K8: 9 | L8: 10 | M8: 11 | N8: 12 | O8: 13 | P8: 14 | Q8: 15 | R8: 16 | S8: 17 | T8: 18 | U8: 19
B9: TỔNG SỐ | K9: =+K10+K13+K20 -> 1500 | L9: =+L10+L13+L20 -> 0 | M9: =+M10+M13+M20 -> 1500 | N9: =+N10+N13+N20 -> 0 | O9: =+O10+O13+O20+O17 -> 2000 | P9: =+P10+P13+P20+P17 -> 0 | Q9: =+Q10+Q13+Q20+Q17 -> 0 | R9: =+R10+R13+R20+R17 -> 2000
A10: I | B10: Giáo dục đào tạo và giáo dục nghề nghiệp | K10: =+K11 -> 500 | L10: =+L11 -> 0 | M10: =+M11 -> 500 | N10: =+N11 -> 0 | O10: =+O11 -> 500 | P10: =+P11 -> 0 | Q10: =+Q11 -> 0 | R10: =+R11 -> 500
A11: a | B11: Dự án khởi công mới giai đoạn 2026-2030 | K11: =+K12 -> 500 | L11: =+L12 -> 0 | M11: =+M12 -> 500 | N11: =+N12 -> 0 | O11: =+O12 -> 500 | P11: =+P12 -> 0 | Q11: =+Q12 -> 0 | R11: =+R12 -> 500
A12: 1 | B12: Cải tạo, sửa chữa các phòng bán trú Trường PTDTBT Tiểu học Văn Vũ | C12: Xã Cường Lợi | D12: Phòng GD số 8 - KBNN KV VII | E12: 8176157 | F12: 821 | H12: 072 | I12: 2026 | J12: 122/QĐ-UBND ngày 02/3/2026 | K12: 500 | M12: =+K12 -> 500 | O12: 500 | Q12: =+M12-O12 -> 0 | R12: =+O12-P12+Q12 -> 500 | S12: Văn phòng HĐND và UBND xã | T12: Trung tâm Dịch vụ tổng hợp xã Cường Lợi | U12: Mã nguồn 42
A13: II | B13: Các hoạt động kinh tế | K13: =+K14 -> 1000 | L13: =+L14 -> 0 | M13: =+M14 -> 1000 | N13: =+N14 -> 0 | O13: =+O14 -> 1000 | P13: =+P14 -> 0 | Q13: =+Q14 -> 0 | R13: =+R14 -> 1000
A14: II.1 | B14: Nông nghiệp, lâm nghiệp, diêm nghiệp, thủy lợi và thủy sản | K14: =+K15 -> 1000 | L14: =+L15 -> 0 | M14: =+M15 -> 1000 | N14: =+N15 -> 0 | O14: =+O15 -> 1000 | P14: =+P15 -> 0 | Q14: =+Q15 -> 0 | R14: =+R15 -> 1000
A15: a | B15: Dự án khởi công mới giai đoạn 2026-2030 | K15: =+K16 -> 1000 | L15: =+L16 -> 0 | M15: =+M16 -> 1000 | N15: =+N16 -> 0 | O15: =+O16 -> 1000 | Q15: 0 | R15: =+O15-P15+Q15 -> 1000
A16: 2 | B16: Xây dựng hệ thống cấp nước sinh hoạt Pò Nim | C16: Xã Cường Lợi | D16: Phòng GD số 8 - KBNN KV VII | E16: 8176155 | F16: 821 | H16: 281 | I16: 2026 | J16: 123/QĐ-UBND ngày 02/03/2026 | K16: 1000 | M16: =+K16 -> 1000 | O16: 1000 | Q16: 0 | R16: =+O16-P16+Q16 -> 1000 | S16: Văn phòng HĐND và UBND xã | T16: Trung tâm Dịch vụ tổng hợp xã Cường Lợi | U16: Mã nguồn 42
A17: II.2 | B17: Giao thông | K17: =+K18 -> 650 | L17: =+L18 -> 0 | M17: =+M18 -> 650 | N17: =+N18 -> 0 | O17: =+O18 -> 500 | P17: =+P18 -> 0 | Q17: =+Q18 -> 0 | R17: =+R18 -> 500
A18: a | B18: Dự án khởi công mới giai đoạn 2026-2030 | K18: =+K19 -> 650 | L18: =+L19 -> 0 | M18: =+M19 -> 650 | N18: =+N19 -> 0 | O18: =+O19 -> 500 | P18: =+P19 -> 0 | Q18: =+Q19 -> 0 | R18: =+R19 -> 500
A19: 3 | B19: Đường bê tông Nà Roi, thôn Bản Pìn | C19: Xã Cường Lợi | D19: Phòng GD số 8 - KBNN KV VII | E19: 8193347 | F19: 821 | G19: 02 | H19: 292 | I19: 2026 | J19: 342/QĐ-UBND ngày 29/4/2026; 452/QĐ-UBND ngày 15/6/2026 | K19: 650 | M19: =+K19 -> 650 | O19: 500 | R19: =+O19-P19+Q19 -> 500 | S19: Văn phòng HĐND và UBND xã | T19: Trung tâm Dịch vụ tổng hợp xã Cường Lợi | U19: Mã nguồn 42
A20: III | B20: Dư chưa phân bổ | O20: 0 | P20: 0 | R20: =+O20-P20 -> 0

Sheet III. TT SD ĐẤT
A1: PHỤ LỤC III
A2: KẾ HOẠCH ĐẦU TƯ CÔNG NĂM 2026 XÃ CƯỜNG LỢI - VỐN TỪ THU TIỀN SỬ DỤNG ĐẤT (LẦN 5)
A3: =+'II. XDCBTT'!A3:U3 -> (Kèm theo Quyết định số 884/QĐ-UBND ngày 10 tháng 10 năm 2026 của UBND xã Cường Lợi)
M4: Đơn vị tính: Triệu đồng
A5: TT | B5: Danh mục dự án/ chương trình | C5: Địa điểm xây dựng | D5: Địa điểm mở tài khoản của dự án | E5: Chủ đầu tư | F5: Mã số dự án đầu tư | G5: Mã chương | H5: Mã ngành kinh tế | I5: Thời gian khởi công và hoàn thành | J5: QĐ chủ trương đầu tư/ QĐ phê duyệt dự án/ QĐ phê duyệt quyết toán/ Tổng mức đầu tư dự kiến | N5: Lũy kế vốn đã bố trí đến hết năm 2025 | O5: Kế hoạch đầu tư công năm 2026 | P5: Điều chỉnh | R5: Kế hoạch đầu tư công năm 2026 sau điều chỉnh | S5: Ghi chú
J6: Số, ngày, tháng, năm | K6: Tổng số (tất cả các nguồn vốn) | L6: Trong đó: Vốn | P6: Giảm | Q6: Tăng
L7: Ngân sách trung ương | M7: Ngân sách địa phương
A8: 1 | B8: 2 | C8: 3 | D8: 4 | E8: 5 | F8: 6 | H8: 7 | I8: 8 | J8: 9 | K8: 10 | L8: 11 | M8: 12 | N8: 13 | O8: 14 | P8: 14 | Q8: 15 | R8: 16 | S8: 15
B9: TỔNG SỐ | K9: =+K10 -> 1670 | L9: =+L10 -> 0 | M9: =+M10 -> 1170 | N9: =+N10 -> 0 | O9: =+O10+O11 -> 1377 | P9: =+P10+P11 -> 1000 | Q9: =+Q10+Q11 -> 1000 | R9: =+R10+R11 -> 1377
A10: A | B10: Tiết kiệm 5% theo quy định tại Nghị quyết số 245/2025/QH15 của Quốc hội | K10: =+K11 -> 1670 | L10: =+L11 -> 0 | M10: =+M11 -> 1170 | N10: =+N11 -> 0 | O10: 69 | P10: 0 | Q10: 0 | R10: =+O10-P10+Q10 -> 69
A11: B | B11: Kế hoạch đầu tư công năm 2026 phân bổ cho các dự án, nhiệm vụ (Mã nguồn: 44) | K11: =+K12+K18+K19 -> 1670 | L11: =+L12+L18+L19 -> 0 | M11: =+M12+M18+M19 -> 1170 | N11: =+N12+N18+N19 -> 0 | O11: =+O12+O18+O19 -> 1308 | P11: =+P12+P18+P19 -> 1000 | Q11: =+Q12+Q18+Q19 -> 1000 | R11: =+R12+R18+R19 -> 1308
A12: I | B12: Các hoạt động kinh tế | K12: =+K13 -> 1670 | L12: =+L13 -> 0 | M12: =+M13 -> 1170 | N12: =+N13 -> 0 | O12: =+O13 -> 170 | P12: =+P13 -> 0 | Q12: =+Q13 -> 1000 | R12: =+R13 -> 1170
A13: I.1 | B13: Giao thông | K13: =+K14 -> 1670 | L13: =+L14 -> 0 | M13: =+M14 -> 1170 | N13: =+N14 -> 0 | O13: =+O14 -> 170 | P13: =+P14 -> 0 | Q13: =+Q14 -> 1000 | R13: =+R14 -> 1170
A14: a | B14: Dự án khởi công mới giai đoạn 2026-2030 | K14: =+K15+K16+K17 -> 1670 | L14: =+L15+L16+L17 -> 0 | M14: =+M15+M16+M17 -> 1170 | N14: =+N15+N16+N17 -> 0 | O14: =+O15+O16+O17 -> 170 | P14: =+P15+P16+P17 -> 0 | Q14: =+Q15+Q16+Q17 -> 1000 | R14: =+R15+R16+R17 -> 1170
A15: 1 | B15: Đổ bê tông đường trục thôn Pò Nim - Pác Muồng thôn Pò Nim (đoạn 2) | C15: Xã Cường Lợi | D15: Phòng GD số 8 - KBNN KV VII | E15: Trung tâm Dịch vụ tổng hợp xã Cường Lợi | F15: 8218674 | G15: 821 | H15: 292 | I15: 2026-2027 | J15: 343/QĐ-UBND ngày 29/4/2026 | K15: 400 | M15: 400 | O15: 10 | Q15: 390 | R15: =+O15-P15+Q15 -> 400
A16: 2 | B16: Đường bê tông Nà Hẻo, thôn Bản Cằm | C16: Xã Cường Lợi | D16: Phòng GD số 8 - KBNN KV VII | E16: Trung tâm Dịch vụ tổng hợp xã Cường Lợi | F16: 8218675 | G16: 821 | H16: 292 | I16: 2026-2027 | J16: 344/QĐ-UBND ngày 29/4/2026 | K16: 620 | M16: 620 | O16: 10 | Q16: 610 | R16: =+O16-P16+Q16 -> 620
A17: 3 | B17: Đường bê tông Nà Roi, thôn Bản Pìn | C17: Xã Cường Lợi | D17: Phòng GD số 8 - KBNN KV VII | E17: Trung tâm Dịch vụ tổng hợp xã Cường Lợi | F17: 8193347 | G17: 821 | H17: 292 | I17: 2026 | J17: 452/QĐ-UBND ngày 15/6/2026 | K17: 650 | M17: 150 | O17: 150 | R17: =+O17-P17+Q17 -> 150
A18: II | B18: Đối ứng thực hiện Chương trình mục tiêu quốc gia xây dựng nông thôn mới, giảm nghèo bền vững và phát triển kinh tế - xã hội vùng đồng bào dân tộc thiểu số và miền núi giai đoạn 2026-2035, giai đoạn I: Từ năm 2026 đến năm 2030; | O18: 138 | P18: 0 | Q18: 0 | R18: =+O18-P18+Q18 -> 138
A19: III | B19: Dư chưa phân bổ | O19: 1000 | P19: =+Q18+Q16+Q15+Q17 -> 1000 | Q19: =+Q20 -> 0 | R19: =+O19-P19+Q19 -> 0

Sheet IV. Tiết kiệm chi năm 2025
A1: PHỤ LỤC IV
A2: ĐIỀU CHỈNH KẾ HOẠCH ĐẦU TƯ CÔNG NĂM 2026 XÃ CƯỜNG LỢI - VỐN TĂNG THU, TIẾT KIỆM CHI NĂM 2025
A3: =+'III. TT SD ĐẤT'!A3:S3 -> (Kèm theo Quyết định số 884/QĐ-UBND ngày 10 tháng 10 năm 2026 của UBND xã Cường Lợi)
L4: Đơn vị tính: Triệu đồng
A5: TT | B5: Danh mục dự án/ chương trình | C5: Địa điểm xây dựng | D5: Địa điểm mở tài khoản của dự án | E5: Mã số dự án đầu tư | F5: Mã loại dự toán | G5: Mã chương | H5: Mã ngành kinh tế | I5: Thời gian khởi công và hoàn thành | J5: QĐ chủ trương đầu tư/ QĐ phê duyệt dự án/ QĐ phê duyệt quyết toán/ Tổng mức đầu tư dự kiến | N5: Lũy kế vốn đã bố trí đến hết năm 2025 | O5: Kế hoạch đầu tư công năm 2026 | P5: Điều chỉnh | R5: Kế hoạch đầu tư công năm 2026 sau điều chỉnh | S5: Chủ đầu tư/ Đơn vị thực hiện | T5: Ghi chú
J6: Số, ngày, tháng, năm | K6: Tổng số (tất cả các nguồn vốn) | L6: Trong đó: Vốn | P6: Giảm | Q6: Tăng
L7: Ngân sách trung ương | M7: Ngân sách địa phương
A8: 1 | B8: 2 | C8: 3 | D8: 4 | E8: 5 | H8: 6 | I8: 7 | J8: 8 | K8: 9 | L8: 10 | M8: 11 | N8: 12 | O8: 13 | P8: 14 | Q8: 15 | R8: 16 | S8: 17 | T8: 19
B9: TỔNG SỐ | K9: =+K10+K13 -> 2100 | L9: =+L10+L13 -> 0 | M9: =+M10+M13 -> 2100 | N9: =+N10+N13 -> 0 | O9: =+O10+O13 -> 2100 | P9: =+P10+P13 -> 0 | Q9: =+Q10+Q13 -> 0 | R9: =+R10+R13 -> 2100
A10: I | B10: Hoạt động của các cơ quan quản lý nhà nước | K10: =+K11 -> 2100 | L10: =+L11 -> 0 | M10: =+M11 -> 2100 | N10: =+N11 -> 0 | O10: =+O11 -> 2100 | P10: =+P11 -> 0 | Q10: =+Q11 -> 0 | R10: =+R11 -> 2100
A11: a | B11: Dự án khởi công mới giai đoạn 2026-2030 | K11: =+K12 -> 2100 | L11: =+L12 -> 0 | M11: =+M12 -> 2100 | N11: =+N12 -> 0 | O11: =+O12 -> 2100 | P11: =+P12 -> 0 | Q11: =+Q12 -> 0 | R11: =+R12 -> 2100
A12: 1 | B12: Xây dựng nhà làm việc và các hạng mục phụ trợ trong Trụ sở HĐND và UBND xã Cường Lợi | C12: Xã Cường Lợi | D12: Phòng GD số 8 - KBNN KV VII | E12: 8184933 | G12: 821 | H12: 341 | I12: 2026 | J12: 180/QĐ-UBND ngày 18/3/2026; 356/QĐ-UBND ngày 04/5/2026 | K12: 2100 | M12: =+K12 -> 2100 | O12: 2100 | P12: 0 | Q12: 0 | R12: =+O12-P12+Q12 -> 2100 | S12: Trung tâm Dịch vụ tổng hợp xã Cường Lợi | T12: Mã nguồn 49
A13: II | B13: Dư chưa phân bổ | O13: 0 | P13: 0 | R13: =+O13-P13+Q13 -> 0

Sheet V. Xi măng
A1: PHỤ LỤC V
A2: ĐIỀU CHỈNH KẾ HOẠCH ĐẦU TƯ CÔNG NĂM 2026 XÃ CƯỜNG LỢI - CHƯƠNG TRÌNH HỖ TRỢ ĐẦU TƯ, CẢI TẠO, NÂNG CẤP HẠ TẦNG GIAO THÔNG CÁC XÃ VÙNG KHÓ KHĂN VÀ ĐẶC BIỆT KHÓ KHĂN TỈNH THÁI NGUYÊN GIAI ĐOẠN 2026-2030
A3: =+'III. TT SD ĐẤT'!A3:S3 -> (Kèm theo Quyết định số 884/QĐ-UBND ngày 10 tháng 10 năm 2026 của UBND xã Cường Lợi)
L4: Đơn vị tính: Triệu đồng
A5: TT | B5: Danh mục dự án/ chương trình | C5: Địa điểm xây dựng | D5: Địa điểm mở tài khoản của dự án | E5: Mã số dự án đầu tư | F5: Mã loại dự toán | G5: Mã chương | H5: Mã ngành kinh tế | I5: Thời gian khởi công và hoàn thành | J5: QĐ chủ trương đầu tư/ QĐ phê duyệt dự án/ QĐ phê duyệt quyết toán/ Tổng mức đầu tư dự kiến | N5: Lũy kế vốn đã bố trí đến hết năm 2025 | O5: Kế hoạch đầu tư công năm 2026 | P5: Điều chỉnh | R5: Kế hoạch đầu tư công năm 2026 sau điều chỉnh | S5: Chủ đầu tư/ Đơn vị thực hiện | T5: Ghi chú
J6: Số, ngày, tháng, năm | K6: Tổng số (tất cả các nguồn vốn) | L6: Trong đó: Vốn | P6: Giảm | Q6: Tăng
L7: Ngân sách trung ương | M7: Ngân sách địa phương
A8: 1 | B8: 2 | C8: 3 | D8: 4 | E8: 5 | F8: 6 | G8: 7 | H8: 8 | I8: 9 | J8: 10 | K8: 11 | L8: 12 | M8: 13 | N8: 14 | O8: 15 | P8: 16 | Q8: 17 | R8: 18 | S8: 19 | T8: 20
B9: TỔNG SỐ | K9: =+K10 -> 4200 | L9: =+L10 -> 0 | M9: =+M10 -> 4200 | N9: =+N10 -> 0 | O9: =+O10 -> 2697 | P9: =+P10 -> 0 | Q9: =+Q10 -> 0 | R9: =+R10 -> 2697
A10: I | B10: Các hoạt động kinh tế | K10: =+K12 -> 4200 | L10: =+L12 -> 0 | M10: =+M12 -> 4200 | N10: =+N12 -> 0 | O10: =+O12 -> 2697 | P10: =+P12 -> 0 | Q10: =+Q12 -> 0 | R10: =+R12 -> 2697
A11: I.1 | B11: Giao thông
A12: a | B12: Dự án khởi công mới giai đoạn 2026-2030 | K12: =+K13 -> 4200 | L12: =+L13 -> 0 | M12: =+M13 -> 4200 | N12: =+N13 -> 0 | O12: =+O13 -> 2697 | P12: =+P13 -> 0 | Q12: =+Q13 -> 0 | R12: =+R13 -> 2697
A13: 1 | B13: Đường Vũ Loan – Lạng San | C13: Xã Cường Lợi | D13: Phòng GD số 8 - KBNN KV VII | E13: 8204885 | F13: 02 | G13: 821 | H13: 292 | I13: 2026-2027 | J13: 464/QĐ-UBND ngày 22/6/2026; 595/QĐ-UBND ngày 03/8/2026 | K13: 4200 | M13: =+K13 -> 4200 | O13: 2697 | R13: =+O13-P13+Q13 -> 2697 | S13: Trung tâm Dịch vụ tổng hợp xã Cường Lợi | T13: Mã nguồn 43
A14: II | B14: Dư chưa phân bổ | R14: =+O14-P14+Q14 -> 0

Sheet III.ODA
A1: PHỤ LỤC III
A2: DỰ KIẾN KẾ HOẠCH ĐẦU TƯ CÔNG TRUNG HẠN VỐN NGÂN SÁCH TRUNG ƯƠNG GIAI ĐOẠN 2026 - 2030 TỈNH THÁI NGUYÊN NGUỒN VỐN: VỐN NƯỚC NGOÀI
A3: (Kèm theo Nghị quyết số /NQ-HĐND ngày tháng 7 năm 2025 của HĐND tỉnh Thái Nguyên)
A4: Đơn vị: Triệu đồng
A5: ID dự án (Mã trên Hệ thống, không điều chỉnh cột này) | B5: TT | C5: Danh mục dự án | D5: Nhà tài trợ | E5: Nhóm dự án | F5: Địa điểm XD | G5: Năng lực tăng thêm | H5: Thời gian khởi công | I5: Thời gian hoàn thành | J5: Quyết định đầu tư/ Quyết định chủ trương đầu tư | T5: Lũy kế dự kiến vốn bố trí từ khởi công đến hết năm 2025 | AC5: Dự kiến kế hoạch đầu tư công trung hạn giai đoạn 2026-2030 | AL5: Ghi chú | AM5: Đơn vị đề xuất
J6: Số quyết định; ngày, tháng, năm ban hành | K6: Tổng mức đầu tư | T6: Tổng số (tất cả các nguồn vốn) | U6: Trong đó | AC6: Tổng số (tất cả các nguồn vốn) | AD6: Trong đó
K7: Tổng số (tất cả các nguồn vốn) | L7: Trong đó: | U7: Vốn đối ứng | X7: Vốn nước ngoài (theo Hiệp định) | AD7: Vốn đối ứng | AH7: Vốn nước ngoài (tính theo tiền Việt)
L8: Vốn đối ứng | O8: Vốn nước ngoài (theo Hiệp định) | U8: Tổng số | V8: Trong đó: | X8: Tính bằng nguyên tệ | Y8: Quy đổi ra tiền Việt | AD8: Tổng số | AE8: Trong đó: | AH8: Tổng số | AI8: Trong đó
L9: Tổng số | M9: Trong đó: Vốn | O9: Tính bằng nguyên tệ | P9: Quy đổi ra tiền Việt | V9: NSTW | W9: NSĐP | Y9: Tổng số | Z9: Trong đó | AE9: NSTW | AG9: NSĐP | AI9: Đưa vào cân đối NSTW | AJ9: Vay lại | AK9: Viện trợ không hoàn lại
M10: NSTW | N10: NSĐP | P10: Tổng số | Q10: Trong đó: | AE10: Tổng số | AF10: Trong đó: Thu hồi các khoản ứng trước
Q11: Đưa vào cân đối NSTW | R11: Vay lại | S11: Viện trợ không hoàn lại | Z11: Đưa vào cân đối NSTW | AA11: Vay lại | AB11: Viện trợ không hoàn lại
C12: TỔNG SỐ | K12: =K13 -> 4650528.4 | L12: =L13 -> 1272748.4 | M12: =M13 -> 178055.21 | N12: =N13 -> 1094693.2 | O12: =O13 -> 0 | P12: =P13 -> 3377729 | Q12: =Q13 -> 2356343.6 | R12: =R13 -> 635723.4 | ... AK12: =AK13 -> 361968
B13: I | C13: Các hoạt động kinh tế | K13: =K14+K22+K25 -> 4650528.4 | L13: =L14+L22+L25 -> 1272748.4 | M13: =M14+M22+M25 -> 178055.21 | N13: =N14+N22+N25 -> 1094693.2 | P13: =P14+P22+P25 -> 3377729 | Q13: =Q14+Q22+Q25 -> 2356343.6 | R13: =R14+R22+R25 -> 635723.4 | S13: =S14+S22+S25 -> 385712 | T13: =T14+T22+T25 -> 718184.17 | U13: =U14+U22+U25 -> 224619 | V13: =V14+V22+V25 -> 75832 | W13: =W14+W22+W25 -> 148787 | Y13: =Y14+Y22+Y25 -> 493565.17 | Z13: =Z14+Z22+Z25 -> 116245 | AA13: =AA14+AA22+AA25 -> 234830.17 | AB13: =AB14+AB22+AB25 -> 142490 | AC13: =AC14+AC22+AC25 -> 4051089.3 | AD13: =AD14+AD22+AD25 -> 1048129.4 | AE13: =AE14+AE22+AE25 -> 102223.21 | AF13: =AF14+AF22+AF25 -> 0 | ... AK13: =AK14+AK22+AK25 -> 361968 | AM13: =AM14+AM22+AM25 -> 0
B14: I.1 | C14: Nông nghiệp, lâm nghiệp, thủy lợi và thủy sản: | K14: =+K15+K20 -> 3711829 | L14: =+L15+L20 -> 916638 | M14: =+M15+M20 -> 0 | N14: =+N15+N20 -> 916638 | O14: =+O15+O20 -> 0 | P14: =+P15+P20 -> 2795140 | Q14: =+Q15+Q20 -> 1773754.6 | R14: =+R15+R20 -> 635723.4 | ... AK14: =+AK15+AK20 -> 361968
B15: a | C15: Dự án chuyển tiếp từ giai đoạn 2021-2025 sang giai đoạn 2026-2030 | K15: =+K16+K17+K18+K19 -> 2766846 | L15: =+L16+L17+L18+L19 -> 622954 | M15: =+M16+M17+M18+M19 -> 0 | N15: =+N16+N17+N18+N19 -> 622954 | O15: =+O16+O17+O18+O19 -> 0 | P15: =+P16+P17+P18+P19 -> 2143841 | Q15: =+Q16+Q17+Q18+Q19 -> 1389463 | R15: =+R16+R17+R18+R19 -> 471027 | ... AK15: =+AK16+AK17+AK18+AK19 -> 259657
B16: 1 | C16: Phát triển CSHT thích ứng với biến đổi khí hậu để hỗ trợ sản xuất cho đồng bào dân tộc các tỉnh miền núi, trung du phía Bắc, tỉnh Thái Nguyên (tỉnh Thái Nguyên trước sáp nhập) | D16: JICA | E16: B | F16: 05 huyện: Đại Từ, Định Hoá, Đồng Hỷ, Võ Nhai, Phú Lương | G16: Tưới tiêu cho 938 ha; cấp nước sạch cho 4.290 hộ; nâng cấp 75,40km đường | H16: 2025 | I16: 2028 | J16: Quyết định số 708/QĐ-UBND ngày 03/4/2024 | K16: 921178 | L16: 208732 | N16: 208732 | P16: 712446 | Q16: 356223 | R16: 356223 | T16: =U16+Y16 -> 238764 | U16: =+V16+W16 -> 96274 | W16: =+N16-AD16 -> 96274 | Y16: =SUM(Z16:AB16) -> 142490 | Z16: 71245 | AA16: 71245 | AC16: =AD16+AH16 -> 682414 | AD16: =+AE16+AG16 -> 112458 | AG16: 112458 | AH16: =SUM(AI16:AK16) -> 569956 | AI16: 284978 | AJ16: 284978 | AM16: Ban QLDA ĐTXD các công trình nông nghiệp và PTNT
B17: 2 | C17: Dự án hỗ trợ kinh tế tuần hoàn xanh thông qua cải thiện chuỗi giá trị nông nghiệp ở miền Bắc Việt Nam tại tỉnh Bắc Kạn (tỉnh Bắc Kạn trước sáp nhập) | J17: Quyết định số 865/QĐ-UBND ngày 29/4/2025 | K17: 288920 | L17: =+M17+N17 -> 46370 | N17: 46370 | P17: =SUM(Q17:S17) -> 242550 | S17: 242550 | T17: =U17+Y17 -> 148386 | U17: =+V17+W17 -> 5896 | W17: =+N17-AG17 -> 5896 | Y17: =SUM(Z17:AB17) -> 142490 | AB17: 142490 | AC17: =AD17+AH17 -> 259280 | AD17: =+AE17+AG17 -> 40474 | AG17: 40474 | AH17: =SUM(AI17:AK17) -> 218806 | AK17: 218806 | AO17: Vốn ODA không hoàn lịa do trực tiếp nhà tài trợ giải ngân
B18: 3 | C18: Dự án Kè chống sạt lở ứng phó biến đổi khí hậu bảo vệ dân sinh và phục vụ sản xuất Nông nghiệp tỉnh Bắc Kạn (tỉnh Bắc Kạn trước sáp nhập) | J18: 20/NQ-HĐND ngày 19/4/2024 | K18: 685142 | L18: =+M18+N18 -> 152019 | N18: 152019 | P18: =SUM(Q18:S18) -> 533123 | Q18: 443045 | R18: 49227 | S18: =685142-152019-492272 -> 40851 | T18: =U18+Y18 -> 90000 | U18: =+V18+W18 -> 40000 | W18: 40000 | Y18: =SUM(Z18:AB18) -> 50000 | Z18: 45000 | AA18: 5000 | AC18: =AD18+AH18 -> 595142 | AD18: =+AE18+AG18 -> 112019 | AG18: =+N18-W18 -> 112019 | AH18: =SUM(AI18:AK18) -> 483123 | AI18: =+Q18-Z18 -> 398045 | AJ18: =+R18-AA18 -> 44227 | AK18: =685142-152019-492272 -> 40851
B19: 4 | C19: Dự án "Phát triển cơ sở hạ tầng thích ứng với biến đổi khí hậu để hỗ trợ sản xuất cho đồng bào dân tộc miền núi các tỉnh Trung du phía Bắc, tỉnh Bắc Kạn (tỉnh Bắc Kạn trước sáp nhập) | J19: 613/QĐ-TTg ngày 20/5/2024 | K19: 871606 | L19: 215833 | N19: 215833 | P19: 655722 | Q19: 590195 | R19: 65577 | T19: =U19+Y19 -> 1482 | U19: =+V19+W19 -> 1482 | W19: 1482 | Y19: =SUM(Z19:AB19) -> 0 | AC19: =AD19+AH19 -> 870123 | AD19: =+AE19+AG19 -> 214351 | AG19: 214351 | AH19: =SUM(AI19:AK19) -> 655772 | AI19: =590195 -> 590195 | AJ19: 65577
B20: b | C20: Khởi công mới giai đoạn 2026-2030 | K20: =+K21 -> 944983 | L20: =+L21 -> 293684 | M20: =+M21 -> 0 | N20: =+N21 -> 293684 | O20: =+O21 -> 0 | P20: =+P21 -> 651299 | Q20: =+Q21 -> 384291.6 | R20: =+R21 -> 164696.4 | ... AK20: =+AK21 -> 102311
B21: 1 | C21: Dự án: Giải pháp dựa vào tự nhiên cho phát triển nông thôn toàn diện tỉnh Thái Nguyên | K21: 944983 | L21: =+M21+N21 -> 293684 | N21: 293684 | P21: =SUM(Q21:S21) -> 651299 | Q21: 384291.6 | R21: 164696.4 | S21: 102311 | AC21: =+AD21+AH21 -> 944983 | AD21: =+AE21+AG21 -> 293684 | AG21: 293684 | AH21: =SUM(AI21:AK21) -> 651299 | AI21: 384291.6 | AJ21: 164696.4 | AK21: 102311
B22: I.2 | C22: Cấp nước, thoát nước | K22: =K24 -> 738219.42 | L22: =L24 -> 356110.42 | M22: =M24 -> 178055.21 | N22: =N24 -> 178055.21 | O22: =O24 -> 14.251.937,3 EURO | P22: =P24 -> 382109 | Q22: =Q24 -> 382109 | R22: =R24 -> 0 | ... AK22: =AK24 -> 0
B23: a | C23: Dự án chuyển tiếp từ giai đoạn 2021-2025 sang giai đoạn 2026-2030 | K23: =+K24 -> 738219.42 | L23: =+L24 -> 356110.42 | M23: =+M24 -> 178055.21 | N23: =+N24 -> 178055.21 | P23: =+P24 -> 382109 | Q23: =+Q24 -> 382109 | R23: =+R24 -> 0 | S23: =+S24 -> 0 | T23: =+T24 -> 239552.17 | U23: =+U24 -> 80967 | V23: =+V24 -> 75832 | W23: =+W24 -> 5135 | Y23: =+Y24 -> 158585.17 | Z23: =+Z24 -> 0 | AA23: =+AA24 -> 158585.17 | AB23: =+AB24 -> 0 | AC23: =+AC24 -> 498667.25 | AD23: =+AD24 -> 275143.42 | AE23: =+AE24 -> 102223.21 | AF23: =+AF24 -> 0 | ... AK23: =+AK24 -> 0
B24: 1 | C24: Hệ thống thoát nước và xử lý nước thải khu trung tâm phía nam Thành phố Thái Nguyên | D24: Bỉ | E24: B | F24: Thành phố Thái Nguyên | G24: 8000m3/ ngày đêm | H24: 2019 | I24: Chưa xác định | J24: Số 1227/QĐ-UBND ngày 27/5/2015; số 1530 ngày 17/5/2021; Tổng mức đầu tư điều chỉnh dự kiến | K24: 738219.42 | L24: 356110.42 | M24: 178055.21 | N24: 178055.21 | O24: 14.251.937,3 EURO | P24: 382109 | Q24: 382109 | S24: 0 | T24: 239552.17 | U24: 80967 | V24: 75832 | W24: 5135 | X24: 6.081.678,5 EURO | Y24: 158585.17 | AA24: 158585.17 | AC24: 498667.25 | AD24: 275143.42 | AE24: 102223.21 | AF24: 0 | AG24: 172920.21 | AH24: =SUM(AI24:AK24) -> 223523.83 | AI24: 223523.83 | AL24: Số liệu tổng mức đầu tư dự kiến điều chỉnh từ 438,543 tỷ đồng lên 738,219 tỷ đồng | AM24: Công ty Thoát nước và Phát triển hạ tầng đô thị Thái Nguyên | AO24: Xin ý kiến lại xem có đưa vào nữa không
B25: 1.3 | C25: Giao thông | K25: =K26 -> 200480 | L25: =L26 -> 0 | M25: =M26 -> 0 | N25: =N26 -> 0 | O25: =O26 -> 0 | P25: =P26 -> 200480 | Q25: =Q26 -> 200480 | R25: =R26 -> 0 | ... AK25: =AK26 -> 0
B26: a | C26: Khởi công mới giai đoạn 2026-2030 | K26: =K27 -> 200480 | L26: =L27 -> 0 | M26: =M27 -> 0 | N26: =N27 -> 0 | O26: =O27 -> 0 | P26: =P27 -> 200480 | Q26: =Q27 -> 200480 | R26: =R27 -> 0 | ... AK26: =AK27 -> 0
B27: 1 | C27: Nâng cấp, mở rộng tuyến đường Hóa Thượng - Minh Lập huyện Đồng Hỷ cũ | D27: Trung Quốc | E27: B | F27: Huyện Đồng Hỷ | G27: 4,5 km đường cấp III Miền núi | H27: 2026 | I27: 2028 | K27: 200480 | P27: 200480 | Q27: 200480 | AC27: 200480 | AH27: =SUM(AI27:AK27) -> 200480 | AI27: 200480 | AM27: UBND Huyện Đồng Hỷ

Sheet 8.VON DAT TANG THEM
A1: Phụ lục IIh
A2: PHƯƠNG ÁN PHÂN BỔ KẾ HOẠCH ĐẦU TƯ CÔNG TRUNG HẠN TỪ NGUỒN THU TIỀN SỬ DỤNG ĐẤT VÀ SẮP XẾP LẠI NHÀ ĐẤT TRÊN ĐỊA BÀN TỈNH
A3: (Kèm theo Văn bản số /UBND-TH ngày tháng 4 năm 2023 của UBND tỉnh Thái Nguyên)
A5: STT | C5: Danh mục dự án/chương trình | D5: Địa điểm xây dựng | E5: Năng lưc thiết kế | F5: Địa điểm mở tài khoản của dự án (chi tiết đến huyện, thành phố) | G5: Mã số dự án đầu tư | H5: Mã ngành kinh tế (loại, khoản) | I5: Thời gian khởi công và hoàn thành | J5: QĐ chủ trương đầu tư/ QĐ phê duyệt dự án/ QĐ phê duyệt quyết toán | N5: Lũy kế vốn đã bố trí đến hết năm 2020 | Q5: Điều chỉnh bổ sung lần 2 theo Nghị quyết số /NQ-HĐND ngày 8/2022 | R5: Kế hoạch vốn năm 2021 sau điều chỉnh, bổ sung | S5: Kế hoạch vốn năm 2022 sau điều chỉnh, bổ sung | T5: Kế hoạch vốn năm 2023 | V5: Chủ đầu tư/ Đơn vị thực hiện | W5: Ghi chú
J6: Số ngày tháng năm | K6: Tổng số | L6: Trong đó: | N6: Tổng số | O6: Trong đó | AH6: 7828214.6 | AI6: 317439
L7: NSTW | M7: Vốn từ nguồn thu sử dụng đất và sắp xếp lại nhà đất trên địa bàn tỉnh | O7: NSTW | P7: Vốn từ nguồn thu sử dụng đất và sắp xếp lại nhà đất trên địa bàn tỉnh | AH7: 6080417.6 | AI7: 484353
K8: -444209.7 | L8: 0 | M8: 10620 | N8: 264279.17 | O8: 0 | P8: 0
K9: 15388955 | L9: 4595824 | M9: 7368532 | N9: 15206068 | O9: 4591300 | P9: 7189415 | Y9: =N9-#REF! -> #REF! | Z9: =P9-#REF! -> #REF! | AA9: =#REF!-Z9 -> #REF!
C10: TỔNG SỐ | K10: =+K15 -> 14391690 | L10: =+L15 -> 4549349 | M10: =+M15 -> 7012212 | N10: =+N15 -> 0 | O10: =+O15 -> 0 | P10: =+P15 -> 0 | Q10: =+Q15 -> 7181489.6 | R10: =+R15 -> 14000 | ... T10: =+T15 -> 732874.19 | W10: =+Q10+#REF! -> #REF! | X10: =+T10+#REF! -> #REF! | Y10: #REF! | Z10: #REF! | AG10: =+Q10+#REF! -> #REF! | AH10: =+T10+#REF! -> #REF! | AI10: =+AI7+AI6 -> 801792
C11: Dự án | K11: =+K16+K18+K20+K22+K24+K29+K57+K66 -> 14391690 | L11: =+L16+L18+L20+L22+L24+L29+L57+L66 -> 4549349 | M11: =+M16+M18+M20+M22+M24+M29+M57+M66 -> 7012212 | N11: =+N16+N18+N20+N22+N24+N29+N57+N66 -> 0 | O11: =+O16+O18+O20+O22+O24+O29+O57+O66 -> 0 | P11: =+P16+P18+P20+P22+P24+P29+P57+P66 -> 0 | Q11: =+Q16+Q18+Q20+Q22+Q24+Q29+Q57+Q66 -> 6386512.5 | R11: =+R16+R18+R20+R22+R24+R29+R57+R66 -> 14000 | ... T11: =+T16+T18+T20+T22+T24+T29+T57+T66 -> 542690.19 | W11: 299.427 | AH11: 317439 | AI11: =+T10-AI10 -> -68917.813
C12: Chương trình, nhiệm vụ | K12: =+K68 -> 0 | L12: =+L68 -> 0 | M12: =+M68 -> 0 | N12: =+N68 -> 0 | O12: =+O68 -> 0 | P12: =+P68 -> 0 | Q12: =+Q68 -> 794677.07 | R12: =+R68 -> 0 | ... T12: =+T68 -> 190184 | W12: =+W10+W11 -> #REF! | AH12: 637872
C13: Cấp tỉnh quản lý | K13: =+K10-K14 -> 14391690 | L13: =+L10-L14 -> 4549349 | M13: =+M10-M14 -> 7012212 | N13: =+N10-N14 -> 0 | O13: =+O10-O14 -> 0 | P13: =+P10-P14 -> 0 | Q13: =+Q10-Q14 -> 7181489.6 | R13: =+R10-R14 -> 14000 | ... T13: =+T10-T14 -> 732874.19 | AH13: =+AH12+AH11 -> 955311
C14: Cấp huyện quản lý (tỉnh phân cấp) | K14: 0 | L14: 0 | M14: 0 | N14: 0 | O14: 0 | P14: 0 | Q14: 0 | R14: 0 | S14: 0 | T14: 0
C15: NGÀNH, LĨNH VỰC | K15: =+K16+K18+K20+K22+K24+K29+K57+K66+K68 -> 14391690 | L15: =+L16+L18+L20+L22+L24+L29+L57+L66+L68 -> 4549349 | M15: =+M16+M18+M20+M22+M24+M29+M57+M66+M68 -> 7012212 | N15: =+N16+N18+N20+N22+N24+N29+N57+N66+N68 -> 0 | O15: =+O16+O18+O20+O22+O24+O29+O57+O66+O68 -> 0 | P15: =+P16+P18+P20+P22+P24+P29+P57+P66+P68 -> 0 | Q15: =+Q16+Q18+Q20+Q22+Q24+Q29+Q57+Q66+Q68+300 -> 7181489.6 | R15: =+R16+R18+R20+R22+R24+R29+R57+R66+R68 -> 14000 | S15: =+S16+S18+S20+S22+S24+S29+S57+S66+S68 -> 542637.9 | T15: =+T16+T18+T20+T22+T24+T29+T57+T66+T68 -> 732874.19 | AG15: cộng thêm 300 tr | AH15: =+#REF!-#REF! -> #REF!
A16: II | B16: I | C16: An ninh và trật tự, an toàn xã hội | K16: 639540 | L16: 0 | M16: 99580 | Q16: =Q17 -> 99580 | R16: =R17 -> 0 | S16: =S17 -> 0 | T16: =T17 -> 43388.651 | X16: =+R10+#REF! -> #REF! | AH16: =+#REF!-Q10 -> #REF!
A17: 1 | C17: Dự án Trụ sở làm việc Công an các xã, thị trấn giai đoạn 2021-2025 | D17: 25 xã, thị trấn thuộc 06 huyện và TP Thái Nguyên | F17: Kho Bạc nhà nước Thái Nguyên | G17: 7004692 | H17: 041 | I17: 2023- 2025 | J17: Nghị quyết số 04/NQ-HĐND ngày 31/3/2022; số 69/NQ-HĐND ngày 28/10/2022; Quyết định số 975/QĐ-UBND ngày 04/5/2023 | K17: 108140.7 | M17: 99580 | Q17: 99580 | S17: 0 | T17: 43388.651 | V17: Công an tỉnh | W17: Kế hoạch đầu tư công năm 2023 đã giao tại Phần G, Phụ lục VIII Quyết định số 3269/QĐ-UBND ngày 26/12/2023 và phân bổ chi tiết cho dự án khởi công mới tại Quyết định số 1076/QĐ-UBND ngày 18/5/2023 | X17: =+S10+#REF! -> #REF! | AG17: =+Q17-R17-S17-T17 -> 56191.349 | AI17: =+T17-14700 -> 28688.651
A18: IV | B18: IIa | C18: Y tế, dân số và gia đình | K18: =+K19 -> 266725 | L18: =+L19 -> 53525 | M18: =+M19 -> 185000 | N18: =+N19 -> 0 | O18: =+O19 -> 0 | P18: =+P19 -> 0 | Q18: =+Q19 -> 53536.641 | R18: =+R19 -> 0 | ... T18: =+T19 -> 0 | X18: =+T8+#REF! -> #REF! | AG18: =+Q18-R18-S18-T18 -> 53536.641
A19: 2 | B19: 1 | C19: Xây dựng Bệnh viện Y học cổ truyền tỉnh Thái Nguyên (giai đoạn I) | J19: Quyết định số 3579/QĐ-UBND ngày 31/10/2019; Quyết định số 930/QĐ-UBND ngày 31/3/2021 | K19: 266725 | L19: 53525 | M19: 185000 | Q19: 53536.641 | V19: Bệnh viện Y học cổ truyền | W19: Bổ sung thêm nguồn vốn ngân sách tỉnh để triển khai một số hạng mục cần thiết để đảm bảo hoạt động trước mắt của bệnh viện khi sang trụ sở mới. Bổ sung sử dụng nguồn đất trung hạn tại kỳ họp tháng 9/2023 | AG19: =+Q19-R19-S19-T19 -> 53536.641 | AH19: =+#REF!+#REF!+#REF!+#REF!+'8.VON DAT TANG THEM'!S42+'8.VON DAT TANG THEM'!T42 -> #REF!
A20: IV | B20: II | C20: Khoa học, công nghệ | K20: 50000 | L20: 0 | M20: 50000 | Q20: =Q21 -> 50000 | R20: =R21 -> 0 | S20: =S21 -> 0 | T20: =T21 -> 0 | X20: =+T10+#REF! -> #REF! | AG20: =+Q20-R20-S20-T20 -> 50000
A21: 2 | B21: 1 | C21: Xây dựng trại thực nghiệm của Trung tâm phát triển Khoa học và Công nghệ | J21: Nghị quyết số 150/NQ-HĐND ngày 12/8/2021 | K21: 50000 | M21: 50000 | Q21: 50000 | V21: Ban Quản lý dự án đầu tư xây dựng các công trình dân dụng và công nghiệp tỉnh | W21: =+Q21+Q26+Q27+Q28+Q31+Q33+Q34+Q44+Q45+Q48+Q50+Q52+Q63+Q67 -> 3315422 | AG21: =+Q21-R21-S21-T21 -> 50000 | AH21: =+AH19+AH20 -> #REF!
A22: VI | B22: III | C22: Văn hóa | K22: 22000 | L22: 0 | M22: 15000 | Q22: =+Q23 -> 15000 | R22: =R23 -> 0 | S22: =S23 -> 5000 | T22: =T23 -> 10000 | AG22: =+Q22-R22-S22-T22 -> 0 | AH22: =+#REF!+#REF!+#REF!+#REF!+#REF!+'8.VON DAT TANG THEM'!S42+'8.VON DAT TANG THEM'!T42 -> #REF!
A23: 3 | B23: 1 | C23: Xây dựng, mở rộng, tôn tạo di tích "Nơi thành lập cơ sở Đảng đầu tiên của Đảng bộ tỉnh Thái Nguyên năm 1936, tại xã La Bằng, huyện Đại Từ, tỉnh Thái Nguyên" | D23: Xã La Bằng | E23: - San nền diện tích khoảng 15.320m2; - Đường giao thông bê tông chiều dài 186m, mặt đường rộng 6m; - Xây mới 01 nhà đón tiếp; - Xây dựng sân hành lễ, cột cờ, lư hương, hạ giải bia di tích, cải tạo nhà truyền thống và các hạng mục phụ trợ khác. | F23: Kho bạc nhà nước Thái nguyên | G23: 7981390 | H23: 351 | I23: 2021-2024 | J23: Nghị quyết số 76/NQ-HĐND ngày 21/6/2021; Quyết định số 2487/QĐ-UBND ngày 14/10/2022 | K23: 22000 | M23: 15000 | Q23: 15000 | S23: 5000 | T23: 10000 | V23: Ban Quản lý dự án đầu tư xây dựng huyện Đại Từ | W23: Kế hoạch năm 2023 được bổ sung thêm 7.500 trđ tại NQ 88 | AG23: =+Q23-R23-S23-T23 -> 0
A24: VIII | B24: IV | C24: Thể dục, thể thao | K24: 866654 | L24: 200000 | M24: 535724 | Q24: =SUM(Q25:Q28) -> 605354 | R24: =SUM(R25:R28) -> 0 | S24: =SUM(S25:S28) -> 30100 | T24: =SUM(T25:T28) -> 97583 | AG24: =+Q24-R24-S24-T24 -> 477671 | AH24: =+AH22+AH20 -> #REF!
A25: 4 | B25: 1 | C25: Xây dựng Sân vận động tỉnh Thái Nguyên | D25: Xã Phúc Trìu, thành phố Thái Nguyên | E25: Xây mới SVĐ với quy mô 22.000 chỗ ngồi | F25: Kho bạc nhà nước tỉnh Thái Nguyên | G25: 7912689 | H25: 221 | I25: 2022 -2025 | J25: Nghị quyết số 22/NQ-HĐND ngày 19/5/2021; số 179/NQ-HĐND ngày 04/11/2021; Quyết định số 3931/QĐ-UBND ngày 09/12/2021; Nghị quyết số 68/NQ-HĐND ngày 28/10/2022; Quyết định số 2800/QĐ-UBND ngày 15/11/2022 | K25: 535992 | L25: 200000 | M25: 266062 | Q25: 335692 | S25: 30000 | T25: 97583 | V25: Ban Quản lý dự án đầu tư xây dựng các công trình dân dụng và công nghiệp tỉnh | AG25: =+Q25-R25-S25-T25 -> 208109
A26: 5 | B26: 2 | C26: Xây dựng cơ sở vật chất, huấn luyện và thi đấu môn đua thuyền | J26: Nghị quyết số 162/NQ-HĐND ngày 12/8/2021 | K26: 99662 | M26: 99662 | Q26: 99662 | V26: Ban Quản lý dự án đầu tư xây dựng các công trình dân dụng và công nghiệp tỉnh | AG26: =+Q26-R26-S26-T26 -> 99662
A27: 6 | B27: 3 | C27: Xây dựng Trung tâm thể dục thể thao và Trường phổ thông năng khiếu thể dục thể thao | J27: Nghị quyết số 162/NQ-HĐND ngày 12/8/2021 | K27: 120000 | M27: 120000 | Q27: 120000 | S27: 100 | T27: 0 | V27: Ban Quản lý dự án đầu tư xây dựng các công trình dân dụng và công nghiệp tỉnh | W27: Kế hoachj năm 2023 được giao 17.900trđ tại NQ 96. Dự án đang đề nghị điều chỉnh chủ trương đầu tư nên không có khả năng giải ngân năm 2023 | AG27: =+Q27-R27-S27-T27 -> 119900
A28: 7 | B28: 4 | C28: Xây dựng Sân vận động huyện Đại Từ (giai đoạn 1) | J28: Nghị quyết số 162/NQ-HĐND ngày 12/8/2021 | K28: 111000 | M28: 50000 | Q28: 50000 | V28: Ban Quản lý dự án đầu tư xây dựng huyện Đại Từ | AG28: =+Q28-R28-S28-T28 -> 50000
A29: X | B29: V | C29: Các hoạt động kinh tế | K29: 11351111 | L29: 4050824 | M29: 5176746 | Q29: =+Q30+Q41+Q55 -> 4701021 | R29: =+R30+R41+R55 -> 0 | S29: =+S30+S41+S55 -> 431322 | T29: =+T30+T41+T55 -> 283231 | AG29: =+Q29-R29-S29-T29 -> 3986468
A30: X.1 | B30: V.1 | C30: Nông nghiệp, lâm nghiệp, thủy lợi và thủy sản | K30: =SUM(K31:K40) -> 1441330 | L30: =SUM(L31:L40) -> 685293 | M30: =SUM(M31:M40) -> 356438 | N30: =SUM(N31:N40) -> 0 | O30: =SUM(O31:O40) -> 0 | P30: =SUM(P31:P40) -> 0 | Q30: =SUM(Q31:Q40) -> 285983 | R30: =SUM(R31:R40) -> 0 | ... T30: =SUM(T31:T40) -> 23500 | AD30: 269947 | AG30: =+Q30-R30-S30-T30 -> 259483
A31: 8 | B31: 1 | C31: Bảo vệ và phát triển rừng sản xuất, phòng hộ, đặc dụng và nâng cao năng lực Phòng cháy chữa cháy rừng tỉnh Thái Nguyên giai đoạn 2021-2025 | J31: Nghị quyết số 72/NQ-HĐND ngày 21/6/2021; Quyết định số 3217/QĐ-UBND ngày 14/10/2021 | K31: 414599 | L31: 50000 | M31: 15000 | Q31: 14545 | V31: Chi cục Kiểm lâm | W31: NĂm 2021 dự án được giao kế hoạch vốn từ nguồn XDCB TT là 454,69 triệu đồng | AG31: =+Q31-R31-S31-T31 -> 14545
A32: 9 | B32: 2 | C32: Cải tạo, nâng cấp các công trình hồ, đập trên địa bàn | J32: Nghị quyết số 145/NQ-HĐND ngày 12/8/2021 | K32: 150000 | M32: 100000 | Q32: 100000 | V32: Ban Quản lý dự án đầu tư xây dựng các công trình nông nghiệp và phát triển nông thôn | AG32: =+Q32-R32-S32-T32 -> 100000
A33: 10 | B33: 3 | C33: Dự án Bố trí ổn định dân cư tại chỗ vùng thiên tai có nguy cơ sạt lở và lũ ống, lũ quét thuộc 06 xã: Na Mao, Đức Lương, Hoàng Nông, Khôi Kỳ, Tân Linh và Ký Phú, huyện Đại Từ | J33: Nghị quyết số 145/NQ-HĐND ngày 12/8/2021 | K33: 20000 | M33: 20000 | Q33: 20000 | V33: Ban Quản lý dự án đầu tư xây dựng huyện Đại Từ | AG33: =+Q33-R33-S33-T33 -> 20000
A34: 11 | B34: 4 | C34: Dự án Khu tái định cư tập trung vùng thiên tai có nguy cơ sạt lở đất và lũ quét xã Kim Sơn, huyện Định Hóa | J34: Nghị quyết số 145/NQ-HĐND ngày 12/8/2021 | K34: 23000 | M34: 23000 | Q34: 23000 | V34: Ban Quản lý dự án đầu tư xây dựng các công trình dân dụng và công nghiệp tỉnh | AG34: =+Q34-R34-S34-T34 -> 23000
A35: 12 | B35: 5 | C35: Tu bổ xung yếu hệ thống đê, điều giai đoạn 2021-2025 (Củng cố, nâng cấp tuyến đê Chã, thị xã Phổ Yên đoạn từ Km4+800 đến K9+500) | K35: 50000 | L35: 30000 | M35: 20000 | Q35: 0 | X35: Dự án này chưa cớ Chủ trương đầu tư | AG35: =+Q35-R35-S35-T35 -> 0
A36: 13 | B36: 6 | C36: Nâng cấp đê Hà Châu chống lũ, kết hợp làm đường giao thông phục vụ phát triển dân sinh | K36: 230000 | L36: 200000 | M36: 30000 | Q36: 0 | X36: Dự án này chưa cớ Chủ trương đầu tư | AG36: =+Q36-R36-S36-T36 -> 0
A37: 14 | B37: 7 | C37: Sửa chữa cấp bách đảm bảo an toàn hồ, đạp chứa nước (Hồ Núi Cốc: Đối mối; cải tạo đập chính; sửa chữa đập phụ; thay thế cửa van tràn số 1 và số 2. Hạ du: Xây dựng cầu Đá mài (ngầm tràn số 3); nạo vét cục bộ lòng dẫn sông Công hạ du Hồ Núi Cốc; kè chống sạt lở hai bên bờ Sông Công (Thành phố Thái Nguyên, Thành phố Sông Công, thị xã Phổ Yên) | J37: Quyết định số 3233/QĐ-BNN-KH ngày 21/7/2021 | K37: 160000 | L37: 140000 | M37: 20000 | Q37: 0 | AG37: =+Q37-R37-S37-T37 -> 0
A38: 15 | B38: 8 | C38: Xử lý sạt lở cấp bách sông, suối một số tỉnh miền núi phía bắc (Kè gia cố chống sạt lở bò Sông Công đoạn qua thị trấn Hùng Sơn, huyện Đại Từ tỉnh Thái Nguyên có chiều dài khoảng 1,9 km) | J38: Quyết định số 3385/QĐ-BNN-KH ngày 21/7/2021 | K38: 120000 | L38: 100000 | M38: 20000 | Q38: 0 | AG38: =+Q38-R38-S38-T38 -> 0
A39: 16 | B39: 9 | C39: Dự án cấp nước sinh hoạt tập trung nông thôn trên địa bàn tỉnh Thái Nguyên giai đoạn 2022-2025 | D39: Huyện Phú Bình, huyện Đại Từ, huyện Phú Lương, huyện Võ Nhai, huyện Định Hóa, huyện Đồng Hỷ - tỉnh Thái Nguyên | E39: công suất thiết kế khoảng 5.735m3/ngày đêm, đáp ứng nhu cầu sử dụng nước của khoảng 10.851 hộ dân của 20 xã thuộc 06 huyện trên địa bàn tỉnh | F39: KBNN tỉnh Thái Nguyên | G39: 7986353 | H39: 311 | I39: 2022-2025 | J39: Nghị quyết số 21/NQ-HĐND ngày 16/6/2022 ;Quyết định số 602/QĐ-UBND ngày 24/3/2023 | K39: 108438 | M39: 108438 | Q39: 108438 | S39: 3000 | T39: 23500 | V39: Trung tâm NSH và VSMTNT | W39: Bổ sung mới theo NQ 24, Chưa cộng vào KH vốn giao tại NQ 199 KH năm 2023 được bổ sung thêm 10.000trđ tại NQ 88 | AG39: =+Q39-R39-S39-T39 -> 81938
B40: 10 | C40: Dự án đầu tư xây dựng dự án thành phần số 1: Sửa chữa cấp bách đảm bảo an toàn Hồ Núi Cốc và hạ du, tỉnh Thái Nguyên, thuộc dự án Sửa chữa cấp bách đảm bảo an toàn hồ, đập chứa nước | J40: Quyết định số 1421/QĐ-BNN-KH ngày 07/4/2023; số 2603/QĐ-BNN-TL ngày 29/6/2023 | K40: 165293 | L40: =+K40-O40 -> 165293 | Q40: 20000 | Y40: 20000 | AG40: =+Q40-R40-S40-T40 -> 20000 | AH40: =+S42+#REF!+#REF!+#REF!+#REF! -> #REF!
A41: X.3 | B41: V.2 | C41: Giao thông | K41: 10163512 | L41: 3530824 | M41: 4908746 | Q41: =SUM(Q42:Q54) -> 4395038 | R41: =SUM(R42:R54) -> 0 | S41: =SUM(S42:S54) -> 428272 | T41: =SUM(T42:T54) -> 256781 | AG41: =+Q41-R41-S41-T41 -> 3709985
A42: 17 | B42: 1 | C42: Tuyến đường liên kết, kết nối các tỉnh Thái Nguyên, Bắc Giang và Vĩnh Phúc | D42: Thành phố Phổ Yên và huyện Đại Từ | E42: Tổng chiều dài L=42,55Km (Tuyến chính chiều dài L=36,51Km; Tuyến nhánh chiều dài L=6,04Km). - Quy mô cụ thể: + Tuyến chính: Đoạn 1 có Bề rộng nền đường Bn = 12m đến 47m thay đổi theo từng đoạn phù hợp với quy hoạch; Đoạn 2 có Bề rộng nền đường Bn=22,5m. + Tuyến nhánh: Bề rộng nền đường Bn=22,5m. - Trên tuyến thiết kế 11 cầu, 28 hầm chui dân sinh, 191 cống ngang. | F42: Kho bạc Nhà nước Thái Nguyên | G42: 7901858 | H42: 292 | I42: 2022-2025 | J42: Nghị quyết số 26/NQ-HĐND ngày 19/5/2021; Nghị quyết số 88/NQ-HĐND ngày 08/12/2022; Quyết định số 3518/QĐ-UBND ngày 12/11/2021; số 3195/QĐ-UBND ngày 20/12/2022 | K42: 4204000 | L42: 3355403.6 | M42: 848596.39 | Q42: 646596.39 | S42: 397672 | T42: 20000 | V42: Ban Quản lý dự án đầu tư xây dựng các công trình giao thông tỉnh | W42: Kế hoạch năm 2023 được bổ sung thêm 20.000 trđ tại NQ 88 | AG42: =+Q42-R42-S42-T42 -> 228924.39 | AH42: 1083950
A43: 18 | B43: 2 | C43: Đường vành đai V đoạn qua khu vực tỉnh Thái Nguyên (Đoạn từ huyện Phú Bình nối với tỉnh Bắc Giang) | D43: Huyện Phú Bình | F43: Kho Bạc nhà nước Thái Nguyên | G43: 7908718 | H43: 292 | I43: 2022-2024 | J43: Nghị quyết số 79/NQ-HĐND ngày 21/6/2021; Quyết định số 3643/QĐ-UBND ngày 19/11/2021 | K43: 699358 | L43: 345824 | M43: 353534 | Q43: 353234.57 | S43: 30000 | T43: 30000 | V43: Ban Quản lý dự án đầu tư xây dựng các công trình giao thông tỉnh | W43: Nguyên nhân gây sai số 299,427tr được bố trí vốn CBĐT từ nguồn XDCBTT nhưng lại trừ vào trung hạn vốn ĐẤT 2 trong NQ trung hạn giao lần đầu | AG43: =+Q43-R43-S43-T43 -> 293234.57 | AH43: =+AH42-Q42 -> 437353.61
A44: 19 | B44: 3 | C44: Đường vành đai I (Đoạn Bờ Đậu Phú Lương- Hóa Thượng Đồng Hỷ) | J44: Nghị quyết số 151/NQ-HĐND ngày 12/8/2021 | K44: 1152450 | M44: 1152450 | Q44: 1152450 | S44: 200 | V44: Ban Quản lý dự án đầu tư xây dựng các công trình giao thông tỉnh | AG44: =+Q44-R44-S44-T44 -> 1152250
A45: 20 | B45: 4 | C45: Đường kết nối ĐT.265 (xã Bình Long, huyện Võ Nhai) đi Bắc Giang | J45: Nghị quyết số 151/NQ-HĐND ngày 12/8/2021 | K45: 291055 | M45: 291055 | Q45: 291055 | V45: Ban Quản lý dự án đầu tư xây dựng các công trình giao thông tỉnh | AG45: =+Q45-R45-S45-T45 -> 291055
A46: 21 | B46: 5 | C46: Đường kết nối Quốc lộ 37, Đường vành đai 5, huyện Phú Bình và thành phố Thái Nguyên (đoạn từ Cầu Xuân Phương- Cầu Mây) | J46: Nghị quyết số 151/NQ-HĐND ngày 12/8/2021 | K46: 274853 | M46: 274853 | Q46: 0 | V46: Ban Quản lý dự án đầu tư xây dựng các công trình giao thông tỉnh | AG46: =+Q46-R46-S46-T46 -> 0
A47: 22 | B47: 6 | C47: Đường nối QL3 mới (Hà Nôi- Thái Nguyên) đến Khu công nghiệp Yên Bình đoạn từ KM3+516,9 đến Km5+434,18 và ĐT261- giai đoạn II | D47: Thành phố Phổ Yên | F47: Kho Bạc nhà nước Thái Nguyên | G47: 7930380 | H47: 292 | I47: 2023-2024 | J47: Nghị quyết số 15/1NQ-HĐND ngày 12/8/2021 | K47: 82282 | M47: 82282 | Q47: 82282 | T47: 62200 | V47: Ban Quản lý dự án đầu tư xây dựng các công trình giao thông tỉnh | AG47: =+Q47-R47-S47-T47 -> 20082 | AH47: =+Q47-T47 -> 20082
A48: 23 | B48: 7 | C48: Xây dựng Cầu An Long và Đường kết nối tỉnh lộ ĐT.270 với tỉnh lộ ĐT.261 huyện Đại Từ | J48: Nghị quyết số 151/NQ-HĐND ngày 12/8/2021 | K48: 350000 | M48: 150000 | Q48: 150000 | V48: Ban Quản lý dự án đầu tư xây dựng các công trình giao thông tỉnh | AG48: =+Q48-R48-S48-T48 -> 150000
A49: 24 | B49: 8 | C49: Nâng cấp, mở rộng đường Gom đoạn từ nút giao Yên Bình đến Khu công nghiệp Yên Bình (Km0-Km2+100) | J49: Nghị quyết số 151/NQ-HĐND ngày 12/8/2021 | K49: 60500 | M49: 25578 | Q49: 25578 | T49: 17636 | V49: Ban Quản lý dự án đầu tư xây dựng các công trình giao thông tỉnh | AG49: =+Q49-R49-S49-T49 -> 7942
A50: 25 | B50: 9 | C50: Đầu tư xây dựng tuyến đường gom bên trái cao tốc Hà Nội - Thái Nguyên, đoạn từ nút giao Sông Công đến nút giao Tân Lập | J50: Nghị quyết số 151/NQ-HĐND ngày 12/8/2021 | K50: 863120 | M50: 652000 | Q50: 652000 | V50: Ban Quản lý dự án đầu tư xây dựng thành phố Thái Nguyên | AG50: =+Q50-R50-S50-T50 -> 652000
A51: 26 | B51: 10 | C51: Nâng cấp mở rộng tuyến đường từ Km31 (Quốc lộ 3) đến di tích lịch sử Quốc gia đặc biệt ATK Định Hóa (Nhà tưởng niệm Chủ tịch Hồ Chí Minh) | D51: Huyện Định Hóa | F51: Kho Bạc nhà nước Thái Nguyên | G51: 7807224 | H51: 292 | I51: 2021 - 2025 | J51: Quyết định số 3050/QĐ-UBND ngày 30/9/2020; số 3403/QĐ-UBND ngày 30/12/2022; Nghị quyết số 17/NQ-HĐND ngày 10/5/2023; Quyết định số 1834/QĐ-UBND ngày 03/8/2023 | K51: 302010 | L51: 70000 | M51: 232010 | Q51: 221510 | T51: 28583 | V51: Ban Quản lý dự án đầu tư xây dựng các công trình giao thông tỉnh | W51: Dự án đã được Hội đồng nhân dân tỉnh thông qua điều chỉnh chủ trương đầu tư dự án, điều chỉnh giảm tổng mức đầu tư tại Nghị quyết số 17/NQ-HĐND ngày 17/5/2023 | AG51: =+Q51-R51-S51-T51 -> 192927 | AH51: =+T51+#REF! -> #REF!
A52: 27 | B52: 11 | C52: Đầu tư xây dựng Cầu Quang Vinh 1, Quang Vinh 2 và hệ thống đường giao thông kết nối phường Đồng Bẩm, phường Quang Vinh và xã Cao Ngạn, thành phố Thái Nguyên | J52: Nghị quyết số 177/NQ-HĐND ngày 09/11/2021 | K52: 1528400 | M52: 373000 | Q52: 373000 | V52: Ban Quản lý dự án đầu tư xây dựng thành phố Thái Nguyên | AG52: =+Q52-R52-S52-T52 -> 373000
A53: 28 | B53: 12 | C53: Đầu tư xây dựng tuyến đường nối ĐT.261 đến ĐT.266 | D53: Thành phố Phổ Yên và huyện Phú Bình | F53: Kho Bạc nhà nước Thái Nguyên | G53: 7950620 | H53: 292 | I53: 2023 - 2025 | J53: Nghị quyết số 193/NQHĐND ngày 10/12/2021; Quyết định số 1690/QĐ-UBND ngày 20/7/2023 | K53: 392729 | M53: 392729 | Q53: 224567 | S53: 200 | T53: 21500 | V53: Ban Quản lý dự án đầu tư xây dựng các công trình giao thông tỉnh | AG53: =+Q53-R53-S53-T53 -> 202867
A54: 29 | B54: 13 | C54: Tuyến đường kết nối Quốc lộ 37 và đường tỉnh ĐT269B, tỉnh Thái Nguyên | J54: Nghị quyết số 194/NQ-HDND ngày 10/12/2021; Quyết định số 218/QĐ-UBND ngày 17/02/2023 | K54: 222765 | M54: 222765 | Q54: 222765 | S54: 200 | T54: 76862 | V54: Ban Quản lý dự án đầu tư xây dựng các công trình giao thông tỉnh | AG54: =+Q54-R54-S54-T54 -> 145703
A55: X.11 | B55: V.3 | C55: Công nghệ thông tin | K55: 20000 | L55: 0 | M55: 20000 | Q55: =Q56 -> 20000 | R55: =R56 -> 0 | S55: =S56 -> 50 | T55: =T56 -> 2950 | AG55: =+Q55-R55-S55-T55 -> 17000
A56: 30 | B56: 1 | C56: Dự án phát triển thông tin cơ sở giai đoạn 2021-2025 | J56: Nghị quyết số 168/NQ-HĐND ngày 12/8/2021 | K56: 20000 | M56: 20000 | Q56: 20000 | S56: 50 | T56: 2950 | V56: Sở Thông tin và Truyền thông | AG56: =+Q56-R56-S56-T56 -> 17000 | AH56: =+AH10-S10 -> #REF! | AI56: =+T10-AI10 -> -68917.813
A57: XI | B57: VI | C57: Hoạt động của các cơ quan quản lý nhà nước, đơn vị sự nghiệp công lập, tổ chức chính trị và các tổ chức chính trị - xã hội | K57: 845659.7 | L57: 0 | M57: 845162 | Q57: =SUM(Q58:Q65) -> 757020.9 | R57: =SUM(R58:R64) -> 14000 | S57: =SUM(S58:S65) -> 76215.901 | T57: =SUM(T58:T65) -> 108487.54 | AG57: =+Q57-R57-S57-T57 -> 558317.46 | AI57: =+AI56-AH56 -> #REF!
A58: 31 | B58: 1 | C58: Trụ sở tiếp công dân tỉnh Thái Nguyên | D58: Phường Túc Duyên, Thành phố Thái Nguyên | E58: Đầu tư xây dựng Trụ sở tiếp dân quy mô 03 tầng, diện tích xây dựng khoảng 600m2, tổng diện tích sàn 1.800m2 | F58: Kho bạc Nhà nước Thái Nguyên | G58: 7912690 | H58: 341 | I58: 2022-2023 | J58: Nghị quyết số 24/NQ-HĐND ngày 19/5/2021; Quyết định số 3005/QĐ-UBND ngày 23/9/2021 | K58: 20000 | M58: 20000 | Q58: 20000 | S58: 16000 | T58: 2700 | V58: Ban Quản lý dự án đầu tư xây dựng các công trình dân dụng và công nghiệp tỉnh | AG58: =+Q58-R58-S58-T58 -> 1300
A59: 32 | B59: 2 | C59: Trụ sở Đảng ủy khối các cơ quan tỉnh và một số cơ quan | D59: Phường Trưng Vương, Thành phố Thái Nguyên | E59: Đầu tư xây dựng khối nhà làm việc quy mô 07 tầng; diện tích xây dựng khoảng 1.400m2, tổng diện tích sàn 7.710m2 | F59: Kho bạc Nhà nước Thái Nguyên | G59: 7912692 | H59: 351 | I59: 2022-2023 | J59: Nghị quyết số 23/NQ-HĐND ngày 19/5/2021 | K59: 90000 | M59: 90000 | Q59: 90000 | S59: 29595 | T59: 40843 | V59: Ban Quản lý dự án đầu tư xây dựng các công trình dân dụng và công nghiệp tỉnh | AG59: =+Q59-R59-S59-T59 -> 19562
A60: 33 | B60: 3 | C60: Trụ sở Sở Nông nghiệp và Phát triển nông thôn và Các chi cục trực thuộc | J60: Nghị quyết số 28/NQ-HĐND ngày 19/5/2021 | K60: 64452 | M60: 64452 | Q60: 64452 | T60: 9600 | V60: Ban Quản lý dự án đầu tư xây dựng các công trình dân dụng và công nghiệp tỉnh | AG60: =+Q60-R60-S60-T60 -> 54852 | AH60: =+#REF!+#REF! -> #REF!
A61: 34 | B61: 4 | C61: Xây dựng Trụ sở làm việc khối các cơ quan tỉnh Thái Nguyên | D61: Phường Trưng Vương, Thành phố Thái Nguyên | F61: Kho bạc Nhà nước Thái Nguyên | G61: 7912687 | H61: 341 | I61: 2023-2024 | J61: Nghị quyết số 77/NQ-HĐND ngày 21/6/2021; Quyết định số 2758/QĐ-UBND ngày 11/11/2022 của UBND tỉnh | K61: 405000 | M61: 405000 | Q61: 316388 | S61: 30000 | T61: 49044.536 | V61: Ban Quản lý dự án đầu tư xây dựng các công trình dân dụng và công nghiệp tỉnh | W61: Kế hoạch đầu tư công năm 2023 được giao đầu năm là 110.778trđ, được bổ sung thành 124.807trđ tại NQ 77 và điều chỉnh giảm xuống còn 100.044,536trđ tại NQ 88 | X61: =+#REF!+300 -> #REF! | AG61: =+Q61-R61-S61-T61 -> 237343.46 | AH61: =+T61+#REF! -> #REF!
A62: 35 | B62: 5 | C62: Xây dựng mới Nhà làm việc, nhà hội trường 250 chỗ của Sở Y tế và Chi cục dân số Kế hoạch hóa gia đình | J62: Nghị quyết số 165/NQ-HĐND ngày 12/8/2021 | K62: 37000 | M62: 37000 | Q62: 37000 | S62: 50 | T62: 6300 | V62: Ban Quản lý dự án đầu tư xây dựng các công trình dân dụng và công nghiệp tỉnh | AG62: =+Q62-R62-S62-T62 -> 30650 | AH62: =+AH61-65000 -> #REF!
A63: 36 | B63: 6 | C63: Dự án Nhà Trung tâm sản xuất chương trình phát thanh, truyền hình của Đài Phát thanh - Truyền hình tỉnh | J63: Nghị quyết số 192/NQHĐND ngày 10/12/2021 | K63: 214710 | M63: 214710 | Q63: 214710 | S63: 100 | V63: Ban Quản lý dự án đầu tư xây dựng các công trình dân dụng và công nghiệp tỉnh | AG63: =+Q63-R63-S63-T63 -> 214610
A64: 37 | B64: 7 | C64: Trụ sở làm việc của Sở Giao thông vận tải tỉnh | J64: Quyết định số 3510/QĐ-UBND ngày 05/11/2020 | K64: 14497.7 | M64: 14000 | Q64: 14000 | R64: 14000 | V64: Sở Giao thông Vận tải | X64: Tăng 14 ty | AG64: =+Q64-R64-S64-T64 -> 0
A65: 38 | B65: 8 | C65: Trụ sở làm việc của Hội Liên hiệp Phụ nữ tỉnh và Trung tâm Dạy nghề 20-10 phụ nữ tỉnh Thái Nguyên | J65: Nghị quyết số 34/NQ-HĐND 20/7/2022'; Nghị quyết số 86/NQ-HĐND ngày 29/9/2023 của HĐND tỉnh | K65: 52867 | M65: 52867 | Q65: 470.9016 | S65: 470.901 | T65: 0 | V65: Ban Quản lý dự án đầu tư xây dựng các công trình dân dụng và công nghiệp | W65: Mới bổ sung vào trung hạn theo Nghị quyết 62/NQ-HĐND ngày 29/8/2022. Điều chỉnh giảm kế hoạch trung hạn tại kỳ họp tháng 9/2023, Không tiếp tục đầu tư theo Nghị quyết số 86/NQ-HĐND ngày 29/9/2023 của HĐND tỉnh. Kế hoạch ĐTC năm 2023 được giao 17.579trđ tại NQ 29 và điều chỉnh giảm về 0 trđ tại NQ 88 | AG65: =+Q65-R65-S65-T65 -> 0.000604
A66: XII | B66: VII | C66: Xã hội | K66: 350000 | L66: 245000 | M66: 105000 | Q66: =Q67 -> 105000 | R66: =R67 -> 0 | S66: =S67 -> 0 | T66: =T67 -> 0 | AG66: =+Q66-R66-S66-T66 -> 105000
A67: 39 | B67: 1 | C67: Cải tạo, nâng cấp mở rộng Trung tâm điều dưỡng người có công và người cao tuổi tỉnh Thái Nguyên (Giai đoạn 1) | J67: Nghị quyết số 165/NQ-HĐND ngày 12/8/2021 | K67: 350000 | L67: 245000 | M67: 105000 | Q67: 105000 | V67: Ban Quản lý dự án đầu tư xây dựng các công trình dân dụng và công nghiệp tỉnh | W67: =182+502 -> 684 | AG67: =+Q67-R67-S67-T67 -> 105000
A68: XIII | B68: VIII | C68: Các nhiệm vụ, chương trình, dự án khác theo quy định của pháp luật | Q68: =+Q69+Q79+Q84+Q85+Q87+Q97 -> 794677.07 | R68: =+R69+R79+R84+R85+R87 -> 0 | S68: =+S69+S79+S84+S85+S87 -> 0 | T68: =+T69+T79+T84+T85+T87+T97 -> 190184 | W68: =+Q69+Q87-T69 -> 138135 | AG68: =+Q68-R68-S68-T68 -> 604493.07
A69: 1 | B69: VIII.1 | C69: Hỗ trợ xây dựng Nông thôn mới | K69: 319000 | M69: 142000 | Q69: =+SUM(Q70:Q78) -> 200000 | T69: =+SUM(T70:T78) -> 185400 | W69: =+Q69-T69 -> 14600 | AD69: 144000 | AG69: =+Q69-R69-S69-T69 -> 14600 | AH69: =+Q68-Q69-Q87-Q97 -> 466358.07 | AI69: =+T69 -> 185400
A70: 1 | C70: Thành phố Thái Nguyên | Q70: 2507 | T70: =1000+5700 -> 6700 | W70: KH năm 2023 được bổ sung 5.700trđ tại NQ 88 | AG70: =+Q70-R70-S70-T70 -> -4193 | AH70: =+AH69+#REF! -> #REF! | AI70: =+Q69-T69+Q87 -> 138135
A71: 2 | C71: Thành phố Sông Công | Q71: 627 | T71: 0 | AG71: =+Q71-R71-S71-T71 -> 627
A72: 3 | C72: Thành phố Phổ Yên | Q72: 3133 | T72: 3500 | AG72: =+Q72-R72-S72-T72 -> -367
A73: 4 | C73: Huyện Đại Từ | Q73: 30079 | T73: 32737 | W73: KH năm 2023 được bổ sung 22.100trđ tại NQ 88 | AG73: =+Q73-R73-S73-T73 -> -2658 | AH73: =+AG73+Q91 -> 24365
A74: 5 | C74: Huyện Phú Bình | Q74: 10026 | T74: 9579 | AG74: =+Q74-R74-S74-T74 -> 447
A75: 6 | C75: Huyện Phú Lương | Q75: 9441 | T75: 7100 | AG75: =+Q75-R75-S75-T75 -> 2341 | AH75: =+Q75+Q93 -> 21988
A76: 7 | C76: Huyện Đồng Hỷ | Q76: 17379 | T76: 11700 | AG76: =+Q76-R76-S76-T76 -> 5679
A77: 8 | C77: Huyện Định Hóa | Q77: 109596 | T77: 105588 | AG77: =+Q77-R77-S77-T77 -> 4008
A78: 9 | C78: Huyện Võ Nhai | Q78: 17212 | T78: 8496 | AG78: =+Q78-R78-S78-T78 -> 8716 | AH78: 182000
A79: 2 | B79: VIII.2 | C79: Dự phòng cho các dự án đang chuẩn bị đầu tư | K79: 1389200 | L79: 100000 | M79: 388700 | Q79: 0 | AG79: =+Q79-R79-S79-T79 -> 0 | AH79: =+AH78-Q87 -> 58465
A80: 1 | C80: Trụ sở làm việc Sở Văn hóa thể thao và Du lịch, Trung tâm phát hành phim và chiếu bóng, thư viện tỉnh Thái Nguyên | K80: 48000 | M80: 48000 | Q80: 48000 | V80: BQL ĐTXD các công trình dân dụng và công nghiệp tỉnh | AG80: =+Q80-R80-S80-T80 -> 48000
A81: 2 | C81: Trụ sở làm việc của Hội Liên hiệp Phụ nữ tỉnh và Trung tâm Dạy nghề 20-10 phụ nữ tỉnh Thái Nguyên | K81: 83700 | M81: 83700 | Q81: 83700 | V81: BQL ĐTXD các công trình dân dụng và công nghiệp tỉnh | AG81: =+Q81-R81-S81-T81 -> 83700
A82: 3 | C82: Dự án Hồ chứa nước Khuôn Tát, xã Phú Đình, huyện Định Hóa | K82: 300000 | M82: 50000 | Q82: 50000 | AG82: =+Q82-R82-S82-T82 -> 50000
A83: 4 | C83: Khu nông nghiệp ứng dụng Công nghệ cao tỉnh Thái Nguyên | J83: Nghị quyết số 80/NQ-HĐND ngày 21/6/2021 | K83: 723000 | L83: 100000 | M83: 100000 | Q83: 100000 | V83: BQL dự án ĐTXD các công trình nông nghiệp & PTNT | AG83: =+Q83-R83-S83-T83 -> 100000
A84: 3 | B84: VIII.3 | C84: Dự phòng chưa phân bổ | Q84: =467498.61-1140.543 -> 466358.07 | W84: =+Q84+#REF! -> #REF! | AG84: =+Q84-R84-S84-T84 -> 466358.07 | AH84: =+Q84+#REF! -> #REF!
A85: 4 | B85: VIII.4 | C85: Số vốn còn lại giao sau khi hoàn thiện thủ tục đầu tư các dự án | W85: Trừ đi các dự án đã phân bổ chi tiết và bổ sung 9.579trđ cho DA HLH Phụ nữ | AG85: =+Q85-R85-S85-T85 -> 0 | AH85: 178312
B86: 1 | C86: Trụ sở làm việc của Hội Liên hiệp Phụ nữ tỉnh và Trung tâm Dạy nghề 20 - 10 phụ nữ tỉnh Thái Nguyên | W86: Bổ sung kế hoạch vốn | AG86: =+Q86-R86-S86-T86 -> 0 | AH86: 389119
A87: 5 | B87: VIII.5 | C87: Đối ứng thực hiện Chương trình MTQG xây dựng NTM | Q87: =+SUM(Q88:Q96) -> 123535 | W87: =+Q87+W69 -> 138135 | AG87: =+Q87-R87-S87-T87 -> 123535 | AH87: =+AH85+AH86 -> 567431
C88: Thành phố Thái Nguyên | Q88: 10616
C89: Thành phố Sông Công | Q89: 2895 | AH89: =+Q96+Q78 -> 30724
C90: Thành phố Phổ Yên | Q90: 4825
C91: Huyện Đại Từ | Q91: 27023
C92: Huyện Phú Bình | Q92: 18337
C93: Huyện Phú Lương | Q93: 12547
C94: Huyện Đồng Hỷ | Q94: 12547
C95: Huyện Định Hóa | Q95: 21233
C96: Huyện Võ Nhai | Q96: 13512
A97: 5 | B97: VIII.6 | C97: Dự án hoàn trả vốn vay, ứng từ các Quỹ | Q97: 4784 | T97: 4784 | Y97: 4784 | AC97: 4784 | AG97: =+Q97-R97-S97-T97 -> 0 | AP97: 0
C98: Đầu tư xây dựng hạ tầng kỹ thuật khu dân cư xóm Gò Cao, xã Hóa Thượng | J98: Các Quyết định số: 385/QĐ-UBND ngày 20/2/2017; 195/QĐ-UBND ngày 22/01/2019; số 3692/QĐ-UBND ngày 04/12/2018 | K98: 54225 | Q98: 4784 | T98: 4784 | W98: Dự án Khu dân cư xóm Gò Cao, năm 2020 được cấp 54.225.000000 đồng, giải ngân được 48.302.525.916 đồng; Năm 2021 chuyển nguồn từ năm 2020 là 5.922.474.084 đồng, giải ngân được 1.138.837.700 đồng, năm 2022 không được cấp tiền. Luỹ kế giải ngân đến hết năm 2022 là 49.441.363.616 đồng. | Y98: 4784 | AC98: 4784 | AG98: =+Q98-R98-S98-T98 -> 0
Q99: =+Q84-#REF! -> #REF!
Q102: =+Q21+Q26+Q27+Q28+Q33+Q34+Q40+Q44+Q45+Q48+Q50+Q52+Q63+Q67 -> 3320877
I106: =203-27 -> 176

Sheet Danh muc
B1: DANH MỤC DỰ ÁN ĐÃ ĐƯỢC BỐ TRÍ VỐN ĐẾN NĂM 2023 | L1: =+D4+M4 -> 16440361 | M1: 16814211 | N1: =+M1-L1 -> 373850
A3: STT | C3: Tên dự án | D3: Kế hoạch trung hạn 2021-2025 đã giao | E3: Kế hoạch vốn đã giao đến hết năm 2023 | F3: Kế hoạch vốn còn lại phải bố trí giai đoạn 2024-2025 | G3: Ghi chú | J3: TT | L3: TÊN DỰ ÁN | M3: Kế hoạch vốn trung hạn 2021-2025 đã giao sau điều chỉnh, bổ sung | N3: Kế hoạch vốn trung hạn 2021-2025 không tiếp tục giao | O3: Ghi chú
C4: TỔNG SỐ | D4: =+D5+D48+D220 -> 14070277 | E4: =+E5+E48 -> 7805981.8 | F4: =+F5+F48 -> 5528837.7 | L4: Tổng số | M4: =+M5+M24+M27+M46+M52 -> 2370084 | N4: =+N5+N24+N27+N46 -> 55854
C5: PHẦN VỐN TRUNG ƯƠNG | D5: =+D6+D35+D43 -> 6013430.9 | E5: =+E6+E35+E43 -> 4673857.5 | F5: =+F6+F35+F43 -> 1517230.4 | L5: Vốn XDCBTT | M5: =+SUM(M6:M23) -> 186811 | N5: =+SUM(N6:N23) -> 0
B6: A | C6: VỐN NSTW TRONG NƯỚC | D6: =+SUM(D7:D34) -> 4762261.9 | E6: =+SUM(E7:E34) -> 3243645 | F6: =+SUM(F7:F34) -> 1517230.4 | I6: 3024811.6 | J6: 1 | K6: 1 | L6: Rà phá bom mìn, vật liệu nổ còn sót lại sau chiến tranh trên địa bàn tỉnh Thái Nguyên giai đoạn 2021-2025 | M6: 20000 | O6: Chưa giao KH vốn
B7: 1 | C7: Đường Na Giang - Khe Rạc - Cao Sơn xã Vũ Chấn đi Cao Biền xã Phú Thượng, huyện Võ Nhai | D7: 14590 | E7: 14590 | F7: =+D7-E7 -> 0 | I7: =+M5+D49 -> 2650989.1 | J7: 2 | K7: 2 | L7: Mở rộng, hoàn thiện CSVC Trường THPT Trần Quốc Tuấn (giai đoạn II) | M7: 1799 | O7: Chưa giao KH vốn
B8: 2 | C8: Trường THPT Tức Tranh, huyện Phú Lương | D8: 90000 | E8: 50050 | F8: =+D8-E8 -> 39950 | I8: =+I6-I7 -> 373822.5 | J8: 3 | K8: 3 | L8: Xây dựng Nhà lớp học 16 phòng, Nhà hiệu bộ trường THPT Lương Ngọc Quyến | M8: 29850 | O8: Chưa giao KH vốn
B9: 3 | C9: Xây dựng và mua sắm trang thiết bị cho Trung tâm pháp y tỉnh Thái Nguyên | D9: 5885 | E9: 5885 | F9: =+D9-E9 -> 0 | J9: 4 | K9: 4 | L9: Xây dựng Nhà lớp học 16 phòng trường THPT Sông Công | M9: 10000 | O9: Chưa giao KH vốn
B10: 4 | C10: Bệnh viện Y học cổ truyền tỉnh Thái Nguyên (giai đoạn I) | D10: 53525 | E10: 53525 | F10: =+D10-E10 -> 0 | J10: 5 | K10: 5 | L10: Xây dựng Nhà lớp học 15 phòng Trường THPT Định Hóa | M10: 10000 | O10: Chưa giao KH vốn
B11: 5 | C11: Xây dựng mở rộng, nâng cấp Bệnh viện A Thái Nguyên | D11: 130000 | E11: 90000 | F11: =+D11-E11 -> 40000 | J11: 6 | K11: 6 | L11: Xây dựng Nhà lớp học, phòng học bộ môn, phòng tổ chuyên môn Trường THPT Đại từ | M11: 13000 | O11: Chưa giao KH vốn
B12: 6 | C12: Tu bổ, tôn tạo di tích đền thờ Lý Nam Đế (đền Mục) xã Tiên Phong- thị xã Phổ Yên- tỉnh Thái Nguyên | D12: 14755 | E12: 14755 | F12: =+D12-E12 -> 0 | J12: 7 | K12: 7 | L12: Xây dựng Nhà lớp học bộ môn, thư viện Trường THPT Phổ Yên | M12: 5000 | O12: Chưa giao KH vốn
B13: 7 | C13: Xây dựng Sân vận động Thái Nguyên | D13: 200000 | E13: 200000 | F13: =+D13-E13 -> 0 | J13: 8 | K13: 8 | L13: Xây dựng Nhà đa năng, nhà lớp học 6 phòng Trường THPT Hoàng Quốc Việt | M13: 10000 | O13: Chưa giao KH vốn
B14: 8 | C14: Đầu tư tổng thể bố trí ổn định dân cư vùng bán ngập Hồ Núi Cốc, tỉnh Thái Nguyên. Hạng mục: Đầu tư xây dựng kết cấu hạ tầng, ổn định dân cư tại các xã Phúc Tân, Lục Ba, Vạn Thọ, Tân Thái, Bình Thuận | D14: 27887 | E14: 26713 | G14: Không còn nhiệm vụ chi | J14: 9 | K14: 9 | L14: Xây dựng Nhà đa năng Trường THPT Lưu Nhân Chú | M14: 6000 | O14: Chưa giao KH vốn
B15: 9 | C15: Hồ chứa nước Vân Hán, xã Văn Hán, huyện Đồng Hỷ, tỉnh Thái Nguyên | D15: 29916 | E15: 29916 | F15: =+D15-E15 -> 0 | J15: 10 | K15: 10 | L15: Xây dựng Nhà đa năng Trường THPT Trần Phú, Huyện Võ Nhai | M15: 6000 | O15: Chưa giao KH vốn
B16: 10 | C16: Xây dựng công trình Hệ thống đường lâm nghiệp phục vụ sản xuất, phát triển, bảo vệ, phòng chống cháy rừng tỉnh Thái Nguyên (giai đoạn I) | D16: 5323.86 | E16: 5111.39 | G16: Không còn nhiệm vụ chi | J16: 11 | K16: 11 | L16: Xây dựng Nhà đa năng Trường THPT Khánh Hòa | M16: 6000 | O16: Chưa giao KH vốn
B17: 11 | C17: Trồng rừng sản xuất, phòng hộ, xây dựng Vườn cây Bác Hồ tại ATK và nâng cao năng lực phòng cháy, chữa cháy rừng tỉnh Thái Nguyên giai đoạn 2016-2020. | D17: 1272.03 | E17: 1272 | F17: =+D17-E17 -> 0.03 | J17: 12 | K17: 12 | L17: Xây dựng nền tảng tích hợp dữ liệu, điều hành tập trung và phát triển hệ thống chuyên ngành y tế tỉnh Thái Nguyên, giai đoạn 2021-2025 | M17: 40000 | O17: Chưa giao KH vốn
B18: 12 | C18: Khu nông nghiệp ứng dụng Công nghệ cao Thái Nguyên | D18: 100000 | E18: 0 | F18: =+D18-E18 -> 100000 | J18: 13 | K18: 13 | L18: Sửa chữa, nâng cấp đập Pác Tác, xã Phương Giao, huyện Võ Nhai | M18: 2584 | O18: Chưa giao KH vốn
B19: 13 | C19: Bảo vệ và phát triển rừng sản xuất, phòng hộ, đặc dụng và nâng cao năng lực phóng cháy, chữa cháy rừng tỉnh Thái Nguyên giai đoạn 2021-2025 | D19: 50000 | E19: 29000 | F19: =+D19-E19 -> 21000 | J19: 14 | K19: 14 | L19: Xây dựng cơ sở hạ tầng thiết yếu phục vụ di dân, tái định cư xóm Yên Thái, xã Tân Thái, huyện Đại Từ | M19: 9947 | O19: Chưa giao KH vốn
B20: 14 | C20: Đường Giang Tiên - Phú Đô - Núi Phấn, huyện Phú Lương | D20: 14946 | E20: 14946 | F20: =+D20-E20 -> 0 | J20: 15 | K20: 15 | L20: Khu nông nghiệp ứng dụng công nghệ cao Thái Nguyên | M20: 100 | O20: Chưa giao KH vốn
B21: 15 | C21: Nâng cấp đường Hóa Thượng-Hòa Bình (Nâng cấp thành đường ĐT.273) | D21: 24919 | E21: 24919 | F21: =+D21-E21 -> 0 | J21: 16 | K21: 16 | L21: Xây dựng Bến xe khách phía Nam thành phố Thái Nguyên; Bến xe khách thị xã Phổ Yên; Bến xe khách huyện Phú Bình; Bến xe khách huyện Đại Từ theo hình thức đối tác công tư (Hợp đồng BOO) | M21: 1531 | O21: Chưa giao KH vốn
B22: 16 | C22: Đường nối từ QL3 mới (Hà Nội - Thái Nguyên) đến Khu công nghiệp Yên Bình I (đoạn từ nút giao Yên Bình đến Km1+631,8m) | D22: 57052 | E22: 57052 | F22: =+D22-E22 -> 0 | J22: 17 | K22: 17 | L22: Trụ sở nhà làm việc Hạt Kiểm lâm Phú Bình | M22: 5000 | O22: Chưa giao KH vốn
B23: 17 | C23: Nâng cấp mở rộng tuyến đường từ Km31 (Quốc lộ 3) đến di tích lịch sử Quốc gia đặc biệt ATK Định Hóa (Nhà tưởng niệm Chủ tịch Hồ Chí Minh) | D23: 65476 | E23: 65476 | F23: =+D23-E23 -> 0 | J23: 18 | K23: 18 | L23: Xây dựng nhà đa năng Trường Chính trị tỉnh. | M23: 10000 | O23: Dự kiến không tiếp tục đầu tư
B24: 18 | C24: Đường giao thông liên xã Tràng Xá - Phương Giao, huyện Võ Nhai tỉnh Thái Nguyên kết nối với huyện Bắc Sơn tỉnh Lạng Sơn | D24: 31791 | E24: 31791 | F24: =+D24-E24 -> 0 | L24: Vốn xổ số kiến thiết | M24: =+M25+M26 -> 12000 | N24: =+N25+N26 -> 0 | O24: Chưa giao KH vốn
B25: 19 | C25: Nâng cấp đường Cù Vân - An Khánh - Phúc Hà, tỉnh Thái Nguyên | D25: 18600 | E25: 13600 | F25: =+D25-E25 -> 5000 | J25: 19 | K25: 1 | L25: Xây dựng Nhà đa năng Trường Trung học phổ thông Điềm Thụy, huyện Phú Bình | M25: 6000 | O25: Chưa giao KH vốn
B26: 20 | C26: Đường Thắng Lợi kéo dài thành phố Sông Công | D26: 24250 | E26: 24250 | F26: =+D26-E26 -> 0 | J26: 20 | K26: 2 | L26: Xây dựng Nhà đa năng Trường Trung học phổ thông Trần Quốc Tuấn | M26: 6000 | O26: Chưa giao KH vốn
B27: 21 | C27: Cải tạo, nâng cấp đường ĐT.261 đoạn từ Km1+00 đến Km20+00, tỉnh Thái Nguyên | D27: 197060 | E27: 194468 | F27: =+D27-E27 -> 2592 | L27: Vốn thu tiền sử dụng đất cấp tỉnh quản lý 2 | M27: =+SUM(M28:M40) -> 2171020 | N27: =+SUM(N28:N40) -> 0 | O27: Chưa giao KH vốn
B28: 22 | C28: Đường vành đai V đoạn qua khu vực tỉnh Thái Nguyên (Đoạn từ huyện Phú Bình nối với tỉnh Bắc Giang) | D28: 273174 | E28: 247933 | F28: =+D28-E28 -> 25241 | J28: 21 | K28: 1 | L28: Xây dựng trại thực nghiệm của Trung tâm phát triển Khoa học và Công nghệ | M28: 50000 | O28: Chưa giao KH vốn
B29: 23 | C29: Tuyến đường liên kết, kết nối các tỉnh Thái Nguyên, Bắc Giang và Vĩnh Phúc | D29: 3115000 | E29: 1951945.1 | F29: =+D29-E29 -> 1163054.9 | J29: 22 | K29: 2 | L29: Xây dựng cơ sở vật chất, huấn luyện và thi đấu môn đua thuyền | M29: 99662 | O29: Chưa giao KH vốn
B30: 24 | C30: Đường du lịch ven hồ Núi Cốc nối tuyến bờ Bắc - Nam (3km đường + xây mới 2 cầu) | D30: 22581 | E30: 22581 | F30: =+D30-E30 -> 0 | J30: 23 | K30: 3 | L30: Xây dựng Trung tâm thể dục thể thao và Trường phổ thông năng khiếu thể dục thể thao | M30: 120000 | O30: Chưa giao KH vốn
B31: 25 | C31: Đầu tư dự án về chuyển đổi số | D31: 99952 | E31: 713.485 | F31: =+D31-E31 -> 99238.515 | J31: 24 | K31: 4 | L31: Xây dựng Sân vận động huyện Đại Từ (giai đoạn 1) | M31: 50000 | O31: Chưa giao KH vốn
B32: 26 | C32: Đầu tư hiện đại hóa kỹ thuật, công nghệ phục vụ nhiệm vụ chính trị, sự nghiệp phát thanh truyền hình tỉnh Thái Nguyên | D32: 50000 | E32: 28845.991 | F32: =+D32-E32 -> 21154.009 | J32: 25 | K32: 5 | L32: Dự án Bố trí ổn định dân cư tại chỗ vùng thiên tai có nguy cơ sạt lở và lũ ống, lũ quét thuộc 06 xã: Na Mao, Đức Lương, Hoàng Nông, Khôi Kỳ, Tân Linh và Ký Phú, huyện Đại Từ | M32: 20000 | O32: Chưa giao KH vốn
B33: 27 | C33: Trung tâm Bảo trợ xã hội tỉnh Thái Nguyên | D33: 10940 | E33: 10940 | F33: =+D33-E33 -> 0 | J33: 26 | K33: 6 | L33: Dự án Khu tái định cư tập trung vùng thiên tai có nguy cơ sạt lở đất và lũ quét xã Kim Sơn, huyện Định Hóa | M33: 23000 | O33: Chưa giao KH vốn
B34: 28 | C34: Nâng cấp cải tạo cơ sở cai nghiện đa chức năng tỉnh Thái Nguyên | D34: 33367 | E34: 33367 | F34: =+D34-E34 -> 0 | J34: 27 | K34: 7 | L34: Tu bổ xung yếu hệ thống đê, điều giai đoạn 2021-2025 (Củng cố, nâng cấp tuyến đê Chã, thị xã Phổ Yên đoạn từ Km4+800 đến K9+500) | M34: 20000 | O34: Dự kiến không giao
B35: B | C35: VỐN ODA (chưa bao gồm bội chi NSĐP) | D35: =+SUM(D36:D42) -> 976169 | E35: =+SUM(E36:E42) -> 1155212.5 | J35: 28 | K35: 8 | L35: Nâng cấp đê Hà Châu chống lũ, kết hợp làm đường giao thông phục vụ phát triển dân sinh | M35: 30000 | O35: Dự kiến không giao
B36: 1 | C36: Hệ thống thoát nước và xử lý nước thải khu trung tâm phía Nam Thành phố Thái Nguyên | D36: 285829 | E36: 285828.77 | F36: 0 | J36: 29 | K36: 9 | L36: Sửa chữa cấp bách đảm bảo an toàn hồ, đạp chứa nước (Hồ Núi Cốc: Đối mối; cải tạo đập chính; sửa chữa đập phụ; thay thế cửa van tràn số 1 và số 2. Hạ du: Xây dựng cầu Đá mài (ngầm tràn số 3); nạo vét cục bộ lòng dẫn sông Công hạ du Hồ Núi Cốc; kè chống sạt lở hai bên bờ Sông Công (Thành phố Thái Nguyên, Thành phố Sông Công, thị xã Phổ Yên) | M36: 20000 | O36: Dự kiến không giao
B37: 2 | C37: Dự án Hệ thống thoát nước và xử lý nước thải Thành phố Thái Nguyên | D37: 14153 | E37: 14153 | F37: 0 | J37: 30 | K37: 10 | L37: Xử lý sạt lở cấp bách sông, suối một số tỉnh miền núi phía bắc (Kè gia cố chống sạt lở bò Sông Công đoạn qua thị trấn Hùng Sơn, huyện Đại Từ tỉnh Thái Nguyên có chiều dài khoảng 1,9 km) | M37: 20000 | O37: Dự kiến không giao
B38: 3 | C38: Chương trình mở rộng quy mô vệ sinh và nước sạch nông thôn tỉnh Thái Nguyên | D38: 52890 | E38: 47195 | F38: 0 | J38: 31 | K38: 11 | L38: Đường vành đai I (Đoạn Bờ Đậu Phú Lương- Hóa Thượng Đồng Hỷ) | M38: 1152450 | O38: Chưa giao KH vốn
B39: 4 | C39: Sữa chữa và nâng cao an toàn đập (WB8) | D39: 35300 | E39: 35299 | F39: 0 | J39: 32 | K39: 12 | L39: Đường kết nối ĐT.265 (xã Bình Long, huyện Võ Nhai) đi Bắc Giang | M39: 291055 | O39: Chưa giao KH vốn
B40: 5 | C40: Tăng cường quản lý đất đai và cơ sở dữ liệu đất đai tỉnh Thái Nguyên | D40: 40396 | E40: 75932.73 | G40: Theo số thực tế giao | J40: 33 | K40: 13 | L40: Đường kết nối Quốc lộ 37, Đường vành đai 5, huyện Phú Bình và thành phố Thái Nguyên (đoạn từ Cầu Xuân Phương- Cầu Mây) | M40: 274853 | O40: Dự án không tiếp tục đầu tư theo Nghị quyết số 62/NQ-HĐND ngày 29/8/2022
B41: 6 | C41: Phát triển tổng hợp đô thị động lực - thành phố Thái Nguyên | D41: 337366 | E41: 378763 | G41: Theo số thực tế giao | J41: 34 | K41: 14 | L41: Xây dựng Cầu An Long và Đường kết nối tỉnh lộ ĐT.270 với tỉnh lộ ĐT.261 huyện Đại Từ | M41: 150000 | O41: Chưa giao KH vốn
B42: 7 | C42: Chương trình đô thị miền núi phía Bắc thành phố Thái Nguyên - Giai đoạn 2 | D42: 210235 | E42: 318041 | G42: Theo số thực tế giao | J42: 35 | K42: 15 | L42: Đầu tư xây dựng tuyến đường gom bên trái cao tốc Hà Nội - Thái Nguyên, đoạn từ nút giao Sông Công đến nút giao Tân Lập | M42: 652000 | O42: Chưa giao KH vốn
B43: C | C43: VỐN CHƯƠNG TRÌNH PHỤC HỒI | D43: =+SUM(D44:D47) -> 275000 | E43: =+SUM(E44:E47) -> 275000 | J43: 36 | K43: 16 | L43: Đầu tư xây dựng Cầu Quang Vinh 1, Quang Vinh 2 và hệ thống đường giao thông kết nối phường Đồng Bẩm, phường Quang Vinh và xã Cao Ngạn, thành phố Thái Nguyên | M43: 373000 | O43: Chưa giao KH vốn
B44: 1 | C44: Dự án Trung tâm điều dưỡng và Phục hồi chức năng tâm thần kinh Thái Nguyên | D44: 70000 | E44: 70000 | J44: 37 | K44: 17 | L44: Dự án Nhà Trung tâm sản xuất chương trình phát thanh, truyền hình của Đài Phát thanh - Truyền hình tỉnh | M44: 214710 | O44: Chưa giao KH vốn
B45: 2 | C45: Dự án đầu tư cải tạo, nâng cấp, mở rộng cơ sở vật chất và mua sắm trang thiết bị cho Trung tâm kiểm soát bệnh tật (CDC) tỉnh Thái Nguyên | D45: 30000 | E45: 30000 | J45: 38 | K45: 18 | L45: Cải tạo, nâng cấp mở rộng Trung tâm điều dưỡng người có công và người cao tuổi tỉnh Thái Nguyên (Giai đoạn 1) | M45: 105000 | O45: Chưa giao KH vốn
B46: 3 | C46: Dự án đầu tư xây mới, cải tạo, nâng cấp và mua sắm trang thiết bị cho 04 bệnh viện đa khoa, Trung tâm Y tế tuyến huyện, tỉnh Thái Nguyên | D46: 163000 | E46: 163000 | L46: Vốn thu tiền sử dụng đất cấp tỉnh quản lý 1 | M46: =+SUM(M47:M50) -> 0 | N46: =+SUM(N47:N50) -> 55854
B47: 4 | C47: Dự án đầu tư xây mới 03 Trạm Y tế tuyến xã, tỉnh Thái Nguyên | D47: 12000 | E47: 12000 | J47: 39 | K47: 1 | L47: Dự án nâng cấp, cải tạo tuyến đường từ Ngã tư Thanh Xuyên đi đê Chã, thị xã Phổ Yên | N47: 16271 | O47: Không tiếp tục bố trí vốn từ ngân sách tỉnh
C48: PHẦN VỐN NGÂN SÁCH ĐỊA PHƯƠNG | D48: =+D49+D170+D182+D197 -> 7153398.7 | E48: =+E49+E170+E182+E197 -> 3132124.3 | F48: =+F49+F170+F182+F197 -> 4011607.3 | J48: 40 | K48: 2 | L48: Dự án xây dựng tuyến đường từ Quốc lộ 3 cũ đi tổ dân phố Kim Thái, Phường Ba Hàng, thị xã Phổ Yên | N48: 11656 | O48: Không tiếp tục bố trí vốn từ ngân sách tỉnh
B49: D | C49: VỐN XDCBTT | D49: =+SUM(D50:D169) -> 2464178.1 | E49: =+SUM(E50:E169) -> 1752727.3 | F49: =+SUM(F50:F169) -> 701983.72 | I49: =+D49+M5 -> 2650989.1 | J49: 41 | K49: 3 | L49: Dự án xây dựng tuyến đường từ Quốc lộ 3 cũ (Ngã tư Nam Tiến) đi trung tâm văn hóa xã Nam Tiến, thị xã Phổ Yên | N49: 16271 | O49: Không tiếp tục bố trí vốn từ ngân sách tỉnh
A50: 1 | B50: 1 | C50: Sở Chỉ huy A2/Bộ Chỉ huy quân sự tỉnh | D50: 13525 | E50: 8525 | F50: =+D50-E50 -> 5000 | I50: 2631677 | J50: 42 | K50: 4 | L50: Dự án nâng cấp, cải tạo tuyến đường từ Quốc lộ 3 cũ đi Viện Quân y 91, thị xã Phổ Yên | N50: 11656 | O50: Không tiếp tục bố trí vốn từ ngân sách tỉnh
A51: 2 | B51: 2 | C51: Trung tâm huấn luyện dự bị động viên - Ban Chỉ huy quân sự tỉnh Thái Nguyên | D51: 1607 | E51: 1607 | F51: =+D51-E51 -> 0 | I51: =+I49-I50 -> 19312.1 | J51: 43 | K51: 5 | L51: Dự án xây dựng quần thể khu văn hóa- thể thao- Công viên cây xanh thị xã Phổ Yên | O51: Dự án không tiếp tục đầu tư theo Nghị quyết số 24/NQ-HĐND ngày 16/6/2022
A52: 3 | B52: 3 | C52: Xây dựng Ban Chỉ huy quân sự cấp xã năm 2020 | D52: 1955 | E52: 1705 | G52: Không còn nhiệm vụ chi | L52: Nguồn thu tiền thuê đất nộp một lần của các nhà đầu tư | M52: =+M53 -> 253
A53: 4 | B53: 4 | C53: Đường Na Giang- Khe Rạc- Cao Sơn xã Vũ Chấn đi Cao Biền xã Phú Thượng, huyện Võ Nhai | D53: 13888 | E53: 13888 | F53: =+D53-E53 -> 0 | J53: 44 | K53: 1 | L53: Xây dựng bổ sung đường dây điện và trạm cắt 35KV cấp điện tạm thời 14 nhà máy | M53: 253 | O53: Chưa giao KH vốn
A54: 5 | B54: 5 | C54: Doanh trại Ban Chỉ huy quân sự thị xã Phổ Yên - Giai đoạn 3 | D54: 1500 | E54: 1500 | F54: =+D54-E54 -> 0
A55: 6 | B55: 6 | C55: Di chuyển Đại đội kho C29 (ngân sách địa phương thực hiện giải phóng mặt bằng) | D55: 19562 | E55: 9822.216 | F55: =+D55-E55 -> 9739.784
A56: 7 | B56: 7 | C56: Xây dựng trụ sở Ban Chỉ huy quân sự cấp xã giai đoạn 2021-2025 | D56: 40000 | E56: =100+5900 -> 6000 | F56: =+D56-E56 -> 34000 | G56: Đã bao gồm phần vốn giao sau hoàn thiện thủ tục đầu tư
A57: 8 | B57: 8 | C57: Rà phá bom mìn, vật liệu nổ còn sót lại sau chiến tranh trên địa bàn tỉnh Thái Nguyên giai đoạn 2021-2025 | D57: 20000 | E57: 50 | F57: =+D57-E57 -> 19950
A58: 9 | B58: 9 | C58: Dự án cải tạo căn cứ chiến đấu 1, xã Phú Đô, huyện Phú Lương, tỉnh Thái Nguyên | D58: 200 | E58: 200 | F58: =+D58-E58 -> 0
A59: 10 | B59: 10 | C59: Đồn Công an và Đội Cảnh sát phòng cháy, chữa cháy và cứu nạn, cứu hộ Khu công nghiệp Yên Bình | D59: 20253 | E59: 20253 | F59: =+D59-E59 -> 0
A60: 11 | B60: 11 | C60: Trụ sở làm việc Công an tỉnh Thái Nguyên | D60: 6006 | E60: 6006 | F60: =+D60-E60 -> 0
A61: 12 | B61: 12 | C61: Trụ sở Phòng cánh sát phòng cháy, chữa cháy và cứu nạn, cứu hộ Công an tỉnh | D61: 20000 | E61: 354.67 | F61: =+D61-E61 -> 19645.33
A62: 13 | B62: 13 | C62: Trường THPT Chuyên Thái Nguyên | D62: 13176 | E62: 12915 | G62: Không còn nhiệm vụ chi
A63: 14 | B63: 14 | C63: Mở rộng, nâng quy mô Trường PTDTNT THCS Nguyễn Bỉnh Khiêm | D63: 7202 | E63: 7202 | F63: =+D63-E63 -> 0
A64: 15 | B64: 15 | C64: Mở rộng, nâng quy mô Trường phổ thông dân tộc nội trú THCS Phú Lương | D64: 4306 | E64: 4037 | G64: Không còn nhiệm vụ chi
A65: 16 | B65: 16 | C65: Mở rộng, nâng quy mô Trường phổ thông dân tộc nội trú THCS Đại Từ | D65: 5147 | E65: 3410 | F65: =+D65-E65 -> 1737
A66: 17 | B66: 17 | C66: Mở rộng, nâng quy mô Trường phổ thông dân tộc nội trú tỉnh | D66: 37399 | E66: 33519 | F66: =+D66-E66 -> 3880
A67: 18 | B67: 18 | C67: Trường Trung cấp nghề giao thông vận tải | D67: 812 | E67: 812 | F67: =+D67-E67 -> 0
A68: 19 | B68: 19 | C68: Mở rộng, nâng quy mô Trường phổ thông dân tộc nội trú THCS Đồng Hỷ | D68: 11433 | E68: 11433 | F68: =+D68-E68 -> 0
A69: 20 | B69: 20 | C69: Chương trình phát triển giáo dục trung học giai đoạn 2 | D69: 763 | E69: 643 | G69: Không còn nhiệm vụ chi
A70: 21 | B70: 21 | C70: Giáo dục trung học cơ sở khu vực khó khăn nhất giai đoạn II | D70: 1008 | E70: 40 | G70: Không còn nhiệm vụ chi
A71: 22 | B71: 22 | C71: Trường phổ thông dân tộc nội trú THCS Định Hóa tỉnh Thái Nguyên | D71: 15102 | E71: 15102 | F71: =+D71-E71 -> 0
A72: 23 | B72: 23 | C72: Xây dựng Trường THPT Đội Cấn, huyện Đại từ | D72: 77621 | E72: 81642 | G72: Do điều chỉnh cuổi năm
A73: 24 | B73: 24 | C73: Xây dựng Trường THPT Lý Nam Đế, thị xã Phổ Yên | D73: 23253 | E73: 23252.914 | F73: =+D73-E73 -> 0.086
A74: 25 | B74: 25 | C74: Trường phổ thông dân tộc nội trú Định Hóa, tỉnh Thái Nguyên (giai đoạn 2) | D74: 30000 | E74: 4500 | F74: =+D74-E74 -> 25500
A75: 26 | B75: 26 | C75: Đầu tư hoàn thiện cơ sở vật chất Trường Trung cấp nghề dân tộc nội trú tỉnh Thái Nguyên (Xây dựng Nhà KTX, nhà ăn, nhà đa năng) | D75: 30000 | E75: 100 | F75: =+D75-E75 -> 29900
A76: 27 | B76: 27 | C76: Xây dựng Nhà học bộ môn, phòng học Trường THPT Lương Phú | D76: 7500 | E76: =50+1075 -> 1125 | F76: =+D76-E76 -> 6375 | G76: Đã bao gồm phần vốn giao sau hoàn thiện thủ tục đầu tư
A77: 28 | B77: 28 | C77: Xây dựng và mua sắm trang thiết bị cho Trung tâm pháp y | D77: 30292 | E77: 30292 | F77: =+D77-E77 -> 0
A78: 29 | B78: 29 | C78: Xây dựng Bệnh viện Y học cổ truyền tỉnh Thái Nguyên (giai đoạn I) | D78: 85000 | E78: 79100 | F78: =+D78-E78 -> 5900
A79: 30 | B79: 30 | C79: Nâng cấp Bệnh viện Tâm thần Thái Nguyên | D79: 25000 | E79: 3750 | F79: =+D79-E79 -> 21250
A80: 31 | B80: 31 | C80: Đầu tư xây dựng 3 trạm y tế xã: La Hiên huyện Võ Nhai; Nhã Lộng, Tân Hòa, huyện Phú Bình | D80: 13000 | E80: 50 | F80: =+D80-E80 -> 12950
A81: 32 | B81: 32 | C81: Khoa khám chữa bệnh, Bệnh viện Mắt Thái Nguyên | D81: 22000 | E81: 100 | F81: =+D81-E81 -> 21900
A82: 33 | B82: 33 | C82: Đầu tư xây dựng phù điêu tại quảng trường Võ Nguyên Giáp, thành phố Thái Nguyên | D82: 8866 | E82: 8866 | F82: =+D82-E82 -> 0
A83: 34 | B83: 34 | C83: Quảng trường Võ Nguyên Giáp thành phố Thái Nguyên | D83: 5000 | E83: 3500 | F83: =+D83-E83 -> 1500
A84: 35 | B84: 35 | C84: Đền Lục Giáp, xã Đắc Sơn, thị xã Phổ Yên | D84: 19000 | E84: 19000 | F84: =+D84-E84 -> 0
A85: 36 | B85: 36 | C85: Tu bổ, tôn tạo di tích đền thờ Lý Nam Đế xã Tiên Phong- huyện Phổ Yên- tỉnh Thái Nguyên | D85: 35212 | E85: 35212 | F85: =+D85-E85 -> 0
A86: 37 | B86: 37 | C86: Cải tạo, sửa chữa Nhà tưởng niệm Chủ tịch Hồ Chí Minh, (ATK Định Hóa), xã Phú Đình, huyện Định Hóa | D86: 20000 | E86: 10000 | F86: =+D86-E86 -> 10000
A87: 38 | B87: 38 | C87: Tu bổ di tích kiến trúc nghệ thuật quốc gia Đình Xuân La, xã Xuân Phương, huyện Phú Bình | D87: 10000 | E87: 1500 | F87: =+D87-E87 -> 8500
A88: 39 | B88: 39 | C88: Dự án xây dựng quần thể khu văn hóa- thể thao- công viên cây xanh thị xã Phổ Yên | D88: 51400 | E88: 51400 | F88: =+D88-E88 -> 0
... A91: 42 | B91: 42 | C91: Tăng cường quản lý đất đai và cơ sở dữ liệu đất đai tỉnh Thái Nguyên | D91: 11475 | E91: 7975 | F91: =+D91-E91 -> 3500
A92: 43 | B92: 43 | C92: Sửa chữa, nâng cấp hồ Đồng Xiền, xã Yên Lạc; đập Núi Phấn xã Động Đạt, huyện Phú Lương | D92: 366 | E92: 280 | G92: Không còn nhiệm vụ chi
A93: 44 | B93: 44 | C93: Kè chống sạt lở bờ sông bảo vệ khu dân cư tại vị trí xóm Soi 2, xã Úc Kỳ, huyện Phú Bình | D93: 112 | E93: 112 | F93: =+D93-E93 -> 0
A94: 45 | B94: 45 | C94: Đường cứu hộ cứu nạn trong vùng mưa lũ xã Động Đạt, huyện Phú Lương | D94: 3864 | E94: 3864 | F94: =+D94-E94 -> 0
A95: 46 | B95: 46 | C95: Kè chống xói lở bờ sông, bảo vệ khu dân cư tại các vị trí xóm Trại, xóm Múc, xã Úc Kỳ, huyện Phú Bình | D95: 17154 | E95: 17154 | F95: =+D95-E95 -> 0
A96: 47 | B96: 47 | C96: Tuyến đê Hà Châu (đoạn từ K3+500 đến K3+700 và đoạn từ K4+950 đến K5+350) | D96: 456 | E96: 456 | F96: =+D96-E96 -> 0
A97: 48 | B97: 48 | C97: Công trình thuỷ lợi hồ Nước Hai huyện Phổ Yên | D97: 866 | E97: 60 | G97: Không còn nhiệm vụ chi
A98: 49 | B98: 49 | C98: Xây dựng cống lấy nước cung cấp nước thô cho Nhà máy nước sạch Yên Bình | D98: 1683 | E98: 1648.416 | G98: Không còn nhiệm vụ chi
A99: 50 | B99: 50 | C99: Xây mới cống số 1, số 6 đê Chã, cống số 8 đê sông Công | D99: 2665 | E99: 2254 | G99: Không còn nhiệm vụ chi
A100: 51 | B100: 51 | C100: Xử lý cấp bách đoạn đê xung yếu tuyến đê Hà Châu (đoạn từ Km8+600- Km13+700) | D100: 3440 | E100: 3440 | F100: =+D100-E100 -> 0
A101: 52 | B101: 52 | C101: Cải tạo, nâng cấp tuyến đê Mỏ Bạch kết hợp làm đường giao thông vào trường Đại học Nông Lâm và Trung tâm KTX Sinh viên Đại học Thái Nguyên | D101: 1174 | E101: 1174 | F101: =+D101-E101 -> 0
A102: 53 | B102: 53 | C102: Kè Xuân Vinh, xã Trung Thành, huyện Phổ Yên | D102: 160 | E102: 29 | G102: Không còn nhiệm vụ chi
A103: 54 | B103: 54 | C103: Kè xóm Soi, huyện Phổ Yên | D103: 2606 | E103: 2255 | G103: Không còn nhiệm vụ chi
...

Sheet Tong so du an
E2: 257 | F2: =+E2-E3 -> 54
C3: TÊN DỰ ÁN | D3: =+COUNTA(D5:D226) -> 203 | E3: =+B15+B20+B59+B61+B72+B81+B87+B89+B136+B139+B171+B183+B188+B190+B196+B198+B201+B221+B226 -> 203 | F3: =+COUNTA(E5:E226) -> 54 | H3: =+D3-213 -> -10
C4: Quốc phòng | H4: 1 | I4: Đường Na Giang - Khe Rạc - Cao Sơn xã Vũ Chấn đi Cao Biền xã Phú Thượng, huyện Võ Nhai
A5: 1 | B5: 1 | C5: Đường Na Giang - Khe Rạc - Cao Sơn xã Vũ Chấn đi Cao Biền xã Phú Thượng, huyện Võ Nhai | D5: 1 | E5: 1 | H5: 2 | I5: Di chuyển Đại đội kho C29 (ngân sách địa phương thực hiện giải phóng mặt bằng)
A6: 2 | B6: 2 | C6: Di chuyển Đại đội kho C29 (ngân sách địa phương thực hiện giải phóng mặt bằng) | D6: 1 | H6: 3 | I6: Doanh trại Ban Chỉ huy quân sự thị xã Phổ Yên - Giai đoạn 3
A7: 3 | B7: 3 | C7: Doanh trại Ban Chỉ huy quân sự thị xã Phổ Yên - Giai đoạn 3 | D7: 1 | H7: 4 | I7: Dự án cải tạo căn cứ chiến đấu 1, xã Phú Đô, huyện Phú Lương, tỉnh Thái Nguyên
A8: 4 | B8: 4 | C8: Dự án cải tạo căn cứ chiến đấu 1, xã Phú Đô, huyện Phú Lương, tỉnh Thái Nguyên | D8: 1 | H8: 5 | I8: Rà phá bom mìn, vật liệu nổ còn sót lại sau chiến tranh trên địa bàn tỉnh Thái Nguyên giai đoạn 2021-2025
A9: 5 | B9: 5 | C9: Rà phá bom mìn, vật liệu nổ còn sót lại sau chiến tranh trên địa bàn tỉnh Thái Nguyên giai đoạn 2021-2025 | D9: 1 | H9: 6 | I9: Sở Chỉ huy A2/Bộ Chỉ huy quân sự tỉnh
A10: 6 | B10: 6 | C10: Sở Chỉ huy A2/Bộ Chỉ huy quân sự tỉnh | D10: 1 | E10: 1 | H10: 7 | I10: Trung tâm huấn luyện dự bị động viên - Ban Chỉ huy quân sự tỉnh Thái Nguyên
A11: 7 | B11: 7 | C11: Trung tâm huấn luyện dự bị động viên - Ban Chỉ huy quân sự tỉnh Thái Nguyên | D11: 1 | E11: 1 | H11: 8 | I11: Xây dựng Ban Chỉ huy quân sự cấp xã năm 2020
A12: 8 | B12: 8 | C12: Xây dựng Ban Chỉ huy quân sự cấp xã năm 2020 | D12: 1 | H12: 9 | I12: Xây dựng trụ sở Ban Chỉ huy quân sự cấp xã giai đoạn 2021-2025
A13: 9 | B13: 9 | C13: Xây dựng trụ sở Ban Chỉ huy quân sự cấp xã giai đoạn 2021-2025 | D13: 1 | H13: 10 | I13: Xây dựng Trụ sở Ban Chỉ huy quân sự cấp xã năm 2021
A14: 10 | B14: 10 | C14: Xây dựng Trụ sở Ban Chỉ huy quân sự cấp xã năm 2021 | D14: 1 | H14: 11 | I14: Hạng mục còn lại Cơ quan Bộ chỉ huy quân sự tỉnh Thái Nguyên
A15: 11 | B15: 11 | C15: Hạng mục còn lại Cơ quan Bộ chỉ huy quân sự tỉnh Thái Nguyên | D15: 1 | H15: 12 | I15: Trụ sở làm việc Công an tỉnh Thái Nguyên
C16: An ninh và trật tự, an toàn xã hội | H16: 13 | I16: Đồn Công an và Đội Cảnh sát phòng cháy, chữa cháy và cứu nạn, cứu hộ Khu công nghiệp Yên Bình
A17: 12 | B17: 1 | C17: Trụ sở làm việc Công an tỉnh Thái Nguyên | D17: 1 | H17: 14 | I17: Dự án Trụ sở làm việc Công an các xã, thị trấn giai đoạn 2021-2025
A18: 13 | B18: 2 | C18: Đồn Công an và Đội Cảnh sát phòng cháy, chữa cháy và cứu nạn, cứu hộ Khu công nghiệp Yên Bình | D18: 1 | H18: 15 | I18: Trụ sở Phòng cánh sát phòng cháy, chữa cháy và cứu nạn, cứu hộ Công an tỉnh
A19: 14 | B19: 3 | C19: Dự án Trụ sở làm việc Công an các xã, thị trấn giai đoạn 2021-2025 | D19: 1 | H19: 16 | I19: Xây dựng Trường THPT Đội Cấn, huyện Đại từ
A20: 15 | B20: 4 | C20: Trụ sở Phòng cánh sát phòng cháy, chữa cháy và cứu nạn, cứu hộ Công an tỉnh | D20: 1 | E20: 1 | H20: 17 | I20: Nhà lớp học 02 tầng 10 phòng học Trường mầm non Điềm Thụy
C21: Giáo dục, đào tạo và giáo dục nghề nghiệp | H21: 18 | I21: Nhà lớp học 03 tầng 15 phòng học Trường Trung học cơ sở Tân Khánh
A22: 16 | B22: 1 | C22: Xây dựng Trường THPT Đội Cấn, huyện Đại từ | D22: 1 | H22: 19 | I22: Nhà lớp học 10 phòng Trường Tiểu học Thành Công 3
A23: 17 | B23: 2 | C23: Nhà lớp học 02 tầng 10 phòng học Trường mầm non Điềm Thụy | D23: 1 | H23: 20 | I23: Mở rộng, hoàn thiện CSVC Trường THPT Trần Quốc Tuấn (giai đoạn II)
A24: 18 | B24: 3 | C24: Nhà lớp học 03 tầng 15 phòng học Trường Trung học cơ sở Tân Khánh | D24: 1 | H24: 21 | I24: Mở rộng, nâng quy mô Trường phổ thông dân tộc nội trú THCS Đại Từ
A25: 19 | B25: 4 | C25: Nhà lớp học 10 phòng Trường Tiểu học Thành Công 3 | D25: 1 | H25: 22 | I25: Mở rộng, nâng quy mô Trường phổ thông dân tộc nội trú tỉnh
A26: 20 | B26: 5 | C26: Mở rộng, hoàn thiện CSVC Trường THPT Trần Quốc Tuấn (giai đoạn II) | D26: 1 | H26: 23 | I26: Mở rộng, nâng quy mô Trường phổ thông dân tộc nội trú THCS Đồng Hỷ
A27: 21 | B27: 6 | C27: Mở rộng, nâng quy mô Trường phổ thông dân tộc nội trú THCS Đại Từ | D27: 1 | H27: 24 | I27: Mở rộng, nâng quy mô Trường phổ thông dân tộc nội trú THCS Phú Lương
A28: 22 | B28: 7 | C28: Mở rộng, nâng quy mô Trường phổ thông dân tộc nội trú tỉnh | D28: 1 | H28: 25 | I28: Mở rộng, nâng quy mô Trường PTDTNT THCS Nguyễn Bỉnh Khiêm
A29: 23 | B29: 8 | C29: Mở rộng, nâng quy mô Trường phổ thông dân tộc nội trú THCS Đồng Hỷ | D29: 1 | H29: 26 | I29: Trường Mầm non Liên Cơ, thị trấn Đình Cả, huyện Võ Nhai (Hạng mục: Nhà lớp học 02 tầng 08 phòng và các phòng chức năng)
A30: 24 | B30: 9 | C30: Mở rộng, nâng quy mô Trường phổ thông dân tộc nội trú THCS Phú Lương | D30: 1 | H30: 27 | I30: Trường Mầm non Tân Long- điểm trường Đồng Mây
A31: 25 | B31: 10 | C31: Mở rộng, nâng quy mô Trường PTDTNT THCS Nguyễn Bỉnh Khiêm | D31: 1 | H31: 28 | I31: Trường Mầm non Thắng Lợi
A32: 26 | B32: 11 | C32: Trường Mầm non Liên Cơ, thị trấn Đình Cả, huyện Võ Nhai (Hạng mục: Nhà lớp học 02 tầng 08 phòng và các phòng chức năng) | D32: 1 | H32: 29 | I32: Trường phổ thông dân tộc nội trú Định Hóa, tỉnh Thái Nguyên (giai đoạn 2)
A33: 27 | B33: 12 | C33: Trường Mầm non Tân Long- điểm trường Đồng Mây | D33: 1 | H33: 30 | I33: Trường phổ thông dân tộc nội trú THCS Định Hóa tỉnh Thái Nguyên
A34: 28 | B34: 13 | C34: Trường Mầm non Thắng Lợi | D34: 1 | E34: 1 | H34: 31 | I34: Trường THPT Chuyên Thái Nguyên
A35: 29 | B35: 14 | C35: Trường phổ thông dân tộc nội trú Định Hóa, tỉnh Thái Nguyên (giai đoạn 2) | D35: 1 | E35: 1 | H35: 32 | I35: Trường THPT Tức Tranh, huyện Phú Lương
A36: 30 | B36: 15 | C36: Trường phổ thông dân tộc nội trú THCS Định Hóa tỉnh Thái Nguyên | D36: 1 | H36: 33 | I36: Trường Tiểu học Cổ Lũng
A37: 31 | B37: 16 | C37: Trường THPT Chuyên Thái Nguyên | D37: 1 | E37: 1 | H37: 34 | I37: Trường Tiểu học Linh Thông (Hạng mục: Nhà 02 tầng 08 phòng học bộ môn, phòng chức năng)
A38: 32 | B38: 17 | C38: Trường THPT Tức Tranh, huyện Phú Lương | D38: 1 | H38: 35 | I38: Trường Tiểu học và Trung học cơ sở thị trấn Quân Chu
A39: 33 | B39: 18 | C39: Trường Tiểu học Cổ Lũng | D39: 1 | H39: 36 | I39: Xây dựng Trường THPT Lý Nam Đế, thị xã Phổ Yên
A40: 34 | B40: 19 | C40: Trường Tiểu học Linh Thông (Hạng mục: Nhà 02 tầng 08 phòng học bộ môn, phòng chức năng) | D40: 1 | H40: 37 | I40: Xây dựng 18 phòng học mẫu giáo 5 tuổi trên địa bàn huyện Võ Nhai
A41: 35 | B41: 20 | C41: Trường Tiểu học và Trung học cơ sở thị trấn Quân Chu | D41: 1 | H41: 38 | I41: Xây dựng Nhà đa năng Trường THPT Khánh Hòa
A42: 36 | B42: 21 | C42: Xây dựng Trường THPT Lý Nam Đế, thị xã Phổ Yên | D42: 1 | E42: 1 | H42: 39 | I42: Xây dựng Nhà đa năng Trường THPT Lưu Nhân Chú
A43: 37 | B43: 22 | C43: Xây dựng 18 phòng học mẫu giáo 5 tuổi trên địa bàn huyện Võ Nhai | D43: 1 | H43: 40 | I43: 'Xây dựng Nhà đa năng Trường THPT Trần Phú, Huyện Võ Nhai
A44: 38 | B44: 23 | C44: Xây dựng Nhà đa năng Trường THPT Khánh Hòa | D44: 1 | H44: 41 | I44: Xây dựng Nhà đa năng Trường Trung học phổ thông Điềm Thụy, huyện Phú Bình
A45: 39 | B45: 24 | C45: Xây dựng Nhà đa năng Trường THPT Lưu Nhân Chú | D45: 1 | E45: 1 | H45: 42 | I45: Xây dựng Nhà đa năng Trường Trung học phổ thông Trần Quốc Tuấn
A46: 40 | B46: 25 | C46: 'Xây dựng Nhà đa năng Trường THPT Trần Phú, Huyện Võ Nhai | D46: 1 | E46: 1 | H46: 43 | I46: Xây dựng Nhà đa năng, nhà lớp học 6 phòng Trường THPT Hoàng Quốc Việt
A47: 41 | B47: 26 | C47: Xây dựng Nhà đa năng Trường Trung học phổ thông Điềm Thụy, huyện Phú Bình | D47: 1 | E47: 1 | H47: 44 | I47: Xây dựng Nhà học bộ môn, phòng học Trường THPT Lương Phú
A48: 42 | B48: 27 | C48: Xây dựng Nhà đa năng Trường Trung học phổ thông Trần Quốc Tuấn | D48: 1 | E48: 1 | H48: 45 | I48: Xây dựng Nhà lớp học 15 phòng Trường THPT Định Hóa
A49: 43 | B49: 28 | C49: Xây dựng Nhà đa năng, nhà lớp học 6 phòng Trường THPT Hoàng Quốc Việt | D49: 1 | E49: 1 | H49: 46 | I49: Xây dựng Nhà lớp học 16 phòng trường THPT Sông Công
A50: 44 | B50: 29 | C50: Xây dựng Nhà học bộ môn, phòng học Trường THPT Lương Phú | D50: 1 | E50: 1 | H50: 47 | I50: Xây dựng Nhà lớp học 16 phòng, Nhà hiệu bộ trường THPT Lương Ngọc Quyến
A51: 45 | B51: 30 | C51: Xây dựng Nhà lớp học 15 phòng Trường THPT Định Hóa | D51: 1 | E51: 1 | H51: 48 | I51: Xây dựng Nhà lớp học bộ môn, thư viện Trường THPT Phổ Yên
A52: 46 | B52: 31 | C52: Xây dựng Nhà lớp học 16 phòng trường THPT Sông Công | D52: 1 | H52: 49 | I52: Xây dựng Nhà lớp học, phòng học bộ môn, phòng tổ chuyên môn Trường THPT Đại từ
A53: 47 | B53: 32 | C53: Xây dựng Nhà lớp học 16 phòng, Nhà hiệu bộ trường THPT Lương Ngọc Quyến | D53: 1 | E53: 1 | H53: 50 | I53: Trường Trung cấp nghề giao thông vận tải
A54: 48 | B54: 33 | C54: Xây dựng Nhà lớp học bộ môn, thư viện Trường THPT Phổ Yên | D54: 1 | E54: 1 | H54: 51 | I54: Giáo dục trung học cơ sở khu vực khó khăn nhất giai đoạn II
A55: 49 | B55: 34 | C55: Xây dựng Nhà lớp học, phòng học bộ môn, phòng tổ chuyên môn Trường THPT Đại từ | D55: 1 | H55: 52 | I55: Chương trình phát triển giáo dục trung học giai đoạn 2
A56: 50 | B56: 35 | C56: Trường Trung cấp nghề giao thông vận tải | D56: 1 | H56: 53 | I56: Đầu tư hoàn thiện cơ sở vật chất Trường Trung cấp nghề dân tộc nội trú tỉnh Thái Nguyên (Xây dựng Nhà KTX, nhà ăn, nhà đa năng)
A57: 51 | B57: 36 | C57: Giáo dục trung học cơ sở khu vực khó khăn nhất giai đoạn II | D57: 1 | H57: 54 | I57: Xây dựng trại thực nghiệm của Trung tâm phát triển Khoa học và Công nghệ
A58: 52 | B58: 37 | C58: Chương trình phát triển giáo dục trung học giai đoạn 2 | D58: 1 | E58: 1 | H58: 55 | I58: Bệnh viện Y học cổ truyền tỉnh Thái Nguyên (giai đoạn I)
A59: 53 | B59: 38 | C59: Đầu tư hoàn thiện cơ sở vật chất Trường Trung cấp nghề dân tộc nội trú tỉnh Thái Nguyên (Xây dựng Nhà KTX, nhà ăn, nhà đa năng) | D59: 1 | H59: 56 | I59: Dự án đầu tư cải tạo, nâng cấp, mở rộng cơ sở vật chất và mua sắm trang thiết bị cho Trung tâm kiểm soát bệnh tật (CDC) tỉnh Thái Nguyên
C60: Khoa học, công nghệ | H60: 57 | I60: Dự án đầu tư xây mới 03 Trạm Y tế tuyến xã, tỉnh Thái Nguyên
A61: 54 | B61: 1 | C61: Xây dựng trại thực nghiệm của Trung tâm phát triển Khoa học và Công nghệ | D61: 1 | H61: 58 | I61: Dự án đầu tư xây mới, cải tạo, nâng cấp và mua sắm trang thiết bị cho 04 bệnh viện đa khoa, Trung tâm Y tế tuyến huyện, tỉnh Thái Nguyên
C62: Y tế, dân số và gia đình | H62: 59 | I62: Đầu tư xây dựng 3 trạm y tế xã: La Hiên huyện Võ Nhai; Nhã Lộng, Tân Hòa, huyện Phú Bình
A63: 55 | B63: 1 | C63: Bệnh viện Y học cổ truyền tỉnh Thái Nguyên (giai đoạn I) | D63: 1 | E63: 1 | H63: 60 | I63: Nâng cấp Bệnh viện Tâm thần Thái Nguyên
A64: 56 | B64: 2 | C64: Dự án đầu tư cải tạo, nâng cấp, mở rộng cơ sở vật chất và mua sắm trang thiết bị cho Trung tâm kiểm soát bệnh tật (CDC) tỉnh Thái Nguyên | D64: 1 | H64: 61 | I64: Xây dựng mở rộng, nâng cấp Bệnh viện A Thái Nguyên
A65: 57 | B65: 3 | C65: Dự án đầu tư xây mới 03 Trạm Y tế tuyến xã, tỉnh Thái Nguyên | D65: 1 | H65: 62 | I65: Xây dựng nền tảng tích hợp dữ liệu, điều hành tập trung và phát triển hệ thống chuyên ngành y tế tỉnh Thái Nguyên, giai đoạn 2021-2025
A66: 58 | B66: 4 | C66: Dự án đầu tư xây mới, cải tạo, nâng cấp và mua sắm trang thiết bị cho 04 bệnh viện đa khoa, Trung tâm Y tế tuyến huyện, tỉnh Thái Nguyên | D66: 1 | H66: 63 | I66: Xây dựng và mua sắm trang thiết bị cho Trung tâm pháp y tỉnh Thái Nguyên
A67: 59 | B67: 5 | C67: Đầu tư xây dựng 3 trạm y tế xã: La Hiên huyện Võ Nhai; Nhã Lộng, Tân Hòa, huyện Phú Bình | D67: 1 | H67: 64 | I67: Khoa khám chữa bệnh, Bệnh viện Mắt Thái Nguyên
A68: 60 | B68: 6 | C68: Nâng cấp Bệnh viện Tâm thần Thái Nguyên | D68: 1 | H68: 65 | I68: Quảng trường Võ Nguyên Giáp thành phố Thái Nguyên
A69: 61 | B69: 7 | C69: Xây dựng mở rộng, nâng cấp Bệnh viện A Thái Nguyên | D69: 1 | H69: 66 | I69: Tu bổ di tích kiến trúc nghệ thuật quốc gia Đình Xuân La, xã Xuân Phương, huyện Phú Bình
A70: 62 | B70: 8 | C70: Xây dựng nền tảng tích hợp dữ liệu, điều hành tập trung và phát triển hệ thống chuyên ngành y tế tỉnh Thái Nguyên, giai đoạn 2021-2025 | D70: 1 | H70: 67 | I70: Tu bổ, tôn tạo di tích đền thờ Lý Nam Đế (đền Mục) xã Tiên Phong- thị xã Phổ Yên- tỉnh Thái Nguyên
A71: 63 | B71: 9 | C71: Xây dựng và mua sắm trang thiết bị cho Trung tâm pháp y tỉnh Thái Nguyên | D71: 1 | H71: 68 | I71: Đền Lục Giáp, xã Đắc Sơn, thị xã Phổ Yên
A72: 64 | B72: 10 | C72: Khoa khám chữa bệnh, Bệnh viện Mắt Thái Nguyên | D72: 1 | H72: 69 | I72: Đầu tư xây dựng phù điêu tại quảng trường Võ Nguyên Giáp, thành phố Thái Nguyên
C73: Văn hóa | H73: 70 | I73: Xây dựng, mở rộng, tôn tạo di tích "Nơi thành lập cơ sở Đảng đầu tiên của Đảng bộ tỉnh Thái Nguyên năm 1936, xã La Bằng huyện Đại Từ, tỉnh Thái Nguyên
A74: 65 | B74: 1 | C74: Quảng trường Võ Nguyên Giáp thành phố Thái Nguyên | D74: 1 | H74: 71 | I74: Cải tạo, sửa chữa Nhà tưởng niệm Chủ tịch Hồ Chí Minh, (ATK Định Hóa), xã Phú Đình, huyện Định Hóa
A75: 66 | B75: 2 | C75: Tu bổ di tích kiến trúc nghệ thuật quốc gia Đình Xuân La, xã Xuân Phương, huyện Phú Bình | D75: 1 | H75: 72 | I75: Dự án xây dựng quần thể khu văn hóa- thể thao- công viên cây xanh thị xã Phổ Yên
A76: 67 | B76: 3 | C76: Tu bổ, tôn tạo di tích đền thờ Lý Nam Đế (đền Mục) xã Tiên Phong- thị xã Phổ Yên- tỉnh Thái Nguyên | D76: 1 | H76: 73 | I76: Xây dựng Sân vận động huyện Đại Từ (giai đoạn 1)
A77: 68 | B77: 4 | C77: Đền Lục Giáp, xã Đắc Sơn, thị xã Phổ Yên | D77: 1 | H77: 74 | I77: Xây dựng Sân vận động Thái Nguyên
A78: 69 | B78: 5 | C78: Đầu tư xây dựng phù điêu tại quảng trường Võ Nguyên Giáp, thành phố Thái Nguyên | D78: 1 | E78: 1 | H78: 75 | I78: Xây dựng Trung tâm thể dục thể thao và Trường phổ thông năng khiếu thể dục thể thao
A79: 70 | B79: 6 | C79: Xây dựng, mở rộng, tôn tạo di tích "Nơi thành lập cơ sở Đảng đầu tiên của Đảng bộ tỉnh Thái Nguyên năm 1936, xã La Bằng huyện Đại Từ, tỉnh Thái Nguyên | D79: 1 | H79: 76 | I79: Xây dựng cơ sở vật chất, huấn luyện và thi đấu môn đua thuyền
A80: 71 | B80: 7 | C80: Cải tạo, sửa chữa Nhà tưởng niệm Chủ tịch Hồ Chí Minh, (ATK Định Hóa), xã Phú Đình, huyện Định Hóa | D80: 1 | E80: 1 | H80: 77 | I80: Sửa chữa, cải tạo Nhà thi đấu thể thao Thái Nguyên
A81: 72 | B81: 8 | C81: Dự án xây dựng quần thể khu văn hóa- thể thao- công viên cây xanh thị xã Phổ Yên | D81: 1 | H81: 78 | I81: Tăng cường quản lý đất đai và cơ sở dữ liệu đất đai tỉnh Thái Nguyên
C82: Thể dục, thể thao | H82: 79 | I82: Bảo vệ và phát triển rừng huyện Định Hoá, tỉnh Thái Nguyên giai đoạn 2011-2020
A83: 73 | B83: 1 | C83: Xây dựng Sân vận động huyện Đại Từ (giai đoạn 1) | D83: 1 | H83: 80 | I83: Bảo vệ và phát triển rừng huyện Võ Nhai, tỉnh Thái Nguyên giai đoạn 2011-2020
A84: 74 | B84: 2 | C84: Xây dựng Sân vận động Thái Nguyên | D84: 1 | H84: 81 | I84: Bảo vệ và phát triển rừng sản xuất, phòng hộ, đặc dụng và nâng cao năng lực phóng cháy, chữa cháy rừng tỉnh Thái Nguyên giai đoạn 2021-2025
A85: 75 | B85: 3 | C85: Xây dựng Trung tâm thể dục thể thao và Trường phổ thông năng khiếu thể dục thể thao | D85: 1 | H85: 82 | I85: Cải tạo, kiên cố hóa hệ thống kênh sau hồ Trại Gạo
A86: 76 | B86: 4 | C86: Xây dựng cơ sở vật chất, huấn luyện và thi đấu môn đua thuyền | D86: 1 | H86: 83 | I86: Cải tạo, nâng cấp các công trình hồ, đập trên địa bàn
A87: 77 | B87: 5 | C87: Sửa chữa, cải tạo Nhà thi đấu thể thao Thái Nguyên | D87: 1 | H87: 84 | I87: Cải tạo, nâng cấp tuyến đê Mỏ Bạch kết hợp làm đường giao thông vào trường Đại học Nông Lâm và Trung tâm KTX Sinh viên Đại học Thái Nguyên
C88: Bảo vệ môi trường | H88: 85 | I88: Công trình thuỷ lợi hồ Nước Hai huyện Phổ Yên
A89: 78 | B89: 1 | C89: Tăng cường quản lý đất đai và cơ sở dữ liệu đất đai tỉnh Thái Nguyên | D89: 1 | H89: 86 | I89: Chương trình mở rộng quy mô vệ sinh và nước sạch nông thôn tỉnh Thái Nguyên
C90: Các hoạt động kinh tế | H90: 87 | I90: Củng cố, nâng cấp tuyến đê Chã, huyện Phổ Yên (đoạn từ đầu đường ứng cứu đến K3+100)
C91: Nông nghiệp, lâm nghiệp, thủy lợi và thủy sản | H91: 88 | I91: Đầu tư tổng thể bố trí ổn định dân cư vùng bán ngập Hồ Núi Cốc, tỉnh Thái Nguyên. Hạng mục: Đầu tư xây dựng kết cấu hạ tầng, ổn định dân cư tại các xã Phúc Tân, Lục Ba, Vạn Thọ, Tân Thái, Bình Thuận
A92: 78 | B92: 1 | C92: Bảo vệ và phát triển rừng huyện Định Hoá, tỉnh Thái Nguyên giai đoạn 2011-2020 | D92: 1 | E92: 1 | H92: 89 | I92: Dự án Kè đê Chã K5+050-K5+450
A93: 79 | B93: 2 | C93: Bảo vệ và phát triển rừng huyện Võ Nhai, tỉnh Thái Nguyên giai đoạn 2011-2020 | D93: 1 | E93: 1 | H93: 90 | I93: Dự án sửa chữa và nâng cao an toàn đập (WB8) tỉnh Thái Nguyên
A94: 80 | B94: 3 | C94: Bảo vệ và phát triển rừng sản xuất, phòng hộ, đặc dụng và nâng cao năng lực phóng cháy, chữa cháy rừng tỉnh Thái Nguyên giai đoạn 2021-2025 | D94: 1 | H94: 91 | I94: Dự án Cấp nước nước sinh hoạt tập trung nông thôn trên địa bàn tỉnh Thái Nguyên giai đoạn 2021-2025
A95: 81 | B95: 4 | C95: Cải tạo, kiên cố hóa hệ thống kênh sau hồ Trại Gạo | D95: 1 | H95: 92 | I95: Dự án Bố trí ổn định dân cư tại chỗ vùng thiên tai có nguy cơ sạt lở và lũ ống, lũ quét thuộc 06 xã: Na Mao, Đức Lương, Hoàng Nông, Khôi Kỳ, Tân Linh và Ký Phú, huyện Đại Từ
A96: 82 | B96: 5 | C96: Cải tạo, nâng cấp các công trình hồ, đập trên địa bàn | D96: 1 | E96: 1 | H96: 93 | I96: Dự án Xử lý cấp bách đê tả Công đoạn từ K2+000-K5+000
A97: 83 | B97: 6 | C97: Cải tạo, nâng cấp tuyến đê Mỏ Bạch kết hợp làm đường giao thông vào trường Đại học Nông Lâm và Trung tâm KTX Sinh viên Đại học Thái Nguyên | D97: 1 | H97: 94 | I97: Nâng cấp đê Hà Châu chống lũ, kết hợp làm đường giao thông phục vụ phát triển dân sinh
A98: 84 | B98: 7 | C98: Công trình thuỷ lợi hồ Nước Hai huyện Phổ Yên | D98: 1 | E98: 1 | H98: 95 | I98: Sửa chữa, khắc phục Kè Soi Quýt xã Tiên Phong, thị xã Phổ Yên
A99: 85 | B99: 8 | C99: Chương trình mở rộng quy mô vệ sinh và nước sạch nông thôn tỉnh Thái Nguyên | D99: 1 | E99: 1 | H99: 96 | I99: Sửa chữa, nâng cấp đập Pác Tác, xã Phương Giao, huyện Võ Nhai
A100: 86 | B100: 9 | C100: Củng cố, nâng cấp tuyến đê Chã, huyện Phổ Yên (đoạn từ đầu đường ứng cứu đến K3+100) | D100: 1 | H100: 97 | I100: Sửa chữa, nâng cấp hồ Đồng Xiền, xã Yên Lạc; đập Núi Phấn xã Động Đạt, huyện Phú Lương
A101: 87 | B101: 10 | C101: Đầu tư tổng thể bố trí ổn định dân cư vùng bán ngập Hồ Núi Cốc, tỉnh Thái Nguyên. Hạng mục: Đầu tư xây dựng kết cấu hạ tầng, ổn định dân cư tại các xã Phúc Tân, Lục Ba, Vạn Thọ, Tân Thái, Bình Thuận | D101: 1 | E101: 1 | H101: 98 | I101: Sửa chữa cấp bách đảm bảo an toàn hồ, đạp chứa nước (Hồ Núi Cốc: Đối mối; cải tạo đập chính; sửa chữa đập phụ; thay thế cửa van tràn số 1 và số 2. Hạ du: Xây dựng cầu Đá mài (ngầm tràn số 3); nạo vét cục bộ lòng dẫn sông Công hạ du Hồ Núi Cốc; kè chống sạt lở hai bên bờ Sông Công (Thành phố Thái Nguyên, Thành phố Sông Công, thị xã Phổ Yên)
...

Sheet Sheet1
A1: TỔNG HỢP NGUỒN VỐN ĐẤT CẤP TỈNH QUẢN LÝ
A3: Tổng Kế hoạch vốn trung hạn 2021 - 2025 | J3: =+#REF! -> #REF!
A5: Tổng số vốn đã bố trí trong năm 2021-2023 | J5: =+#REF!+#REF!+#REF!+'8.VON DAT TANG THEM'!R10+'8.VON DAT TANG THEM'!S10+'8.VON DAT TANG THEM'!T10 -> #REF!
A7: Tổng số vốn cần tiếp tục bố trí cho các dự án đã khởi công đến năm 2023 | J7: =+#REF!+'8.VON DAT TANG THEM'!#REF!+'8.VON DAT TANG THEM'!#REF!+'8.VON DAT TANG THEM'!#REF!+'8.VON DAT TANG THEM'!#REF!+'8.VON DAT TANG THEM'!#REF!+'8.VON DAT TANG THEM'!#REF!+'8.VON DAT TANG THEM'!#REF!+'8.VON DAT TANG THEM'!#REF!+'8.VON DAT TANG THEM'!#REF!+'8.VON DAT TANG THEM'!#REF!+'8.VON DAT TANG THEM'!#REF!+'8.VON DAT TANG THEM'!#REF!+'8.VON DAT TANG THEM'!#REF!+'8.VON DAT TANG THEM'!#REF!+'8.VON DAT TANG THEM'!#REF!+'8.VON DAT TANG THEM'!#REF!+'8.VON DAT TANG THEM'!#REF!+'8.VON DAT TANG THEM'!#REF!+'8.VON DAT TANG THEM'!#REF!+'8.VON DAT TANG THEM'!#REF!+'8.VON DAT TANG THEM'!#REF!+'8.VON DAT TANG THEM'!#REF!+'8.VON DAT TANG THEM'!#REF!+'8.VON DAT TANG THEM'!#REF!+'8.VON DAT TANG THEM'!#REF!+'8.VON DAT TANG THEM'!#REF!+'8.VON DAT TANG THEM'!#REF!+'8.VON DAT TANG THEM'!#REF!+'8.VON DAT TANG THEM'!#REF!+'8.VON DAT TANG THEM'!#REF!+'8.VON DAT TANG THEM'!#REF!+'8.VON DAT TANG THEM'!#REF! -> #REF! | K7: đã bao gồm các nhiệm vụ
A9: Tổng số vốn cần bố trí cho các dự án chưa khởi công đến năm 2023 | J9: =+J3-J5-J7 -> #REF!
A13: TỔNG HỢP NGUỒN VỐN XÂY DỰNG CƠ BẢN TẬP TRUNG
A15: Tổng số dự án chưa được bố trí vốn (33 dự án) | J15: =+Sheet2!C4 -> 1785091

Sheet Sheet2
A1: DANH MỤC DỰ ÁN CHƯA ĐƯỢC BỐ TRÍ VỐN GIAI ĐOẠN 2021-2023
A3: TT | B3: TÊN DỰ ÁN | C3: Kế hoạch vốn trung hạn 2021-2025 đã giao
B4: Tổng số | C4: =+C5+C24+C27 -> 1785091
B5: Vốn XDCBTT | C5: =+SUM(C6:C23) -> 186811
A6: 1 | B6: Rà phá bom mìn, vật liệu nổ còn sót lại sau chiến tranh trên địa bàn tỉnh Thái Nguyên giai đoạn 2021-2025 | C6: 20000
A7: 2 | B7: Mở rộng, hoàn thiện CSVC Trường THPT Trần Quốc Tuấn (giai đoạn II) | C7: 1799
A8: 3 | B8: Xây dựng Nhà lớp học 16 phòng, Nhà hiệu bộ trường THPT Lương Ngọc Quyến | C8: 29850
A9: 4 | B9: Xây dựng Nhà lớp học 16 phòng trường THPT Sông Công | C9: 10000
A10: 5 | B10: Xây dựng Nhà lớp học 15 phòng Trường THPT Định Hóa | C10: 10000
A11: 6 | B11: Xây dựng Nhà lớp học, phòng học bộ môn, phòng tổ chuyên môn Trường THPT Đại từ | C11: 13000
A12: 7 | B12: Xây dựng Nhà lớp học bộ môn, thư viện Trường THPT Phổ Yên | C12: 5000
A13: 8 | B13: Xây dựng Nhà đa năng, nhà lớp học 6 phòng Trường THPT Hoàng Quốc Việt | C13: 10000
A14: 9 | B14: Xây dựng Nhà đa năng Trường THPT Lưu Nhân Chú | C14: 6000
A15: 10 | B15: 'Xây dựng Nhà đa năng Trường THPT Trần Phú, Huyện Võ Nhai | C15: 6000
A16: 11 | B16: Xây dựng Nhà đa năng Trường THPT Khánh Hòa | C16: 6000
A17: 12 | B17: Xây dựng nền tảng tích hợp dữ liệu, điều hành tập trung và phát triển hệ thống chuyên ngành y tế tỉnh Thái Nguyên, giai đoạn 2021-2025 | C17: 40000
... A23: 19 | B23: Xây dựng nhà đa năng Trường Chính trị tỉnh. | C23: 10000
B24: Vốn xổ số kiến thiết | C24: =+C25+C26 -> 12000
A25: 20 | B25: Xây dựng Nhà đa năng Trường Trung học phổ thông Điềm Thụy, huyện Phú Bình | C25: 6000
A26: 21 | B26: Xây dựng Nhà đa năng Trường Trung học phổ thông Trần Quốc Tuấn | C26: 6000
B27: Vốn thu tiền sử dụng đất cấp tỉnh quản lý | C27: =+SUM(C28:C40) -> 1586280
A28: 22 | B28: Xây dựng trại thực nghiệm của Trung tâm phát triển Khoa học và Công nghệ | C28: 50000
A29: 23 | B29: Dự án Bố trí ổn định dân cư tại chỗ vùng thiên tai có nguy cơ sạt lở và lũ ống, lũ quét thuộc 06 xã: Na Mao, Đức Lương, Hoàng Nông, Khôi Kỳ, Tân Linh và Ký Phú, huyện Đại Từ | C29: 20000
A30: 24 | B30: Dự án Khu tái định cư tập trung vùng thiên tai có nguy cơ sạt lở đất và lũ quét xã Kim Sơn, huyện Định Hóa | C30: 23000
A31: 25 | B31: Tu bổ xung yếu hệ thống đê, điều giai đoạn 2021-2025 (Củng cố, nâng cấp tuyến đê Chã, thị xã Phổ Yên đoạn từ Km4+800 đến K9+500) | C31: 20000
A32: 26 | B32: Nâng cấp đê Hà Châu chống lũ, kết hợp làm đường giao thông phục vụ phát triển dân sinh | C32: 30000
A33: 27 | B33: Sửa chữa cấp bách đảm bảo an toàn hồ, đạp chứa nước (Hồ Núi Cốc: Đối mối; cải tạo đập chính; sửa chữa đập phụ; thay thế cửa van tràn số 1 và số 2. Hạ du: Xây dựng cầu Đá mài (ngầm tràn số 3); nạo vét cục bộ lòng dẫn sông Công hạ du Hồ Núi Cốc; kè chống sạt lở hai bên bờ Sông Công (Thành phố Thái Nguyên, Thành phố Sông Công, thị xã Phổ Yên) | C33: 20000
A34: 28 | B34: Xử lý sạt lở cấp bách sông, suối một số tỉnh miền núi phía bắc (Kè gia cố chống sạt lở bò Sông Công đoạn qua thị trấn Hùng Sơn, huyện Đại Từ tỉnh Thái Nguyên có chiều dài khoảng 1,9 km) | C34: 20000
A35: 29 | B35: Đường kết nối ĐT.265 (xã Bình Long, huyện Võ Nhai) đi Bắc Giang | C35: 291055
A36: 30 | B36: Đường kết nối Quốc lộ 37, Đường vành đai 5, huyện Phú Bình và thành phố Thái Nguyên (đoạn từ Cầu Xuân Phương- Cầu Mây) | C36: 274853
A37: 31 | B37: Xây dựng Cầu An Long và Đường kết nối tỉnh lộ ĐT.270 với tỉnh lộ ĐT.261 huyện Đại Từ | C37: 150000
A38: 32 | B38: Đầu tư xây dựng Cầu Quang Vinh 1, Quang Vinh 2 và hệ thống đường giao thông kết nối phường Đồng Bẩm, phường Quang Vinh và xã Cao Ngạn, thành phố Thái Nguyên | C38: 373000
A39: 33 | B39: Dự án Nhà Trung tâm sản xuất chương trình phát thanh, truyền hình của Đài Phát thanh - Truyền hình tỉnh | C39: 214710
B40: Xây dựng cơ sở vật chất, huấn luyện và thi đấu môn đua thuyền | C40: 99662

Sheet Sheet3
A1: DANH MỤC DỰ ÁN CHƯA KHỞI CÔNG ĐẾN NĂM 2023 | E1: DANH MỤC DỰ ÁN CHƯA ĐƯỢC BỐ TRÍ VỐN, CHƯA KHỞI CÔNG VÀ DỰ KIẾN KHÔNG TIẾP TỤC BỐ TRÍ VỐN NS TỈNH ĐẾN NĂM 2023
A3: TT | B3: TÊN DỰ ÁN | C3: Kế hoạch vốn trung hạn 2021-2025 đã giao | E3: TT | G3: TÊN DỰ ÁN | H3: Kế hoạch vốn trung hạn 2021-2025 đã giao sau điều chỉnh, bổ sung | I3: Kế hoạch vốn trung hạn 2021-2025 không tiếp tục giao | J3: Ghi chú
B4: Tổng số | C4: =+C5+C24+C27 -> 2369831 | G4: Tổng số | H4: =+H5+H24+H27+H46 -> 2441231 | I4: =+I5+I24+I27+I46 -> 55854
B5: Vốn XDCBTT | C5: =+SUM(C6:C23) -> 186811 | G5: Vốn XDCBTT | H5: =+SUM(H6:H23) -> 186811 | I5: =+SUM(I6:I23) -> 0
A6: 1 | B6: Rà phá bom mìn, vật liệu nổ còn sót lại sau chiến tranh trên địa bàn tỉnh Thái Nguyên giai đoạn 2021-2025 | C6: 20000 | E6: 1 | F6: 1 | G6: Rà phá bom mìn, vật liệu nổ còn sót lại sau chiến tranh trên địa bàn tỉnh Thái Nguyên giai đoạn 2021-2025 | H6: 20000 | J6: Chưa giao KH vốn
A7: 2 | B7: Mở rộng, hoàn thiện CSVC Trường THPT Trần Quốc Tuấn (giai đoạn II) | C7: 1799 | E7: 2 | F7: 2 | G7: Mở rộng, hoàn thiện CSVC Trường THPT Trần Quốc Tuấn (giai đoạn II) | H7: 1799 | J7: Chưa giao KH vốn
A8: 3 | B8: Xây dựng Nhà lớp học 16 phòng, Nhà hiệu bộ trường THPT Lương Ngọc Quyến | C8: 29850 | E8: 3 | F8: 3 | G8: Xây dựng Nhà lớp học 16 phòng, Nhà hiệu bộ trường THPT Lương Ngọc Quyến | H8: 29850 | J8: Chưa giao KH vốn
A9: 4 | B9: Xây dựng Nhà lớp học 16 phòng trường THPT Sông Công | C9: 10000 | E9: 4 | F9: 4 | G9: Xây dựng Nhà lớp học 16 phòng trường THPT Sông Công | H9: 10000 | J9: Chưa giao KH vốn
A10: 5 | B10: Xây dựng Nhà lớp học 15 phòng Trường THPT Định Hóa | C10: 10000 | E10: 5 | F10: 5 | G10: Xây dựng Nhà lớp học 15 phòng Trường THPT Định Hóa | H10: 10000 | J10: Chưa giao KH vốn
A11: 6 | B11: Xây dựng Nhà lớp học, phòng học bộ môn, phòng tổ chuyên môn Trường THPT Đại từ | C11: 13000 | E11: 6 | F11: 6 | G11: Xây dựng Nhà lớp học, phòng học bộ môn, phòng tổ chuyên môn Trường THPT Đại từ | H11: 13000 | J11: Chưa giao KH vốn
A12: 7 | B12: Xây dựng Nhà lớp học bộ môn, thư viện Trường THPT Phổ Yên | C12: 5000 | E12: 7 | F12: 7 | G12: Xây dựng Nhà lớp học bộ môn, thư viện Trường THPT Phổ Yên | H12: 5000 | J12: Chưa giao KH vốn
A13: 8 | B13: Xây dựng Nhà đa năng, nhà lớp học 6 phòng Trường THPT Hoàng Quốc Việt | C13: 10000 | E13: 8 | F13: 8 | G13: Xây dựng Nhà đa năng, nhà lớp học 6 phòng Trường THPT Hoàng Quốc Việt | H13: 10000 | J13: Chưa giao KH vốn
A14: 9 | B14: Xây dựng Nhà đa năng Trường THPT Lưu Nhân Chú | C14: 6000 | E14: 9 | F14: 9 | G14: Xây dựng Nhà đa năng Trường THPT Lưu Nhân Chú | H14: 6000 | J14: Chưa giao KH vốn
A15: 10 | B15: 'Xây dựng Nhà đa năng Trường THPT Trần Phú, Huyện Võ Nhai | C15: 6000 | E15: 10 | F15: 10 | G15: 'Xây dựng Nhà đa năng Trường THPT Trần Phú, Huyện Võ Nhai | H15: 6000 | J15: Chưa giao KH vốn
A16: 11 | B16: Xây dựng Nhà đa năng Trường THPT Khánh Hòa | C16: 6000 | E16: 11 | F16: 11 | G16: Xây dựng Nhà đa năng Trường THPT Khánh Hòa | H16: 6000 | J16: Chưa giao KH vốn
A17: 12 | B17: Xây dựng nền tảng tích hợp dữ liệu, điều hành tập trung và phát triển hệ thống chuyên ngành y tế tỉnh Thái Nguyên, giai đoạn 2021-2025 | C17: 40000 | E17: 12 | F17: 12 | G17: Xây dựng nền tảng tích hợp dữ liệu, điều hành tập trung và phát triển hệ thống chuyên ngành y tế tỉnh Thái Nguyên, giai đoạn 2021-2025 | H17: 40000 | J17: Chưa giao KH vốn
... A23: 18 | B23: Xây dựng nhà đa năng Trường Chính trị tỉnh. | C23: 10000 | E23: 18 | F23: 18 | G23: Xây dựng nhà đa năng Trường Chính trị tỉnh. | H23: 10000 | J23: Dự kiến không tiếp tục đầu tư
B24: Vốn xổ số kiến thiết | C24: =+C25+C26 -> 12000 | G24: Vốn xổ số kiến thiết | H24: =+H25+H26 -> 12000 | I24: =+I25+I26 -> 0 | J24: Chưa giao KH vốn
A25: 1 | B25: Xây dựng Nhà đa năng Trường Trung học phổ thông Điềm Thụy, huyện Phú Bình | C25: 6000 | E25: 19 | F25: 1 | G25: Xây dựng Nhà đa năng Trường Trung học phổ thông Điềm Thụy, huyện Phú Bình | H25: 6000 | J25: Chưa giao KH vốn
A26: 2 | B26: Xây dựng Nhà đa năng Trường Trung học phổ thông Trần Quốc Tuấn | C26: 6000 | E26: 20 | F26: 2 | G26: Xây dựng Nhà đa năng Trường Trung học phổ thông Trần Quốc Tuấn | H26: 6000 | J26: Chưa giao KH vốn
B27: Vốn thu tiền sử dụng đất cấp tỉnh quản lý | C27: =+SUM(C28:C40) -> 2171020 | G27: Vốn thu tiền sử dụng đất cấp tỉnh quản lý 2 | H27: =+SUM(H28:H40) -> 2171020 | I27: =+SUM(I28:I40) -> 0 | J27: Chưa giao KH vốn
A28: 1 | B28: Xây dựng trại thực nghiệm của Trung tâm phát triển Khoa học và Công nghệ | C28: 50000 | E28: 21 | F28: 1 | G28: Xây dựng trại thực nghiệm của Trung tâm phát triển Khoa học và Công nghệ | H28: 50000 | J28: Chưa giao KH vốn
A29: 2 | B29: Xây dựng cơ sở vật chất, huấn luyện và thi đấu môn đua thuyền | C29: 99662 | E29: 22 | F29: 2 | G29: Xây dựng cơ sở vật chất, huấn luyện và thi đấu môn đua thuyền | H29: 99662 | J29: Chưa giao KH vốn
A30: 3 | B30: Xây dựng Trung tâm thể dục thể thao và Trường phổ thông năng khiếu thể dục thể thao | C30: 120000 | E30: 23 | F30: 3 | G30: Xây dựng Trung tâm thể dục thể thao và Trường phổ thông năng khiếu thể dục thể thao | H30: 120000 | J30: Chưa giao KH vốn
A31: 4 | B31: Xây dựng Sân vận động huyện Đại Từ (giai đoạn 1) | C31: 50000 | E31: 24 | F31: 4 | G31: Xây dựng Sân vận động huyện Đại Từ (giai đoạn 1) | H31: 50000 | J31: Chưa giao KH vốn
A32: 5 | B32: Dự án Bố trí ổn định dân cư tại chỗ vùng thiên tai có nguy cơ sạt lở và lũ ống, lũ quét thuộc 06 xã: Na Mao, Đức Lương, Hoàng Nông, Khôi Kỳ, Tân Linh và Ký Phú, huyện Đại Từ | C32: 20000 | E32: 25 | F32: 5 | G32: Dự án Bố trí ổn định dân cư tại chỗ vùng thiên tai có nguy cơ sạt lở và lũ ống, lũ quét thuộc 06 xã: Na Mao, Đức Lương, Hoàng Nông, Khôi Kỳ, Tân Linh và Ký Phú, huyện Đại Từ | H32: 20000 | J32: Chưa giao KH vốn
A33: 6 | B33: Dự án Khu tái định cư tập trung vùng thiên tai có nguy cơ sạt lở đất và lũ quét xã Kim Sơn, huyện Định Hóa | C33: 23000 | E33: 26 | F33: 6 | G33: Dự án Khu tái định cư tập trung vùng thiên tai có nguy cơ sạt lở đất và lũ quét xã Kim Sơn, huyện Định Hóa | H33: 23000 | J33: Chưa giao KH vốn
A34: 7 | B34: Tu bổ xung yếu hệ thống đê, điều giai đoạn 2021-2025 (Củng cố, nâng cấp tuyến đê Chã, thị xã Phổ Yên đoạn từ Km4+800 đến K9+500) | C34: 20000 | E34: 27 | F34: 7 | G34: Tu bổ xung yếu hệ thống đê, điều giai đoạn 2021-2025 (Củng cố, nâng cấp tuyến đê Chã, thị xã Phổ Yên đoạn từ Km4+800 đến K9+500) | H34: 20000 | J34: Dự kiến không giao
A35: 8 | B35: Nâng cấp đê Hà Châu chống lũ, kết hợp làm đường giao thông phục vụ phát triển dân sinh | C35: 30000 | E35: 28 | F35: 8 | G35: Nâng cấp đê Hà Châu chống lũ, kết hợp làm đường giao thông phục vụ phát triển dân sinh | H35: 30000 | J35: Dự kiến không giao
A36: 9 | B36: Sửa chữa cấp bách đảm bảo an toàn hồ, đạp chứa nước (Hồ Núi Cốc: Đối mối; cải tạo đập chính; sửa chữa đập phụ; thay thế cửa van tràn số 1 và số 2. Hạ du: Xây dựng cầu Đá mài (ngầm tràn số 3); nạo vét cục bộ lòng dẫn sông Công hạ du Hồ Núi Cốc; kè chống sạt lở hai bên bờ Sông Công (Thành phố Thái Nguyên, Thành phố Sông Công, thị xã Phổ Yên) | C36: 20000 | E36: 29 | F36: 9 | G36: Sửa chữa cấp bách đảm bảo an toàn hồ, đạp chứa nước (Hồ Núi Cốc: Đối mối; cải tạo đập chính; sửa chữa đập phụ; thay thế cửa van tràn số 1 và số 2. Hạ du: Xây dựng cầu Đá mài (ngầm tràn số 3); nạo vét cục bộ lòng dẫn sông Công hạ du Hồ Núi Cốc; kè chống sạt lở hai bên bờ Sông Công (Thành phố Thái Nguyên, Thành phố Sông Công, thị xã Phổ Yên) | H36: 20000 | J36: Dự kiến không giao
A37: 10 | B37: Xử lý sạt lở cấp bách sông, suối một số tỉnh miền núi phía bắc (Kè gia cố chống sạt lở bò Sông Công đoạn qua thị trấn Hùng Sơn, huyện Đại Từ tỉnh Thái Nguyên có chiều dài khoảng 1,9 km) | C37: 20000 | E37: 30 | F37: 10 | G37: Xử lý sạt lở cấp bách sông, suối một số tỉnh miền núi phía bắc (Kè gia cố chống sạt lở bò Sông Công đoạn qua thị trấn Hùng Sơn, huyện Đại Từ tỉnh Thái Nguyên có chiều dài khoảng 1,9 km) | H37: 20000 | J37: Dự kiến không giao
A38: 11 | B38: Đường vành đai I (Đoạn Bờ Đậu Phú Lương- Hóa Thượng Đồng Hỷ) | C38: 1152450 | E38: 31 | F38: 11 | G38: Đường vành đai I (Đoạn Bờ Đậu Phú Lương- Hóa Thượng Đồng Hỷ) | H38: 1152450 | J38: Chưa giao KH vốn
A39: 12 | B39: Đường kết nối ĐT.265 (xã Bình Long, huyện Võ Nhai) đi Bắc Giang | C39: 291055 | E39: 32 | F39: 12 | G39: Đường kết nối ĐT.265 (xã Bình Long, huyện Võ Nhai) đi Bắc Giang | H39: 291055 | J39: Chưa giao KH vốn
... A45: 18 | B45: Cải tạo, nâng cấp mở rộng Trung tâm điều dưỡng người có công và người cao tuổi tỉnh Thái Nguyên (Giai đoạn 1) | C45: 105000 | E45: 38 | F45: 18 | G45: Cải tạo, nâng cấp mở rộng Trung tâm điều dưỡng người có công và người cao tuổi tỉnh Thái Nguyên (Giai đoạn 1) | H45: 105000 | J45: Chưa giao KH vốn
G46: Vốn thu tiền sử dụng đất cấp tỉnh quản lý 1 | H46: =+SUM(H47:H50) -> 71400 | I46: =+SUM(I47:I50) -> 55854
E47: 39 | F47: 1 | G47: Dự án nâng cấp, cải tạo tuyến đường từ Ngã tư Thanh Xuyên đi đê Chã, thị xã Phổ Yên | H47: 20800 | I47: 16271 | J47: Không tiếp tục bố trí vốn từ ngân sách tỉnh
E48: 40 | F48: 2 | G48: Dự án xây dựng tuyến đường từ Quốc lộ 3 cũ đi tổ dân phố Kim Thái, Phường Ba Hàng, thị xã Phổ Yên | H48: 14900 | I48: 11656 | J48: Không tiếp tục bố trí vốn từ ngân sách tỉnh
E49: 41 | F49: 3 | G49: Dự án xây dựng tuyến đường từ Quốc lộ 3 cũ (Ngã tư Nam Tiến) đi trung tâm văn hóa xã Nam Tiến, thị xã Phổ Yên | H49: 20800 | I49: 16271 | J49: Không tiếp tục bố trí vốn từ ngân sách tỉnh
E50: 42 | F50: 4 | G50: Dự án nâng cấp, cải tạo tuyến đường từ Quốc lộ 3 cũ đi Viện Quân y 91, thị xã Phổ Yên | H50: 14900 | I50: 11656 | J50: Không tiếp tục bố trí vốn từ ngân sách tỉnh
E51: 43 | F51: 5 | G51: Dự án xây dựng quần thể khu văn hóa- thể thao- Công viên cây xanh thị xã Phổ Yên | H51: 51947 | J51: Dự án không tiếp tục đầu tư theo Nghị quyết số 24/NQ-HĐND ngày 16/6/2022

Sheet Chưa giao vốn
A1: DANH MỤC DỰ ÁN CHƯA KHỞI CÔNG ĐẾN NĂM 2023 | E1: DANH MỤC DỰ ÁN SỬ DỤNG VỐN NGÂN SÁCH ĐỊA PHƯƠNG CHƯA ĐƯỢC BỐ TRÍ VỐN, CHƯA KHỞI CÔNG ĐẾN NĂM 2023 VÀ DỰ KIẾN KHÔNG TIẾP TỤC BỐ TRÍ VỐN CHO GIAI ĐOẠN 2024-2025
E3: Tổng kế hoạch vốn NSĐP cho các dự án đã giao giai đoạn 2021-2025 (sau điều chỉnh): 9.744.294,173 triệu đồng
A6: TT | B6: TÊN DỰ ÁN | C6: Kế hoạch vốn trung hạn 2021-2025 đã giao | E6: TT | G6: TÊN DỰ ÁN | H6: Kế hoạch vốn trung hạn 2021-2025 đã giao sau điều chỉnh, bổ sung | I6: Kế hoạch vốn trung hạn 2021-2025 không tiếp tục giao | J6: Ghi chú | K6: =+H7+'[1]Danh muc'!$D$4 -> #REF!
B7: Tổng số | C7: =+C8+C27+C30 -> 2369831 | G7: Tổng số | H7: =+H8+H27+H30+H49+#REF! -> #REF! | I7: =+I8+I27+I30+I49 -> 39583 | K7: =+'[2]TH ngành,LV'!$N$5-K6 -> #REF!
B8: Vốn XDCBTT | C8: =+SUM(C9:C26) -> 186811 | G8: Vốn XDCBTT | H8: =+SUM(H9:H26) -> 186811 | I8: =+SUM(I9:I26) -> 0
A9: 1 | B9: Rà phá bom mìn, vật liệu nổ còn sót lại sau chiến tranh trên địa bàn tỉnh Thái Nguyên giai đoạn 2021-2025 | C9: 20000 | E9: 1 | F9: 1 | G9: Rà phá bom mìn, vật liệu nổ còn sót lại sau chiến tranh trên địa bàn tỉnh Thái Nguyên giai đoạn 2021-2025 | H9: 20000 | J9: Chưa giao KH vốn
A10: 2 | B10: Mở rộng, hoàn thiện CSVC Trường THPT Trần Quốc Tuấn (giai đoạn II) | C10: 1799 | E10: 2 | F10: 2 | G10: Mở rộng, hoàn thiện CSVC Trường THPT Trần Quốc Tuấn (giai đoạn II) | H10: 1799 | J10: Chưa giao KH vốn
A11: 3 | B11: Xây dựng Nhà lớp học 16 phòng, Nhà hiệu bộ trường THPT Lương Ngọc Quyến | C11: 29850 | E11: 3 | F11: 3 | G11: Xây dựng Nhà lớp học 16 phòng, Nhà hiệu bộ trường THPT Lương Ngọc Quyến | H11: 29850 | J11: Chưa giao KH vốn
A12: 4 | B12: Xây dựng Nhà lớp học 16 phòng trường THPT Sông Công | C12: 10000 | E12: 4 | F12: 4 | G12: Xây dựng Nhà lớp học 16 phòng trường THPT Sông Công | H12: 10000 | J12: Chưa giao KH vốn
A13: 5 | B13: Xây dựng Nhà lớp học 15 phòng Trường THPT Định Hóa | C13: 10000 | E13: 5 | F13: 5 | G13: Xây dựng Nhà lớp học 15 phòng Trường THPT Định Hóa | H13: 10000 | J13: Chưa giao KH vốn
A14: 6 | B14: Xây dựng Nhà lớp học, phòng học bộ môn, phòng tổ chuyên môn Trường THPT Đại từ | C14: 13000 | E14: 6 | F14: 6 | G14: Xây dựng Nhà lớp học, phòng học bộ môn, phòng tổ chuyên môn Trường THPT Đại từ | H14: 13000 | J14: Chưa giao KH vốn
A15: 7 | B15: Xây dựng Nhà lớp học bộ môn, thư viện Trường THPT Phổ Yên | C15: 5000 | E15: 7 | F15: 7 | G15: Xây dựng Nhà lớp học bộ môn, thư viện Trường THPT Phổ Yên | H15: 5000 | J15: Chưa giao KH vốn
A16: 8 | B16: Xây dựng Nhà đa năng, nhà lớp học 6 phòng Trường THPT Hoàng Quốc Việt | C16: 10000 | E16: 8 | F16: 8 | G16: Xây dựng Nhà đa năng, nhà lớp học 6 phòng Trường THPT Hoàng Quốc Việt | H16: 10000 | J16: Chưa giao KH vốn
A17: 9 | B17: Xây dựng Nhà đa năng Trường THPT Lưu Nhân Chú | C17: 6000 | E17: 9 | F17: 9 | G17: Xây dựng Nhà đa năng Trường THPT Lưu Nhân Chú | H17: 6000 | J17: Chưa giao KH vốn
A18: 10 | B18: 'Xây dựng Nhà đa năng Trường THPT Trần Phú, Huyện Võ Nhai | C18: 6000 | E18: 10 | F18: 10 | G18: Xây dựng Nhà đa năng Trường THPT Trần Phú, Huyện Võ Nhai | H18: 6000 | J18: Chưa giao KH vốn
A19: 11 | B19: Xây dựng Nhà đa năng Trường THPT Khánh Hòa | C19: 6000 | E19: 11 | F19: 11 | G19: Xây dựng Nhà đa năng Trường THPT Khánh Hòa | H19: 6000 | J19: Chưa giao KH vốn
A20: 12 | B20: Xây dựng nền tảng tích hợp dữ liệu, điều hành tập trung và phát triển hệ thống chuyên ngành y tế tỉnh Thái Nguyên, giai đoạn 2021-2025 | C20: 40000 | E20: 12 | F20: 12 | G20: Xây dựng nền tảng tích hợp dữ liệu, điều hành tập trung và phát triển hệ thống chuyên ngành y tế tỉnh Thái Nguyên, giai đoạn 2021-2025 | H20: 40000 | J20: Chưa giao KH vốn
... A26: 18 | B26: Xây dựng nhà đa năng Trường Chính trị tỉnh. | C26: 10000 | E26: 18 | F26: 18 | G26: Xây dựng nhà đa năng Trường Chính trị tỉnh. | H26: 10000 | J26: Dự kiến không tiếp tục đầu tư
B27: Vốn xổ số kiến thiết | C27: =+C28+C29 -> 12000 | G27: Vốn xổ số kiến thiết | H27: =+H28+H29 -> 12000 | I27: =+I28+I29 -> 0 | J27: Chưa giao KH vốn
A28: 1 | B28: Xây dựng Nhà đa năng Trường Trung học phổ thông Điềm Thụy, huyện Phú Bình | C28: 6000 | E28: 19 | F28: 1 | G28: Xây dựng Nhà đa năng Trường Trung học phổ thông Điềm Thụy, huyện Phú Bình | H28: 6000 | J28: Chưa giao KH vốn
A29: 2 | B29: Xây dựng Nhà đa năng Trường Trung học phổ thông Trần Quốc Tuấn | C29: 6000 | E29: 20 | F29: 2 | G29: Xây dựng Nhà đa năng Trường Trung học phổ thông Trần Quốc Tuấn | H29: 6000 | J29: Chưa giao KH vốn
B30: Vốn thu tiền sử dụng đất cấp tỉnh quản lý | C30: =+SUM(C31:C43) -> 2171020 | G30: Vốn thu tiền sử dụng đất cấp tỉnh quản lý 2 | H30: =+SUM(H31:H43) -> 2171020 | I30: =+SUM(I31:I43) -> 0 | J30: Chưa giao KH vốn
A31: 1 | B31: Xây dựng trại thực nghiệm của Trung tâm phát triển Khoa học và Công nghệ | C31: 50000 | E31: 21 | F31: 1 | G31: Xây dựng trại thực nghiệm của Trung tâm phát triển Khoa học và Công nghệ | H31: 50000 | J31: Chưa giao KH vốn
A32: 2 | B32: Xây dựng cơ sở vật chất, huấn luyện và thi đấu môn đua thuyền | C32: 99662 | E32: 22 | F32: 2 | G32: Xây dựng cơ sở vật chất, huấn luyện và thi đấu môn đua thuyền | H32: 99662 | J32: Chưa giao KH vốn
A33: 3 | B33: Xây dựng Trung tâm thể dục thể thao và Trường phổ thông năng khiếu thể dục thể thao | C33: 120000 | E33: 23 | F33: 3 | G33: Xây dựng Trung tâm thể dục thể thao và Trường phổ thông năng khiếu thể dục thể thao | H33: 120000 | J33: Chưa giao KH vốn
A34: 4 | B34: Xây dựng Sân vận động huyện Đại Từ (giai đoạn 1) | C34: 50000 | E34: 24 | F34: 4 | G34: Xây dựng Sân vận động huyện Đại Từ (giai đoạn 1) | H34: 50000 | J34: Chưa giao KH vốn
A35: 5 | B35: Dự án Bố trí ổn định dân cư tại chỗ vùng thiên tai có nguy cơ sạt lở và lũ ống, lũ quét thuộc 06 xã: Na Mao, Đức Lương, Hoàng Nông, Khôi Kỳ, Tân Linh và Ký Phú, huyện Đại Từ | C35: 20000 | E35: 25 | F35: 5 | G35: Dự án Bố trí ổn định dân cư tại chỗ vùng thiên tai có nguy cơ sạt lở và lũ ống, lũ quét thuộc 06 xã: Na Mao, Đức Lương, Hoàng Nông, Khôi Kỳ, Tân Linh và Ký Phú, huyện Đại Từ | H35: 20000 | J35: Chưa giao KH vốn
A36: 6 | B36: Dự án Khu tái định cư tập trung vùng thiên tai có nguy cơ sạt lở đất và lũ quét xã Kim Sơn, huyện Định Hóa | C36: 23000 | E36: 26 | F36: 6 | G36: Dự án Khu tái định cư tập trung vùng thiên tai có nguy cơ sạt lở đất và lũ quét xã Kim Sơn, huyện Định Hóa | H36: 23000 | J36: Chưa giao KH vốn
A37: 7 | B37: Tu bổ xung yếu hệ thống đê, điều giai đoạn 2021-2025 (Củng cố, nâng cấp tuyến đê Chã, thị xã Phổ Yên đoạn từ Km4+800 đến K9+500) | C37: 20000 | E37: 27 | F37: 7 | G37: Tu bổ xung yếu hệ thống đê, điều giai đoạn 2021-2025 (Củng cố, nâng cấp tuyến đê Chã, thị xã Phổ Yên đoạn từ Km4+800 đến K9+500) | H37: 20000 | J37: Dự kiến không giao
A38: 8 | B38: Nâng cấp đê Hà Châu chống lũ, kết hợp làm đường giao thông phục vụ phát triển dân sinh | C38: 30000 | E38: 28 | F38: 8 | G38: Nâng cấp đê Hà Châu chống lũ, kết hợp làm đường giao thông phục vụ phát triển dân sinh | H38: 30000 | J38: Dự kiến không giao
A39: 9 | B39: Sửa chữa cấp bách đảm bảo an toàn hồ, đạp chứa nước (Hồ Núi Cốc: Đối mối; cải tạo đập chính; sửa chữa đập phụ; thay thế cửa van tràn số 1 và số 2. Hạ du: Xây dựng cầu Đá mài (ngầm tràn số 3); nạo vét cục bộ lòng dẫn sông Công hạ du Hồ Núi Cốc; kè chống sạt lở hai bên bờ Sông Công (Thành phố Thái Nguyên, Thành phố Sông Công, thị xã Phổ Yên) | C39: 20000 | E39: 29 | F39: 9 | G39: Sửa chữa cấp bách đảm bảo an toàn hồ, đạp chứa nước (Hồ Núi Cốc: Đối mối; cải tạo đập chính; sửa chữa đập phụ; thay thế cửa van tràn số 1 và số 2. Hạ du: Xây dựng cầu Đá mài (ngầm tràn số 3); nạo vét cục bộ lòng dẫn sông Công hạ du Hồ Núi Cốc; kè chống sạt lở hai bên bờ Sông Công (Thành phố Thái Nguyên, Thành phố Sông Công, thị xã Phổ Yên) | H39: 20000 | J39: Dự kiến không giao
A40: 10 | B40: Xử lý sạt lở cấp bách sông, suối một số tỉnh miền núi phía bắc (Kè gia cố chống sạt lở bò Sông Công đoạn qua thị trấn Hùng Sơn, huyện Đại Từ tỉnh Thái Nguyên có chiều dài khoảng 1,9 km) | C40: 20000 | E40: 30 | F40: 10 | G40: Xử lý sạt lở cấp bách sông, suối một số tỉnh miền núi phía bắc (Kè gia cố chống sạt lở bò Sông Công đoạn qua thị trấn Hùng Sơn, huyện Đại Từ tỉnh Thái Nguyên có chiều dài khoảng 1,9 km) | H40: 20000 | J40: Dự kiến không giao
A41: 11 | B41: Đường vành đai I (Đoạn Bờ Đậu Phú Lương- Hóa Thượng Đồng Hỷ) | C41: 1152450 | E41: 31 | F41: 11 | G41: Đường vành đai I (Đoạn Bờ Đậu Phú Lương- Hóa Thượng Đồng Hỷ) | H41: 1152450 | J41: Chưa giao KH vốn
A42: 12 | B42: Đường kết nối ĐT.265 (xã Bình Long, huyện Võ Nhai) đi Bắc Giang | C42: 291055 | E42: 32 | F42: 12 | G42: Đường kết nối ĐT.265 (xã Bình Long, huyện Võ Nhai) đi Bắc Giang | H42: 291055 | J42: Chưa giao KH vốn
... A48: 18 | B48: Cải tạo, nâng cấp mở rộng Trung tâm điều dưỡng người có công và người cao tuổi tỉnh Thái Nguyên (Giai đoạn 1) | C48: 105000 | E48: 38 | F48: 18 | G48: Cải tạo, nâng cấp mở rộng Trung tâm điều dưỡng người có công và người cao tuổi tỉnh Thái Nguyên (Giai đoạn 1) | H48: 105000 | J48: Chưa giao KH vốn
G49: Vốn thu tiền sử dụng đất cấp tỉnh quản lý 1 | H49: =+SUM(H50:H52) -> 0 | I49: =+SUM(I50:I52) -> 39583
E50: 39 | F50: 1 | G50: Dự án nâng cấp, cải tạo tuyến đường từ Ngã tư Thanh Xuyên đi đê Chã, thị xã Phổ Yên | I50: 16271 | J50: Không tiếp tục bố trí vốn từ ngân sách tỉnh
E51: 40 | F51: 2 | G51: Dự án xây dựng tuyến đường từ Quốc lộ 3 cũ đi tổ dân phố Kim Thái, Phường Ba Hàng, thị xã Phổ Yên | I51: 11656 | J51: Không tiếp tục bố trí vốn từ ngân sách tỉnh
E52: 42 | F52: 4 | G52: Dự án nâng cấp, cải tạo tuyến đường từ Quốc lộ 3 cũ đi Viện Quân y 91, thị xã Phổ Yên | I52: 11656 | J52: Không tiếp tục bố trí vốn từ ngân sách tỉnh
E53: 43 | F53: 5 | G53: Dự án xây dựng quần thể khu văn hóa- thể thao- Công viên cây xanh thị xã Phổ Yên | J53: Dự án không tiếp tục đầu tư theo Nghị quyết số 24/NQ-HĐND ngày 16/6/2022

Sheet Sheet4
A1: DANH MỤC DỰ ÁN CHƯA KHỞI CÔNG ĐẾN NĂM 2023 | E1: DANH MỤC DỰ ÁN SỬ DỤNG VỐN NGÂN SÁCH ĐỊA PHƯƠNG CHƯA KHỞI CÔNG
E3: Tổng kế hoạch vốn NSĐP cho các dự án đã giao giai đoạn 2021-2025 (sau điều chỉnh): 9.744.294,173 triệu đồng
A6: TT | B6: TÊN DỰ ÁN | C6: Kế hoạch vốn trung hạn 2021-2025 đã giao | E6: TT | G6: TÊN DỰ ÁN | H6: Kế hoạch vốn trung hạn 2021-2025 đã giao sau điều chỉnh, bổ sung | I6: Kế hoạch vốn trung hạn 2021-2025 không tiếp tục giao | J6: Ghi chú | K6: =+H7+'[1]Danh muc'!$D$4 -> #REF!
B7: Tổng số | C7: =+C8+C25+C28 -> 2365716 | G7: Tổng số | H7: =+H8+H25+H28+#REF!+#REF! -> #REF! | I7: =+I8+I25+I28+#REF! -> #REF! | K7: =+'[2]TH ngành,LV'!$N$5-K6 -> #REF!
B8: Vốn XDCBTT | C8: =+SUM(C9:C24) -> 182696 | G8: Vốn XDCBTT | H8: =+SUM(H9:H24) -> 182696 | I8: =+SUM(I9:I24) -> 0
A9: 1 | B9: Rà phá bom mìn, vật liệu nổ còn sót lại sau chiến tranh trên địa bàn tỉnh Thái Nguyên giai đoạn 2021-2025 | C9: 20000 | E9: 1 | F9: 1 | G9: Rà phá bom mìn, vật liệu nổ còn sót lại sau chiến tranh trên địa bàn tỉnh Thái Nguyên giai đoạn 2021-2025 | H9: 20000 | J9: Chưa giao KH vốn
A10: 2 | B10: Mở rộng, hoàn thiện CSVC Trường THPT Trần Quốc Tuấn (giai đoạn II) | C10: 1799 | E10: 2 | F10: 2 | G10: Mở rộng, hoàn thiện CSVC Trường THPT Trần Quốc Tuấn (giai đoạn II) | H10: 1799 | J10: Chưa giao KH vốn
A11: 3 | B11: Xây dựng Nhà lớp học 16 phòng, Nhà hiệu bộ trường THPT Lương Ngọc Quyến | C11: 29850 | E11: 3 | F11: 3 | G11: Xây dựng Nhà lớp học 16 phòng, Nhà hiệu bộ trường THPT Lương Ngọc Quyến | H11: 29850 | J11: Chưa giao KH vốn
A12: 4 | B12: Xây dựng Nhà lớp học 16 phòng trường THPT Sông Công | C12: 10000 | E12: 4 | F12: 4 | G12: Xây dựng Nhà lớp học 16 phòng trường THPT Sông Công | H12: 10000 | J12: Chưa giao KH vốn
A13: 5 | B13: Xây dựng Nhà lớp học 15 phòng Trường THPT Định Hóa | C13: 10000 | E13: 5 | F13: 5 | G13: Xây dựng Nhà lớp học 15 phòng Trường THPT Định Hóa | H13: 10000 | J13: Chưa giao KH vốn
A14: 6 | B14: Xây dựng Nhà lớp học, phòng học bộ môn, phòng tổ chuyên môn Trường THPT Đại từ | C14: 13000 | E14: 6 | F14: 6 | G14: Xây dựng Nhà lớp học, phòng học bộ môn, phòng tổ chuyên môn Trường THPT Đại từ | H14: 13000 | J14: Chưa giao KH vốn
A15: 7 | B15: Xây dựng Nhà lớp học bộ môn, thư viện Trường THPT Phổ Yên | C15: 5000 | E15: 7 | F15: 7 | G15: Xây dựng Nhà lớp học bộ môn, thư viện Trường THPT Phổ Yên | H15: 5000 | J15: Chưa giao KH vốn
A16: 8 | B16: Xây dựng Nhà đa năng, nhà lớp học 6 phòng Trường THPT Hoàng Quốc Việt | C16: 10000 | E16: 8 | F16: 8 | G16: Xây dựng Nhà đa năng, nhà lớp học 6 phòng Trường THPT Hoàng Quốc Việt | H16: 10000 | J16: Chưa giao KH vốn
A17: 9 | B17: Xây dựng Nhà đa năng Trường THPT Lưu Nhân Chú | C17: 6000 | E17: 9 | F17: 9 | G17: Xây dựng Nhà đa năng Trường THPT Lưu Nhân Chú | H17: 6000 | J17: Chưa giao KH vốn
A18: 10 | B18: 'Xây dựng Nhà đa năng Trường THPT Trần Phú, Huyện Võ Nhai | C18: 6000 | E18: 10 | F18: 10 | G18: Xây dựng Nhà đa năng Trường THPT Trần Phú, Huyện Võ Nhai | H18: 6000 | J18: Chưa giao KH vốn
A19: 11 | B19: Xây dựng Nhà đa năng Trường THPT Khánh Hòa | C19: 6000 | E19: 11 | F19: 11 | G19: Xây dựng Nhà đa năng Trường THPT Khánh Hòa | H19: 6000 | J19: Chưa giao KH vốn
A20: 12 | B20: Xây dựng nền tảng tích hợp dữ liệu, điều hành tập trung và phát triển hệ thống chuyên ngành y tế tỉnh Thái Nguyên, giai đoạn 2021-2025 | C20: 40000 | E20: 12 | F20: 12 | G20: Xây dựng nền tảng tích hợp dữ liệu, điều hành tập trung và phát triển hệ thống chuyên ngành y tế tỉnh Thái Nguyên, giai đoạn 2021-2025 | H20: 40000 | J20: Chưa giao KH vốn
... A24: 18 | B24: Xây dựng nhà đa năng Trường Chính trị tỉnh. | C24: 10000 | E24: 16 | F24: 18 | G24: Xây dựng nhà đa năng Trường Chính trị tỉnh. | H24: 10000 | J24: Dự kiến không tiếp tục đầu tư
B25: Vốn xổ số kiến thiết | C25: =+C26+C27 -> 12000 | G25: Vốn xổ số kiến thiết | H25: =+H26+H27 -> 12000 | I25: =+I26+I27 -> 0 | J25: Chưa giao KH vốn
A26: 1 | B26: Xây dựng Nhà đa năng Trường Trung học phổ thông Điềm Thụy, huyện Phú Bình | C26: 6000 | E26: 17 | F26: 1 | G26: Xây dựng Nhà đa năng Trường Trung học phổ thông Điềm Thụy, huyện Phú Bình | H26: 6000 | J26: Chưa giao KH vốn
A27: 2 | B27: Xây dựng Nhà đa năng Trường Trung học phổ thông Trần Quốc Tuấn | C27: 6000 | E27: 18 | F27: 2 | G27: Xây dựng Nhà đa năng Trường Trung học phổ thông Trần Quốc Tuấn | H27: 6000 | J27: Chưa giao KH vốn
B28: Vốn thu tiền sử dụng đất cấp tỉnh quản lý | C28: =+SUM(C29:C41) -> 2171020 | G28: Vốn thu tiền sử dụng đất cấp tỉnh quản lý 2 | H28: =+SUM(H29:H41) -> 2171020 | I28: =+SUM(I29:I41) -> 0 | J28: Chưa giao KH vốn
A29: 1 | B29: Xây dựng trại thực nghiệm của Trung tâm phát triển Khoa học và Công nghệ | C29: 50000 | E29: 19 | F29: 1 | G29: Xây dựng trại thực nghiệm của Trung tâm phát triển Khoa học và Công nghệ | H29: 50000 | J29: Chưa giao KH vốn
A30: 2 | B30: Xây dựng cơ sở vật chất, huấn luyện và thi đấu môn đua thuyền | C30: 99662 | E30: 20 | F30: 2 | G30: Xây dựng cơ sở vật chất, huấn luyện và thi đấu môn đua thuyền | H30: 99662 | J30: Chưa giao KH vốn
A31: 3 | B31: Xây dựng Trung tâm thể dục thể thao và Trường phổ thông năng khiếu thể dục thể thao | C31: 120000 | E31: 21 | F31: 3 | G31: Xây dựng Trung tâm thể dục thể thao và Trường phổ thông năng khiếu thể dục thể thao | H31: 120000 | J31: Chưa giao KH vốn
A32: 4 | B32: Xây dựng Sân vận động huyện Đại Từ (giai đoạn 1) | C32: 50000 | E32: 22 | F32: 4 | G32: Xây dựng Sân vận động huyện Đại Từ (giai đoạn 1) | H32: 50000 | J32: Chưa giao KH vốn
A33: 5 | B33: Dự án Bố trí ổn định dân cư tại chỗ vùng thiên tai có nguy cơ sạt lở và lũ ống, lũ quét thuộc 06 xã: Na Mao, Đức Lương, Hoàng Nông, Khôi Kỳ, Tân Linh và Ký Phú, huyện Đại Từ | C33: 20000 | E33: 23 | F33: 5 | G33: Dự án Bố trí ổn định dân cư tại chỗ vùng thiên tai có nguy cơ sạt lở và lũ ống, lũ quét thuộc 06 xã: Na Mao, Đức Lương, Hoàng Nông, Khôi Kỳ, Tân Linh và Ký Phú, huyện Đại Từ | H33: 20000 | J33: Chưa giao KH vốn
A34: 6 | B34: Dự án Khu tái định cư tập trung vùng thiên tai có nguy cơ sạt lở đất và lũ quét xã Kim Sơn, huyện Định Hóa | C34: 23000 | E34: 24 | F34: 6 | G34: Dự án Khu tái định cư tập trung vùng thiên tai có nguy cơ sạt lở đất và lũ quét xã Kim Sơn, huyện Định Hóa | H34: 23000 | J34: Chưa giao KH vốn
A35: 7 | B35: Tu bổ xung yếu hệ thống đê, điều giai đoạn 2021-2025 (Củng cố, nâng cấp tuyến đê Chã, thị xã Phổ Yên đoạn từ Km4+800 đến K9+500) | C35: 20000 | E35: 25 | F35: 7 | G35: Tu bổ xung yếu hệ thống đê, điều giai đoạn 2021-2025 (Củng cố, nâng cấp tuyến đê Chã, thị xã Phổ Yên đoạn từ Km4+800 đến K9+500) | H35: 20000 | J35: Dự kiến không giao
A36: 8 | B36: Nâng cấp đê Hà Châu chống lũ, kết hợp làm đường giao thông phục vụ phát triển dân sinh | C36: 30000 | E36: 26 | F36: 8 | G36: Nâng cấp đê Hà Châu chống lũ, kết hợp làm đường giao thông phục vụ phát triển dân sinh | H36: 30000 | J36: Dự kiến không giao
A37: 9 | B37: Sửa chữa cấp bách đảm bảo an toàn hồ, đạp chứa nước (Hồ Núi Cốc: Đối mối; cải tạo đập chính; sửa chữa đập phụ; thay thế cửa van tràn số 1 và số 2. Hạ du: Xây dựng cầu Đá mài (ngầm tràn số 3); nạo vét cục bộ lòng dẫn sông Công hạ du Hồ Núi Cốc; kè chống sạt lở hai bên bờ Sông Công (Thành phố Thái Nguyên, Thành phố Sông Công, thị xã Phổ Yên) | C37: 20000 | E37: 27 | F37: 9 | G37: Sửa chữa cấp bách đảm bảo an toàn hồ, đạp chứa nước (Hồ Núi Cốc: Đối mối; cải tạo đập chính; sửa chữa đập phụ; thay thế cửa van tràn số 1 và số 2. Hạ du: Xây dựng cầu Đá mài (ngầm tràn số 3); nạo vét cục bộ lòng dẫn sông Công hạ du Hồ Núi Cốc; kè chống sạt lở hai bên bờ Sông Công (Thành phố Thái Nguyên, Thành phố Sông Công, thị xã Phổ Yên) | H37: 20000 | J37: Dự kiến không giao
A38: 10 | B38: Xử lý sạt lở cấp bách sông, suối một số tỉnh miền núi phía bắc (Kè gia cố chống sạt lở bò Sông Công đoạn qua thị trấn Hùng Sơn, huyện Đại Từ tỉnh Thái Nguyên có chiều dài khoảng 1,9 km) | C38: 20000 | E38: 28 | F38: 10 | G38: Xử lý sạt lở cấp bách sông, suối một số tỉnh miền núi phía bắc (Kè gia cố chống sạt lở bò Sông Công đoạn qua thị trấn Hùng Sơn, huyện Đại Từ tỉnh Thái Nguyên có chiều dài khoảng 1,9 km) | H38: 20000 | J38: Dự kiến không giao
A39: 11 | B39: Đường vành đai I (Đoạn Bờ Đậu Phú Lương- Hóa Thượng Đồng Hỷ) | C39: 1152450 | E39: 29 | F39: 11 | G39: Đường vành đai I (Đoạn Bờ Đậu Phú Lương- Hóa Thượng Đồng Hỷ) | H39: 1152450 | J39: Chưa giao KH vốn
A40: 12 | B40: Đường kết nối ĐT.265 (xã Bình Long, huyện Võ Nhai) đi Bắc Giang | C40: 291055 | E40: 30 | F40: 12 | G40: Đường kết nối ĐT.265 (xã Bình Long, huyện Võ Nhai) đi Bắc Giang | H40: 291055 | J40: Chưa giao KH vốn
... A46: 18 | B46: Cải tạo, nâng cấp mở rộng Trung tâm điều dưỡng người có công và người cao tuổi tỉnh Thái Nguyên (Giai đoạn 1) | C46: 105000 | E46: 36 | F46: 18 | G46: Cải tạo, nâng cấp mở rộng Trung tâm điều dưỡng người có công và người cao tuổi tỉnh Thái Nguyên (Giai đoạn 1) | H46: 105000 | J46: Chưa giao KH vốn

Sheet Sheet5
A1: PHỤ LỤC B.I
A2: TỔNG HỢP DỰ KIẾN NHU CẦU KẾ HOẠCH ĐẦU TƯ CÔNG TRUNG HẠN GIAI ĐOẠN 2026-2030
A3: (Kèm theo Báo cáo số /BC-UBND ngày /9/2024 của Ủy ban nhân dân tỉnh Thái Nguyên)
A6: STT | B6: Ngành, lĩnh vực | C6: Kế hoạch trung hạn giai đoạn 2026-2030 | D6: Cơ cấu vốn giai đoạn 2026-2030 | E6: Trong đó giai đoạn 2026-2030:
E7: Vốn NSĐP | F7: Vốn NSTW | G7: Vốn ODA
B8: TỔNG SỐ | C8: =E8+F8+G8 -> #REF! | E8: =#REF! -> #REF! | F8: =#REF! -> #REF! | G8: =G20 -> 3002959.8
A9: I | B9: Quốc phòng | C9: =E9+F9+G9 -> #REF! | D9: =C9/$C$8 -> #REF! | E9: =#REF! -> #REF! | F9: =#REF! -> #REF!
A10: II | B10: An ninh và trật tự, an toàn xã hội | C10: =E10+F10+G10 -> #REF! | D10: =C10/$C$8 -> #REF! | E10: =#REF! -> #REF! | F10: =#REF! -> #REF!
A11: III | B11: Giáo dục, đào tạo và giáo dục nghề nghiệp | C11: =E11+F11+G11 -> #REF! | D11: =C11/$C$8 -> #REF! | E11: =#REF! -> #REF! | F11: =#REF! -> #REF!
A12: IV | B12: Khoa học, công nghệ | C12: =E12+F12+G12 -> #REF! | D12: =C12/$C$8 -> #REF! | E12: =#REF! -> #REF! | F12: =#REF! -> #REF!
A13: V | B13: Y tế, dân số và gia đình | C13: =E13+F13+G13 -> #REF! | D13: =C13/$C$8 -> #REF! | E13: =#REF! -> #REF! | F13: =#REF! -> #REF!
A14: VI | B14: Văn hóa, thông tin | C14: =E14+F14+G14 -> #REF! | D14: =C14/$C$8 -> #REF! | E14: =#REF! -> #REF! | F14: =#REF! -> #REF!
A15: VII | B15: Phát thanh, truyền hình, thông tấn | C15: =E15+F15+G15 -> #REF! | D15: =C15/$C$8 -> #REF! | E15: =#REF! -> #REF! | F15: =#REF! -> #REF!
A16: VIII | B16: Thể dục, thể thao | C16: =E16+F16+G16 -> #REF! | D16: =C16/$C$8 -> #REF! | E16: =#REF! -> #REF! | F16: =#REF! -> #REF!
A17: IX | B17: Bảo vệ môi trường | C17: =E17+F17+G17 -> #REF! | D17: =C17/$C$8 -> #REF! | E17: =#REF! -> #REF! | F17: =#REF! -> #REF!
A18: IX.1 | B18: Môi trường | C18: =E18+F18+G18 -> #REF! | D18: =C18/$C$8 -> #REF! | E18: =#REF! -> #REF! | F18: 0
A19: IX.2 | B19: Tài nguyên | C19: =E19+F19+G19 -> #REF! | D19: =C19/$C$8 -> #REF! | E19: =#REF! -> #REF! | F19: 0
A20: X | B20: Các hoạt động kinh tế | C20: =E20+F20+G20 -> #REF! | D20: =C20/$C$8 -> #REF! | E20: =#REF! -> #REF! | F20: =#REF! -> #REF! | G20: =III.ODA!AH13 -> 3002959.8
A21: X.1 | B21: Nông nghiệp, lâm nghiệp, thủy lợi và thủy sản | C21: =E21+F21+G21 -> #REF! | D21: =C21/$C$8 -> #REF! | E21: =#REF! -> #REF! | F21: =#REF! -> #REF! | G21: =III.ODA!AH14 -> 2578956
A22: X.2 | B22: Công nghiệp | C22: =E22+F22+G22 -> #REF! | D22: =C22/$C$8 -> #REF! | E22: =#REF! -> #REF! | F22: =#REF! -> #REF!
A23: X.3 | B23: Giao thông | C23: =E23+F23+G23 -> #REF! | D23: =C23/$C$8 -> #REF! | E23: =#REF! -> #REF! | F23: =#REF! -> #REF! | G23: =III.ODA!AH25 -> 200480
A24: X.4 | B24: Khu công nghiệp và khu kinh tế: | C24: =E24+F24+G24 -> #REF! | D24: =C24/$C$8 -> #REF! | E24: =#REF! -> #REF! | F24: =#REF! -> #REF!
A25: X.5 | B25: Thương mại | C25: =E25+F25+G25 -> #REF! | D25: =C25/$C$8 -> #REF! | E25: =#REF! -> #REF! | F25: =#REF! -> #REF!
A26: X.6 | B26: Cấp nước, thoát nước | C26: =E26+F26+G26 -> #REF! | D26: =C26/$C$8 -> #REF! | E26: =#REF! -> #REF! | F26: =#REF! -> #REF! | G26: =III.ODA!AH22 -> 223523.83
A27: X.7 | B27: Kho tàng | C27: =E27+F27+G27 -> #REF! | D27: =C27/$C$8 -> #REF! | E27: =#REF! -> #REF! | F27: =#REF! -> #REF!
A28: X.8 | B28: Du lịch | C28: =E28+F28+G28 -> #REF! | D28: =C28/$C$8 -> #REF! | E28: =#REF! -> #REF! | F28: =#REF! -> #REF!
A29: X.9 | B29: Viễn thông | C29: =E29+F29+G29 -> #REF! | D29: =C29/$C$8 -> #REF! | E29: =#REF! -> #REF! | F29: =#REF! -> #REF!
A30: X.10 | B30: Bưu chính | C30: =E30+F30+G30 -> #REF! | D30: =C30/$C$8 -> #REF! | E30: =#REF! -> #REF! | F30: =#REF! -> #REF!
A31: X.11 | B31: Công nghệ thông tin | C31: =E31+F31+G31 -> #REF! | D31: =C31/$C$8 -> #REF! | E31: =#REF! -> #REF! | F31: =#REF! -> #REF!
A32: X.12 | B32: Quy hoạch | C32: =E32+F32+G32 -> #REF! | D32: =C32/$C$8 -> #REF! | E32: =#REF! -> #REF! | F32: =#REF! -> #REF!
A33: X.13 | B33: Công trình công cộng tại các đô thị | C33: =E33+F33+G33 -> #REF! | D33: =C33/$C$8 -> #REF! | E33: =#REF! -> #REF! | F33: =#REF! -> #REF!
A34: X.14 | B34: Cấp vốn điều lệ và hỗ trợ theo quy định pháp luật | C34: =E34+F34+G34 -> #REF! | D34: =C34/$C$8 -> #REF! | E34: =#REF! -> #REF! | F34: =#REF! -> #REF!
A35: XI | B35: Hoạt động của các cơ quan quản lý nhà nước, đơn vị sự nghiệp công lập, tổ chức chính trị và các tổ chức chính trị - xã hội | C35: =E35+F35+G35 -> #REF! | D35: =C35/$C$8 -> #REF! | E35: =#REF! -> #REF! | F35: =#REF! -> #REF!
A36: XII | B36: Xã hội | C36: =E36+F36+G36 -> #REF! | D36: =C36/$C$8 -> #REF! | E36: =#REF! -> #REF! | F36: =#REF! -> #REF!
A37: XIII | B37: Các nhiệm vụ, chương trình, dự án khác theo quy định của pháp luật | C37: =E37+F37+G37 -> #REF! | D37: =C37/$C$8 -> #REF! | E37: =#REF! -> #REF! | F37: =#REF! -> #REF!
A38: XIII.1 | B38: Các chương trình mục tiêu quốc gia | C38: =E38+F38+G38 -> #REF! | D38: =C38/$C$8 -> #REF! | E38: =#REF! -> #REF! | F38: =#REF! -> #REF!
A39: XIII.2 | B39: Phân cấp cho UBND các huyện, thành phố | C39: =E39+F39+G39 -> #REF! | D39: =C39/$C$8 -> #REF! | E39: =#REF! -> #REF!
A40: XIII.3 | B40: Đối ứng dự án ODA | C40: =E40+F40+G40 -> #REF! | D40: =C40/$C$8 -> #REF! | E40: =#REF! -> #REF! | F40: =#REF! -> #REF!
A41: XIII.4 | B41: Chương trình, nhiệm vụ khác | C41: =E41+F41+G41 -> #REF! | D41: =C41/$C$8 -> #REF! | E41: =#REF! -> #REF!
F42: =F8-F38 -> #REF!
E43: =E8/$C$8 -> #REF! | F43: =F8/$C$8 -> #REF! | G43: =G8/$C$8 -> #REF!
C44: =C8/#REF! -> #REF! | F44: =F8/C8 -> #REF!
D46: =SUM(E46:G46)-6 -> #REF! | E46: =#REF! -> #REF! | F46: 4 | G46: =#REF! -> #REF!
D47: =D46/202 -> #REF!
F48: =F8-F23 -> #REF! | G48: =F48/C8 -> #REF!
F49: =F23/C8 -> #REF! | G49: =F48-F38 -> #REF!
